BEGIN:VCALENDAR
VERSION:2.0
PRODID:-//Club B52, Strada 11 Iunie, nr. 50 - Cluburi Bucuresti - ECPv6.15.20//NONSGML v1.0//EN
CALSCALE:GREGORIAN
METHOD:PUBLISH
X-WR-CALNAME:Club B52, Strada 11 Iunie, nr. 50 - Cluburi Bucuresti
X-ORIGINAL-URL:https://www.clubb52.ro
X-WR-CALDESC:Evenimente pentru Club B52, Strada 11 Iunie, nr. 50 - Cluburi Bucuresti
REFRESH-INTERVAL;VALUE=DURATION:PT1H
X-Robots-Tag:noindex
X-PUBLISHED-TTL:PT1H
BEGIN:VTIMEZONE
TZID:Europe/Bucharest
BEGIN:DAYLIGHT
TZOFFSETFROM:+0200
TZOFFSETTO:+0300
TZNAME:EEST
DTSTART:20250330T010000
END:DAYLIGHT
BEGIN:STANDARD
TZOFFSETFROM:+0300
TZOFFSETTO:+0200
TZNAME:EET
DTSTART:20251026T010000
END:STANDARD
BEGIN:DAYLIGHT
TZOFFSETFROM:+0200
TZOFFSETTO:+0300
TZNAME:EEST
DTSTART:20260329T010000
END:DAYLIGHT
BEGIN:STANDARD
TZOFFSETFROM:+0300
TZOFFSETTO:+0200
TZNAME:EET
DTSTART:20261025T010000
END:STANDARD
BEGIN:DAYLIGHT
TZOFFSETFROM:+0200
TZOFFSETTO:+0300
TZNAME:EEST
DTSTART:20270328T010000
END:DAYLIGHT
BEGIN:STANDARD
TZOFFSETFROM:+0300
TZOFFSETTO:+0200
TZNAME:EET
DTSTART:20271031T010000
END:STANDARD
END:VTIMEZONE
BEGIN:VEVENT
DTSTART;TZID=Europe/Bucharest:20260425T190000
DTEND;TZID=Europe/Bucharest:20260425T220000
DTSTAMP:20260421T190306
CREATED:20260301T173656Z
LAST-MODIFIED:20260416T140937Z
UID:10000563-1777143600-1777154400@www.clubb52.ro
SUMMARY:SKA-NK live
DESCRIPTION:SKA-NK + support live @ B52 The Club\, str 11 iunie\, nr 50.\nSambata\, 25 aprilie\, open doors 19:00. \nBilete – https://bit.ly/40p9euf \n•⁠ ⁠Early bird 65 lei (pana pe 25 martie)\n•⁠ ⁠Presale 75 lei (25 martie – 19 aprilie)\n•⁠ ⁠Last call 80 lei (20 aprilie – 25 aprilie)\n•⁠ ⁠Pentru toate pragurile de bilete se adauga comision ticketing \nSKA-NK revin la B52 The Club\, a doua lor casa\, pentru o seara presarata cu voie buna\, ritmuri saltarete\, piese vechi\, cat si piese noi. Sigur ne arata ei….stiti voi ce! \nDupa concert nu se va pleca acasa\, pentru ca o sa petrecem pana dimineata la Romanian Hits Party by Gabi & Remi.
URL:https://www.clubb52.ro/eveniment/ska-nk-live/
LOCATION:Club B52\, Str. 11 iunie Nr.50\, Bucuresti
CATEGORIES:Club B52
ATTACH;FMTTYPE=image/webp:https://www.clubb52.ro/wp-content/uploads/2026/03/SKA-NK-live-25-apr.webp
ORGANIZER;CN="Club B52":MAILTO:office@clubb52.ro
END:VEVENT
END:VCALENDAR