BEGIN:VCALENDAR
VERSION:2.0
PRODID:-//Club B52, Strada 11 Iunie, nr. 50 - Cluburi Bucuresti - ECPv6.15.20//NONSGML v1.0//EN
CALSCALE:GREGORIAN
METHOD:PUBLISH
X-WR-CALNAME:Club B52, Strada 11 Iunie, nr. 50 - Cluburi Bucuresti
X-ORIGINAL-URL:https://www.clubb52.ro
X-WR-CALDESC:Evenimente pentru Club B52, Strada 11 Iunie, nr. 50 - Cluburi Bucuresti
REFRESH-INTERVAL;VALUE=DURATION:PT1H
X-Robots-Tag:noindex
X-PUBLISHED-TTL:PT1H
BEGIN:VTIMEZONE
TZID:Europe/Bucharest
BEGIN:DAYLIGHT
TZOFFSETFROM:+0200
TZOFFSETTO:+0300
TZNAME:EEST
DTSTART:20240331T010000
END:DAYLIGHT
BEGIN:STANDARD
TZOFFSETFROM:+0300
TZOFFSETTO:+0200
TZNAME:EET
DTSTART:20241027T010000
END:STANDARD
BEGIN:DAYLIGHT
TZOFFSETFROM:+0200
TZOFFSETTO:+0300
TZNAME:EEST
DTSTART:20250330T010000
END:DAYLIGHT
BEGIN:STANDARD
TZOFFSETFROM:+0300
TZOFFSETTO:+0200
TZNAME:EET
DTSTART:20251026T010000
END:STANDARD
BEGIN:DAYLIGHT
TZOFFSETFROM:+0200
TZOFFSETTO:+0300
TZNAME:EEST
DTSTART:20260329T010000
END:DAYLIGHT
BEGIN:STANDARD
TZOFFSETFROM:+0300
TZOFFSETTO:+0200
TZNAME:EET
DTSTART:20261025T010000
END:STANDARD
END:VTIMEZONE
BEGIN:VEVENT
DTSTART;TZID=Europe/Bucharest:20251108T190000
DTEND;TZID=Europe/Bucharest:20251108T220000
DTSTAMP:20260422T003905
CREATED:20251021T045312Z
LAST-MODIFIED:20251021T045406Z
UID:10000510-1762628400-1762639200@www.clubb52.ro
SUMMARY:SKA-NK Aniversare 15 ani
DESCRIPTION:SKA-NK: Aniversare 15 ani @ B52 The Club.Sambata\, 8 noiembrie.Open doors: 19:00\nBilete:– 60 lei presale + comision provider bilete (7 oct – 31 oct)– 70 lei + comision provider bilete (1 nov – 8 nov)Link bilete online – https://bit.ly/48kG3xQ\n„Noi suntem Ska-nk și povestea noastră a început în vara anului 2010\, cu 4 băieți pasionați de muzica zgomotoasă\, cu chitări distorsionate.�Au urmat de-au lungul anilor sute de concerte prin țară\, pe scene mari\, pe scene mici\, pub-uri minuscule sau cluburi mai mari\, 3 albume de studio\, multe videoclipuri oficiale și cel mai important…o multitudine de amintiri\, povești și prietenii legate prin țară.�\nPe 8 noiembrie\, la București\, a doua noastră casă\, vă invităm să sărbătorim împreună cei 15 ani ai noștri de existență. Vom cuprinde piese de pe toate cele 3 albume ale noastre plus nelipsita bună dispoziție cu care venim întotdeauna.”��\nAfterparty: Romanian Hits Party by Remi & Gabi\, ora 22:00
URL:https://www.clubb52.ro/eveniment/ska-nk-aniversare-15-ani/
LOCATION:Club B52\, Str. 11 iunie Nr.50\, Bucuresti
CATEGORIES:Club B52
ATTACH;FMTTYPE=image/jpeg:https://www.clubb52.ro/wp-content/uploads/2025/10/SKA-NK-Aniversare-15-ani-8-noiem.jpg
ORGANIZER;CN="Club B52":MAILTO:office@clubb52.ro
END:VEVENT
END:VCALENDAR