BEGIN:VCALENDAR
VERSION:2.0
PRODID:-//Club B52, Strada 11 Iunie, nr. 50 - Cluburi Bucuresti - ECPv6.15.20//NONSGML v1.0//EN
CALSCALE:GREGORIAN
METHOD:PUBLISH
X-WR-CALNAME:Club B52, Strada 11 Iunie, nr. 50 - Cluburi Bucuresti
X-ORIGINAL-URL:https://www.clubb52.ro
X-WR-CALDESC:Evenimente pentru Club B52, Strada 11 Iunie, nr. 50 - Cluburi Bucuresti
REFRESH-INTERVAL;VALUE=DURATION:PT1H
X-Robots-Tag:noindex
X-PUBLISHED-TTL:PT1H
BEGIN:VTIMEZONE
TZID:Europe/Helsinki
BEGIN:DAYLIGHT
TZOFFSETFROM:+0200
TZOFFSETTO:+0300
TZNAME:EEST
DTSTART:20180325T010000
END:DAYLIGHT
BEGIN:STANDARD
TZOFFSETFROM:+0300
TZOFFSETTO:+0200
TZNAME:EET
DTSTART:20181028T010000
END:STANDARD
BEGIN:DAYLIGHT
TZOFFSETFROM:+0200
TZOFFSETTO:+0300
TZNAME:EEST
DTSTART:20190331T010000
END:DAYLIGHT
BEGIN:STANDARD
TZOFFSETFROM:+0300
TZOFFSETTO:+0200
TZNAME:EET
DTSTART:20191027T010000
END:STANDARD
BEGIN:DAYLIGHT
TZOFFSETFROM:+0200
TZOFFSETTO:+0300
TZNAME:EEST
DTSTART:20200329T010000
END:DAYLIGHT
BEGIN:STANDARD
TZOFFSETFROM:+0300
TZOFFSETTO:+0200
TZNAME:EET
DTSTART:20201025T010000
END:STANDARD
BEGIN:DAYLIGHT
TZOFFSETFROM:+0200
TZOFFSETTO:+0300
TZNAME:EEST
DTSTART:20210328T010000
END:DAYLIGHT
BEGIN:STANDARD
TZOFFSETFROM:+0300
TZOFFSETTO:+0200
TZNAME:EET
DTSTART:20211031T010000
END:STANDARD
END:VTIMEZONE
BEGIN:VEVENT
DTSTART;TZID=Europe/Helsinki:20200124T220000
DTEND;TZID=Europe/Helsinki:20200125T070000
DTSTAMP:20260424T152357
CREATED:20200108T222141Z
LAST-MODIFIED:20200108T222141Z
UID:10000008-1579903200-1579935600@www.clubb52.ro
SUMMARY:Blazing Vibez Reggae Party
DESCRIPTION:Blazing Vibez instigă la dans și distracție. Vă așteptăm vineri\, pe 24 Ianuarie\, în B52 (str. 11 iunie\, nr. 50)\, cu același sound electrizant\, cu vibe-uri fierbinți și o tonă de amintiri gata de a fi regizate. \n===================================================\nLineup: \nPhlo Da Shaolin – Riddim Ninja & Microphone Marshall\n–––––––––––––––––––––––––\nhttps://www.mixcloud.com/phlodashaolin\nhttps://soundcloud.com/phlodashaolin \nSensi J – Original Rudebwoy & Bassline Rider\n–––––––––––––––––––––––––\nhttps://www.youtube.com/watch?v=6rA_RPEVOk0 \nDj Oldskull – Sound Architect & Mixing Arts Master\n–––––––––––––––––––––––––\nhttps://www.facebook.com/DjOldskull/\nhttps://www.mixcloud.com/discover/dj-oldskull/ \nChesarion – Dancehall Don & Vibe Alchemist\n–––––––––––––––––––––\nhttps://www.mixcloud.com/BlazingVibez/chesarion-dancehall-hero/\nhttps://www.mixcloud.com/BlazingVibez/chesarion-dancehall-don-vol-2-lawless/ \nRas T – Nu-Roots Revolutionary & Musical StoryTeller\n–––––––––––––––––––––––––\nhttps://www.mixcloud.com/vladrastaman/irie-vibez-mix/\nhttps://www.mixcloud.com/vladrastaman/revolution-mix/ \n24 ianuarie 2020 – B52 Club – 22.00!\nArtist Support: 10 Lei
URL:https://www.clubb52.ro/eveniment/blazing-vibez-reggae-party-3/
LOCATION:Club B52\, Str. 11 iunie Nr.50\, Bucuresti
ATTACH;FMTTYPE=image/jpeg:https://www.clubb52.ro/wp-content/uploads/2020/01/Blazing-Vibez-Reggae-Party-at-B52-Club.jpg
ORGANIZER;CN="Club B52":MAILTO:office@clubb52.ro
END:VEVENT
BEGIN:VEVENT
DTSTART;TZID=Europe/Helsinki:20191227T220000
DTEND;TZID=Europe/Helsinki:20191228T050000
DTSTAMP:20260424T152357
CREATED:20191220T165635Z
LAST-MODIFIED:20191220T165750Z
UID:10000002-1577484000-1577509200@www.clubb52.ro
SUMMARY:Holidaze Party
DESCRIPTION:E simplu. Se întâmplă ceva special atât pentru cei puși pe party\, cât și pentru cei care au nevoie de ceva energie. Clubul cu nume de avion și-a pregătit ce are mai electrizant la butoane și ce-i mai colorat la bar\, deci nu se stă locului până dimineață. \nThis night won’t be silent. \n––––––– \nOn decks:\nPhlo Da Shaolin\nRemi Manoiu\nGabi Georgescu\nAlexandru Bogdan – AMON \nINTRAREA LIBERA. \nOferta bar: daca vii in intervalul orar 22:00 – 01:00\, platesti 25 de lei la bar si poti sa bei cat Heineken draught vrei sau cat Mimosa Cocktail (prosecco/orange) vrei.
URL:https://www.clubb52.ro/eveniment/holidaze-party/
LOCATION:Club B52\, Str. 11 iunie Nr.50\, Bucuresti
CATEGORIES:Club B52
ATTACH;FMTTYPE=image/png:https://www.clubb52.ro/wp-content/uploads/2019/12/Holidaze-Party-at-club-B52.png
ORGANIZER;CN="Club B52":MAILTO:office@clubb52.ro
END:VEVENT
BEGIN:VEVENT
DTSTART;TZID=Europe/Helsinki:20191220T220000
DTEND;TZID=Europe/Helsinki:20191221T080000
DTSTAMP:20260424T152357
CREATED:20191209T100428Z
LAST-MODIFIED:20191209T100513Z
UID:10000096-1576879200-1576915200@www.clubb52.ro
SUMMARY:Blazing Vibez Christmas Edition
DESCRIPTION:Blazing Vibez instigă la dans și distracție. Vă așteptăm vineri\, pe 15 Noiembrie\, în B52 (str. 11 iunie\, nr. 50)\, cu același sound electrizant\, cu vibe-uri fierbinți și o tonă de amintiri gata de a fi regizate. \n===================================================\nLineup: \nPhlo Da Shaolin – Riddim Ninja & Microphone Marshall\n–––––––––––––––––––––––––\nhttps://www.mixcloud.com/phlodashaolin\nhttps://soundcloud.com/phlodashaolin \nDj Oldskull – Sound Architect & Mixing Arts Master\n–––––––––––––––––––––––––\nhttps://www.facebook.com/DjOldskull/\nhttps://www.mixcloud.com/discover/dj-oldskull/ \nChesarion – Dancehall Don & Vibe Alchemist\n–––––––––––––––––––––\nhttps://www.mixcloud.com/BlazingVibez/chesarion-dancehall-hero/\nhttps://www.mixcloud.com/BlazingVibez/chesarion-dancehall-don-vol-2-lawless/ \n20 decembrie 2019 – B52 Club – 22.00!\nArtist Support: 10 Lei
URL:https://www.clubb52.ro/eveniment/blazing-vibez-christmas-edition/
LOCATION:Club B52\, Str. 11 iunie Nr.50\, Bucuresti
CATEGORIES:Club B52
ATTACH;FMTTYPE=image/jpeg:https://www.clubb52.ro/wp-content/uploads/2019/12/Blazing-Vibez-Christmas-Edition-at-B52-Club.jpg
ORGANIZER;CN="Club B52":MAILTO:office@clubb52.ro
END:VEVENT
END:VCALENDAR