BEGIN:VCALENDAR
VERSION:2.0
PRODID:-//Club B52, Strada 11 Iunie, nr. 50 - Cluburi Bucuresti - ECPv6.15.20//NONSGML v1.0//EN
CALSCALE:GREGORIAN
METHOD:PUBLISH
X-WR-CALNAME:Club B52, Strada 11 Iunie, nr. 50 - Cluburi Bucuresti
X-ORIGINAL-URL:https://www.clubb52.ro
X-WR-CALDESC:Evenimente pentru Club B52, Strada 11 Iunie, nr. 50 - Cluburi Bucuresti
REFRESH-INTERVAL;VALUE=DURATION:PT1H
X-Robots-Tag:noindex
X-PUBLISHED-TTL:PT1H
BEGIN:VTIMEZONE
TZID:Europe/Bucharest
BEGIN:DAYLIGHT
TZOFFSETFROM:+0200
TZOFFSETTO:+0300
TZNAME:EEST
DTSTART:20240331T010000
END:DAYLIGHT
BEGIN:STANDARD
TZOFFSETFROM:+0300
TZOFFSETTO:+0200
TZNAME:EET
DTSTART:20241027T010000
END:STANDARD
BEGIN:DAYLIGHT
TZOFFSETFROM:+0200
TZOFFSETTO:+0300
TZNAME:EEST
DTSTART:20250330T010000
END:DAYLIGHT
BEGIN:STANDARD
TZOFFSETFROM:+0300
TZOFFSETTO:+0200
TZNAME:EET
DTSTART:20251026T010000
END:STANDARD
BEGIN:DAYLIGHT
TZOFFSETFROM:+0200
TZOFFSETTO:+0300
TZNAME:EEST
DTSTART:20260329T010000
END:DAYLIGHT
BEGIN:STANDARD
TZOFFSETFROM:+0300
TZOFFSETTO:+0200
TZNAME:EET
DTSTART:20261025T010000
END:STANDARD
BEGIN:DAYLIGHT
TZOFFSETFROM:+0200
TZOFFSETTO:+0300
TZNAME:EEST
DTSTART:20270328T010000
END:DAYLIGHT
BEGIN:STANDARD
TZOFFSETFROM:+0300
TZOFFSETTO:+0200
TZNAME:EET
DTSTART:20271031T010000
END:STANDARD
END:VTIMEZONE
BEGIN:VEVENT
DTSTART;TZID=Europe/Bucharest:20260410T210000
DTEND;TZID=Europe/Bucharest:20260411T050000
DTSTAMP:20260421T172500
CREATED:20260323T064229Z
LAST-MODIFIED:20260323T064229Z
UID:10000568-1775854800-1775883600@www.clubb52.ro
SUMMARY:MTV Rocks Party by Emo Reunion
DESCRIPTION:La finalul anului 2025\, celebrul post MTV și-a încheiat emisia internațională\, însă pentru noi a rămas un simbol al culturii rock și al generației noastre. MTV Rocks Party este un omagiu adus unei ere care a definit muzica rock\, alternative\, metal și cultura asociată acesteia\, unde o generație întreagă și-a descoperit identitatea și trupele preferate prin MTV. \nNe revedem vineri 10 aprilie de la 21:00 în B52 The Club pentru un party special dedicat tinereții noastre\, unde ne vom bucura de toate hiturile pe care le-am ascultat și descoperit prin MTV Rocks 🤘🏼 \nPlaylist-ul serii va fi asigurat de Carina & Pandutzu\, pe care îi cunoașteți de la evenimentele Emo Reunion. \nBilete disponibile la intrare – 30 lei\nAccesul la eveniment este permis doar persoanelor peste 18 ani.\nPersoanele peste 16 ani trebuie însoțite de o persoană majoră. \nFără rasism\, sexism\, homofobie sau alte forme de ură în locație. De asemenea\, vă rugăm să respectați locul\, vecinii și oamenii din jur.
URL:https://www.clubb52.ro/eveniment/mtv-rocks-party-by-emo-reunion-2/
LOCATION:Club B52\, Str. 11 iunie Nr.50\, Bucuresti
CATEGORIES:Club B52
ATTACH;FMTTYPE=image/webp:https://www.clubb52.ro/wp-content/uploads/2026/03/MTV-Rocks-Party-by-Emo-Reunion-10-apr.webp
ORGANIZER;CN="Club B52":MAILTO:office@clubb52.ro
END:VEVENT
BEGIN:VEVENT
DTSTART;TZID=Europe/Bucharest:20260130T210000
DTEND;TZID=Europe/Bucharest:20260131T050000
DTSTAMP:20260421T172500
CREATED:20260120T091128Z
LAST-MODIFIED:20260120T091128Z
UID:10000547-1769806800-1769835600@www.clubb52.ro
SUMMARY:MTV Rocks Party by Emo Reunion
DESCRIPTION:La finalul anului 2025\, celebrul post MTV și-a încheiat emisia internațională\, însă pentru noi a rămas un simbol al culturii rock și al generației noastre. MTV Rocks Party este un omagiu adus unei ere care a definit muzica rock\, alternative\, metal și cultura asociată acesteia\, unde o generație întreagă și-a descoperit identitatea și trupele preferate prin MTV. \nNe vedem vineri 30 ianuarie de la 21:00 în B52 The Club pentru un party special dedicat tinereții noastre\, unde ne vom bucura de toate hiturile pe care le-am ascultat și descoperit prin MTV Rocks. 🤘🏼 \nPlaylist-ul serii va fi asigurat de Carina & Pandutzu\, pe care îi cunoașteți de la evenimentele Emo Reunion. \nBilete disponibile la intrare – 30 lei \nAccesul la eveniment este permis doar persoanelor peste 18 ani.\nPersoanele peste 16 ani trebuie însoțite de o persoană majoră. \nFără rasism\, sexism\, homofobie sau alte forme de ură în locație. De asemenea\, vă rugăm să respectați locul\, vecinii și oamenii din jur.
URL:https://www.clubb52.ro/eveniment/mtv-rocks-party-by-emo-reunion/
LOCATION:Club B52\, Str. 11 iunie Nr.50\, Bucuresti
CATEGORIES:Club B52
ATTACH;FMTTYPE=image/webp:https://www.clubb52.ro/wp-content/uploads/2026/01/MTV-Rocks-Party-by-Emo-Reunion.webp
ORGANIZER;CN="Club B52":MAILTO:office@clubb52.ro
END:VEVENT
BEGIN:VEVENT
DTSTART;TZID=Europe/Bucharest:20251220T210000
DTEND;TZID=Europe/Bucharest:20251221T050000
DTSTAMP:20260421T172500
CREATED:20251216T065702Z
LAST-MODIFIED:20251216T065719Z
UID:10000533-1766264400-1766293200@www.clubb52.ro
SUMMARY:MERRY ROCKMAS by Emo Reunion
DESCRIPTION:Vă invităm la MERRY ROCKMAS\, petrecerea de sărbători marca Emo Reunion\, cu un playlist epic\, exact cum v-am obișnuit\, dar cu un mic twist festiv: printre piese\, strecurăm și câteva surprize de sezon.\nA trecut foarte puțin timp de la ultimul nostru Reunion din București când am sărbătorit 2 ani incredibili alături de cea mai frumoasă comunitate.\nȘi cum altfel să încheiem anul dacă nu… împreună?\nVom avea și Emo Reunion merch\, cadoul perfect de pus sub brad sau un mic răsfăț pentru tine. Poți face precomanda pe emoreunion.ro\nBilete disponibile numai la intrare\, în limita locurilor disponibile.\nLet’s rock this holiday season! \n\nAccesul la eveniment este permis doar persoanelor peste 18 ani.Persoanele peste 16 ani trebuie însoțite de o persoană majoră.\nFără rasism\, sexism\, homofobie sau alte forme de ură în locație. De asemenea\, vă rugăm să respectați locul\, vecinii și oamenii din jur.
URL:https://www.clubb52.ro/eveniment/merry-rockmas-by-emo-reunion-2/
LOCATION:Club B52\, Str. 11 iunie Nr.50\, Bucuresti
CATEGORIES:Club B52
ATTACH;FMTTYPE=image/jpeg:https://www.clubb52.ro/wp-content/uploads/2025/12/MERRY-ROCKMAS-by-Emo-Reunion.jpg
ORGANIZER;CN="Club B52":MAILTO:office@clubb52.ro
END:VEVENT
BEGIN:VEVENT
DTSTART;TZID=Europe/Bucharest:20251025T210000
DTEND;TZID=Europe/Bucharest:20251026T050000
DTSTAMP:20260421T172500
CREATED:20251010T134419Z
LAST-MODIFIED:20251010T134446Z
UID:10000507-1761426000-1761454800@www.clubb52.ro
SUMMARY:Rocktober Party by Emo Reunion
DESCRIPTION:N-am mai dansat de mult pe ritmuri rock în B52 și ne era tare dor de o petrecere ca pe vremuri!  Așa că sâmbătă\, 25 octombrie\, începând cu 21:00\, ne vedem la Rocktober Party să dăm din cap\, să cântăm din suflet și să retrăim atmosfera anilor care ne-au definit.\n\n Muzica va fi pusă de Carina & Pandutzu (duoul de la Emo Reunion)\, așa că știi deja că va fi legendary!\nIntrare este 25 lei și se achită la intrare\n\n Nu uita: geaca de piele\, eyelinerul negru și atitudinea de rebel!\nLet’s rock the night away 
URL:https://www.clubb52.ro/eveniment/rocktober-party-by-emo-reunion/
LOCATION:Club B52\, Str. 11 iunie Nr.50\, Bucuresti
CATEGORIES:Club B52
ATTACH;FMTTYPE=image/jpeg:https://www.clubb52.ro/wp-content/uploads/2025/10/Rocktober-Party-by-Emo-Reunion-25-ot.jpg
ORGANIZER;CN="Club B52":MAILTO:office@clubb52.ro
END:VEVENT
BEGIN:VEVENT
DTSTART;TZID=Europe/Bucharest:20250426T160000
DTEND;TZID=Europe/Bucharest:20250426T160000
DTSTAMP:20260421T172500
CREATED:20250409T052446Z
LAST-MODIFIED:20250409T052511Z
UID:10000444-1745683200-1745683200@www.clubb52.ro
SUMMARY:Emo Reunion: May We Meet Again - Brunch & Party
DESCRIPTION:Emo Reunion revine în Club B52 cu un nou Brunch & Party ca parte a turneului May We Meet Again Tour.\nPrimăvara asta\, ne reunim pentru o noapte plină de nostalgie\, riff-uri puternice și emo vibes.\nNe vedem pe ringul de dans pentru un party epic\, unde dăm play la soundtrack-ul adolescenței noastre și cântăm din toți plămânii!\nPlaylist special: Paramore\, My Chemical Romance\, Pierce The Veil\, Fall Out Boy\, Bring Me The Horizon & more!DRESS CODE: Eyeliner on\, părul tapat\, brățările pregătite!\nPentru elder emos și nu numai\, avem și opțiunea de Brunch&Party începând cu ora 16:00. Hai să ne bucurăm împreună de o după-amiază plină de emoție\, nostalgie și muzică din playlistul Emo Reunion – de la hituri clasice la piese noi!\nCe te așteaptă:\n– Brunch tematic & buffet disponibil întreaga durată a evenimentului (inclusiv opțiuni vegetariene)– Bottomless Drinks: între 16:30 și 17:30\, savurează băuturi din meniul open bar– Activitate surpriză cu premii și party time\nDupă 20:00: Petrecerea continuă și este deschisă pentru toată lumea!\nVino să ne regăsim\, să urlăm versurile preferate și să dansăm până dimineața!\nEveniment susținut de backstage.fm\, Concerteatză\, SubRadar\, CriticEyez\, Concert In Poze și Lava Rock.\nBiletele se găsesc în format electronic pe www.iabilet.ro și în magazinele Flanco\, Muzica și pe terminalele Selfpay. Online\, puteți plăti cu cardul\, Paypal\, carduri de tichete culturale Sodexo și Edenred\, pe factura la Vodafone sau Orange sau ramburs prin Fan Courier oriunde în țară. Prețul biletelor nu include și comisionul de procesare a vendorului iabilet.ro\nBanii pentru biletele achizitionate se pot restitui doar în cazul în care evenimentul se anulează sau se amână.\nAccesul la eveniment este permis doar persoanelor peste 18 ani. Persoanele peste 16 ani trebuie însoțite de o persoană majoră.\nFără rasism\, sexism\, homofobie sau alte forme de ură în locație.\nDe asemenea\, vă rugăm să respectați locul\, vecinii și oamenii din jur.
URL:https://www.clubb52.ro/eveniment/emo-reunion-may-we-meet-again-brunch-party/
LOCATION:Club B52\, Str. 11 iunie Nr.50\, Bucuresti
CATEGORIES:Club B52
ATTACH;FMTTYPE=image/jpeg:https://www.clubb52.ro/wp-content/uploads/2025/04/Emo-Reunion-May-We-Meet-Again-Brunch-Party-26-apr.jpg
ORGANIZER;CN="Club B52":MAILTO:office@clubb52.ro
END:VEVENT
END:VCALENDAR