BEGIN:VCALENDAR
VERSION:2.0
PRODID:-//Club B52, Strada 11 Iunie, nr. 50 - Cluburi Bucuresti - ECPv6.15.20//NONSGML v1.0//EN
CALSCALE:GREGORIAN
METHOD:PUBLISH
X-WR-CALNAME:Club B52, Strada 11 Iunie, nr. 50 - Cluburi Bucuresti
X-ORIGINAL-URL:https://www.clubb52.ro
X-WR-CALDESC:Evenimente pentru Club B52, Strada 11 Iunie, nr. 50 - Cluburi Bucuresti
REFRESH-INTERVAL;VALUE=DURATION:PT1H
X-Robots-Tag:noindex
X-PUBLISHED-TTL:PT1H
BEGIN:VTIMEZONE
TZID:Europe/Bucharest
BEGIN:DAYLIGHT
TZOFFSETFROM:+0200
TZOFFSETTO:+0300
TZNAME:EEST
DTSTART:20240331T010000
END:DAYLIGHT
BEGIN:STANDARD
TZOFFSETFROM:+0300
TZOFFSETTO:+0200
TZNAME:EET
DTSTART:20241027T010000
END:STANDARD
BEGIN:DAYLIGHT
TZOFFSETFROM:+0200
TZOFFSETTO:+0300
TZNAME:EEST
DTSTART:20250330T010000
END:DAYLIGHT
BEGIN:STANDARD
TZOFFSETFROM:+0300
TZOFFSETTO:+0200
TZNAME:EET
DTSTART:20251026T010000
END:STANDARD
BEGIN:DAYLIGHT
TZOFFSETFROM:+0200
TZOFFSETTO:+0300
TZNAME:EEST
DTSTART:20260329T010000
END:DAYLIGHT
BEGIN:STANDARD
TZOFFSETFROM:+0300
TZOFFSETTO:+0200
TZNAME:EET
DTSTART:20261025T010000
END:STANDARD
END:VTIMEZONE
BEGIN:VTIMEZONE
TZID:Europe/Helsinki
BEGIN:DAYLIGHT
TZOFFSETFROM:+0200
TZOFFSETTO:+0300
TZNAME:EEST
DTSTART:20210328T010000
END:DAYLIGHT
BEGIN:STANDARD
TZOFFSETFROM:+0300
TZOFFSETTO:+0200
TZNAME:EET
DTSTART:20211031T010000
END:STANDARD
BEGIN:DAYLIGHT
TZOFFSETFROM:+0200
TZOFFSETTO:+0300
TZNAME:EEST
DTSTART:20220327T010000
END:DAYLIGHT
BEGIN:STANDARD
TZOFFSETFROM:+0300
TZOFFSETTO:+0200
TZNAME:EET
DTSTART:20221030T010000
END:STANDARD
BEGIN:DAYLIGHT
TZOFFSETFROM:+0200
TZOFFSETTO:+0300
TZNAME:EEST
DTSTART:20230326T010000
END:DAYLIGHT
BEGIN:STANDARD
TZOFFSETFROM:+0300
TZOFFSETTO:+0200
TZNAME:EET
DTSTART:20231029T010000
END:STANDARD
END:VTIMEZONE
BEGIN:VEVENT
DTSTART;TZID=Europe/Bucharest:20250411T220000
DTEND;TZID=Europe/Bucharest:20250412T060000
DTSTAMP:20260421T190657
CREATED:20250409T051854Z
LAST-MODIFIED:20250409T051854Z
UID:10000443-1744408800-1744437600@www.clubb52.ro
SUMMARY:WE LOVE MUSIC - kombat & jedha
DESCRIPTION:Clubul B52\, situat pe str. 11 iunie\, se pregătește să devină epicentrul muzicii urbane pe 11 aprilie 2025. Faimos pentru atmosfera sa *underground* și decorul industrial – B52 promite sa devina vineri un templu al energiei pure.\nLa pupitru\, Kombat și Jedha vor stârni o explozie de genuri: de la deja clasicele beaturi ale hip hop-ului și trap**-ului\, la ritmurile caraibiene date de reggae și dancehall\, apoi vor trece prin vârtejul electrizant al **drum & bass**-ului\, balans de **moombahton** și groove-ul de **amapiano**.\nDaca mai tii minte si ti-e dor de atmosfera din Elephant\, da\, asta vom incerca sa recreem dupa mai bine de 10 ani! #calaelephant\nPregătește-te să uiți de timp și să te pierzi în muzică!\n\n Locație: Club B52\, Str 11 iunie nr. 50 Ora: 22:00 – dimineața Acces: 25 lei (gratuit pentru persoanele de sex feminin pana in ora 23:00)\nVino cu cea mai bună energie și lasă-te purtat de universul urban cu Kombat și Jedha. We Love Music\, iar B52 va fi locul! 
URL:https://www.clubb52.ro/eveniment/we-love-music-kombat-jedha/
LOCATION:Club B52\, Str. 11 iunie Nr.50\, Bucuresti
CATEGORIES:Club B52
ATTACH;FMTTYPE=image/jpeg:https://www.clubb52.ro/wp-content/uploads/2025/04/WE-LOVE-MUSIC-kombat-jedha-11-apr.jpg
ORGANIZER;CN="Club B52":MAILTO:office@clubb52.ro
END:VEVENT
BEGIN:VEVENT
DTSTART;TZID=Europe/Bucharest:20250314T210000
DTEND;TZID=Europe/Bucharest:20250315T050000
DTSTAMP:20260421T190657
CREATED:20250304T150815Z
LAST-MODIFIED:20250304T150834Z
UID:10000435-1741986000-1742014800@www.clubb52.ro
SUMMARY:Hangover Memories // Bloc Party// O Data Pe Luna Party// We Love Music//
DESCRIPTION:Hangover Memories\nVineri\, 14 martie\, ne revedem pe strada 11 iunie la Club B52\, pentru un nou eveniment marca Hangover. Pentru a-2a editie din seria de petreceri Hangover Memories\, aducem un al3lea party legendar din vechea locatie si un DJ nou. La aceasta editie de Hangover Memories\, readucem We Love Music (ultima petrecere de la Hangover Club) alaturi de Kombat. \nBloc Party\, ODPL si We Love Music\, adica Assan\, Dj Gharaa si Kombat … ce poti sa vrei mai mult? \nIntrarea libera pana la 23:00 pentru fete\nAcces general : 25 lei
URL:https://www.clubb52.ro/eveniment/hangover-memories-bloc-party-o-data-pe-luna-party-we-love-music/
LOCATION:Club B52\, Str. 11 iunie Nr.50\, Bucuresti
CATEGORIES:Club B52
ATTACH;FMTTYPE=image/jpeg:https://www.clubb52.ro/wp-content/uploads/2025/03/Hangover-Memories-Bloc-Party-O-Data-Pe-Luna-Party-We-Love-Music-14-Februarie.jpg
ORGANIZER;CN="Club B52":MAILTO:office@clubb52.ro
END:VEVENT
BEGIN:VEVENT
DTSTART;TZID=Europe/Helsinki:20220408T210000
DTEND;TZID=Europe/Helsinki:20220409T050000
DTSTAMP:20260421T190657
CREATED:20220406T153035Z
LAST-MODIFIED:20220406T153130Z
UID:10000095-1649451600-1649480400@www.clubb52.ro
SUMMARY:Bloc Party 283 // DJ Oldskull // Assan
DESCRIPTION:Yes\, yes yes! Momentul pe care-l asteptam cu toti!\nVineri pe 8 aprilie o noua editie Bloc Party la B52 (str. 11 iunie\, nr. 50)\, de la ora 21:00! Ne-a fost dor si de aceea revenim cu o noa petrecere pana dimineata dimineata . Continuam sezonul de dans alaturi de Oldskull\, Assan\, rezidentii petrecerii\nNoteaza\, ne vedem vineri!\nArtist support :15 lei\nPartener oficial: Skills Loading Room
URL:https://www.clubb52.ro/eveniment/bloc-party-283-dj-oldskull-assan/
CATEGORIES:Club B52
ATTACH;FMTTYPE=image/jpeg:https://www.clubb52.ro/wp-content/uploads/2022/04/Bloc-Party-283-DJ-Oldskull-Assan.jpg
ORGANIZER;CN="Club B52":MAILTO:office@clubb52.ro
END:VEVENT
END:VCALENDAR