BEGIN:VCALENDAR
VERSION:2.0
PRODID:-//Club B52, Strada 11 Iunie, nr. 50 - Cluburi Bucuresti - ECPv6.15.20//NONSGML v1.0//EN
CALSCALE:GREGORIAN
METHOD:PUBLISH
X-WR-CALNAME:Club B52, Strada 11 Iunie, nr. 50 - Cluburi Bucuresti
X-ORIGINAL-URL:https://www.clubb52.ro
X-WR-CALDESC:Evenimente pentru Club B52, Strada 11 Iunie, nr. 50 - Cluburi Bucuresti
REFRESH-INTERVAL;VALUE=DURATION:PT1H
X-Robots-Tag:noindex
X-PUBLISHED-TTL:PT1H
BEGIN:VTIMEZONE
TZID:Europe/Helsinki
BEGIN:DAYLIGHT
TZOFFSETFROM:+0200
TZOFFSETTO:+0300
TZNAME:EEST
DTSTART:20180325T010000
END:DAYLIGHT
BEGIN:STANDARD
TZOFFSETFROM:+0300
TZOFFSETTO:+0200
TZNAME:EET
DTSTART:20181028T010000
END:STANDARD
BEGIN:DAYLIGHT
TZOFFSETFROM:+0200
TZOFFSETTO:+0300
TZNAME:EEST
DTSTART:20190331T010000
END:DAYLIGHT
BEGIN:STANDARD
TZOFFSETFROM:+0300
TZOFFSETTO:+0200
TZNAME:EET
DTSTART:20191027T010000
END:STANDARD
BEGIN:DAYLIGHT
TZOFFSETFROM:+0200
TZOFFSETTO:+0300
TZNAME:EEST
DTSTART:20200329T010000
END:DAYLIGHT
BEGIN:STANDARD
TZOFFSETFROM:+0300
TZOFFSETTO:+0200
TZNAME:EET
DTSTART:20201025T010000
END:STANDARD
END:VTIMEZONE
BEGIN:VTIMEZONE
TZID:Europe/Moscow
BEGIN:STANDARD
TZOFFSETFROM:+0300
TZOFFSETTO:+0300
TZNAME:MSK
DTSTART:20180101T000000
END:STANDARD
END:VTIMEZONE
BEGIN:VEVENT
DTSTART;TZID=Europe/Helsinki:20191204T200000
DTEND;TZID=Europe/Helsinki:20191204T220000
DTSTAMP:20260423T025415
CREATED:20191123T014303Z
LAST-MODIFIED:20191123T014303Z
UID:10000084-1575489600-1575496800@www.clubb52.ro
SUMMARY:Impro Battle - ImproHub vs. Trupa íELE
DESCRIPTION:Miercuri\, 4 decembrie\, ora 20.00\, în B52 The Club\, Improhub se arunca in lupta cu Trupa íELE\, folosind cele mai agile arme ale improvizatiei\, cele mai bune scene\, cele mai bune povesti\, cele mai bune editari\, cele mai bune justificari si cele mai bune personaje.\nIMPRO BATTLE este un format de TEATRU SPORT\, adica o competitie intre 2 echipe de improvizatori. Ele se vor provoca pe parcursul mai multor runde la jocuri de improvizatie diverse si vor fi jurizati de 3 experti – NARATIV\, TEHNIC si DIVERTISMENT. Iar deliciul suprem al acestui spectacol\, pe langa toate nebuniile care se intampla pe scena este faptul ca expertul in DIVERTISMENT este chiar PUBLICUL. \nPret bilet spectacol: 25 lei \nPentru rezervare suna sau trimite SMS la 0721.193.369. \nFacem apel la punctualitatea voastra si va rugam frumos sa ajungeti cu 15-20 de minute mai devreme ca sa putem incepe la timp! Portile B52 The Club se deschid la 19.30.\nMultumim din suflet! Va asteptam cu drag\, o sa fie o nebunie frumoasa!
URL:https://www.clubb52.ro/eveniment/impro-battle-improhub-vs-trupa-iele/
LOCATION:Club B52\, Str. 11 iunie Nr.50\, Bucuresti
CATEGORIES:Club B52
ATTACH;FMTTYPE=image/jpeg:https://www.clubb52.ro/wp-content/uploads/2019/11/Impro-Battle-ImproHub-vs.-Trupa-íELE.jpg
ORGANIZER;CN="Club B52":MAILTO:office@clubb52.ro
END:VEVENT
BEGIN:VEVENT
DTSTART;TZID=Europe/Helsinki:20191127T200000
DTEND;TZID=Europe/Helsinki:20191127T220000
DTSTAMP:20260423T025415
CREATED:20191118T083719Z
LAST-MODIFIED:20191118T083719Z
UID:10000076-1574884800-1574892000@www.clubb52.ro
SUMMARY:Impro Battle - IDIOT vs. Urban Impro
DESCRIPTION:Miercuri\, 27 noiembrie\, ora 20.00\, în B52 The Club\, Trupa de Teatru IDIOT vine tocmai de la Iași pentru o confruntare cu Urban Impro. \nIMPRO BATTLE este un format de TEATRU SPORT\, adica o competitie intre 2 echipe de improvizatori. Ele se vor provoca pe parcursul mai multor runde la jocuri de improvizatie diverse si vor fi jurizati de 3 experti – NARATIV\, TEHNIC si DIVERTISMENT. Iar deliciul suprem al acestui spectacol\, pe langa toate nebuniile care se intampla pe scena este faptul ca expertul in DIVERTISMENT este chiar PUBLICUL. \nPret bilet spectacol: 25 lei \nPentru rezervare suna sau trimite SMS la 0721.193.369. \nFacem apel la punctualitatea voastra si va rugam frumos sa ajungeti cu 15-20 de minute mai devreme ca sa putem incepe la timp! Portile B52 The Club se deschid la 19.30. \nMultumim din suflet! Va asteptam cu drag\, o sa fie o nebunie frumoasa!
URL:https://www.clubb52.ro/eveniment/impro-battle-idiot-vs-urban-impro/
LOCATION:Club B52\, Str. 11 iunie Nr.50\, Bucuresti
CATEGORIES:Club B52
ATTACH;FMTTYPE=image/jpeg:https://www.clubb52.ro/wp-content/uploads/2019/11/Impro-Battle-IDIOT-vs.-Urban-Impro.jpg
ORGANIZER;CN="Club B52":MAILTO:office@clubb52.ro
END:VEVENT
BEGIN:VEVENT
DTSTART;TZID=Europe/Helsinki:20191120T200000
DTEND;TZID=Europe/Helsinki:20191120T220000
DTSTAMP:20260423T025415
CREATED:20191118T083436Z
LAST-MODIFIED:20191118T083436Z
UID:10000074-1574280000-1574287200@www.clubb52.ro
SUMMARY:Impro Battle - Obligó vs. Niște Păpușari
DESCRIPTION:Miercuri\, 20 noiembrie\, ora 20.00\, în B52 The Club\, Trupa Obligó întâlnește o trupă fresh și plină de entuziasm\, trupa de impro din Teatrul Țăndărică România\, Niște Păpușari. \nIMPRO BATTLE este un format de TEATRU SPORT\, adica o competitie intre 2 echipe de improvizatori. Ele se vor provoca pe parcursul mai multor runde la jocuri de improvizatie diverse si vor fi jurizati de 3 experti – NARATIV\, TEHNIC si DIVERTISMENT. Iar deliciul suprem al acestui spectacol\, pe langa toate nebuniile care se intampla pe scena este faptul ca expertul in DIVERTISMENT este chiar PUBLICUL. \nPret bilet spectacol: 25 lei \nPentru rezervare suna sau trimite SMS la 0721.193.369. \nFacem apel la punctualitatea voastra si va rugam frumos sa ajungeti cu 15-20 de minute mai devreme ca sa putem incepe la timp! Portile B52 The Club se deschid la 19.30.\nMultumim din suflet! Va asteptam cu drag\, o sa fie o nebunie frumoasa!
URL:https://www.clubb52.ro/eveniment/impro-battle-obligo-vs-niste-papusari/
LOCATION:Club B52\, Str. 11 iunie Nr.50\, Bucuresti
CATEGORIES:Club B52
ATTACH;FMTTYPE=image/jpeg:https://www.clubb52.ro/wp-content/uploads/2019/11/Impro-Battle-Obligó-vs.-Niște-Păpușari.jpg
ORGANIZER;CN="Club B52":MAILTO:office@clubb52.ro
END:VEVENT
BEGIN:VEVENT
DTSTART;TZID=Europe/Helsinki:20191106T200000
DTEND;TZID=Europe/Helsinki:20191106T220000
DTSTAMP:20260423T025415
CREATED:20191104T102102Z
LAST-MODIFIED:20191104T102102Z
UID:10000062-1573070400-1573077600@www.clubb52.ro
SUMMARY:Impro Battle - Vine Improfest
DESCRIPTION:Miercuri\, 6 noiembrie\, ora 20.00\, în B52 The Club\, celebrăm IMPRO 7 – Bring your best\, ediția de anul acesta a festivalului național de improvizație\, cu un eveniment ante festival\, punând față în față echipa organizatorică formată din Adina Maria Sandu\, Adriana Bordeanu și Dan Miron și echipa artistică formată din Monica Anastase\, Mihaela Georgescu și Bogdan Untilă. Practic va fi o bătălie la alt nivel\, întrucât duelul se duce pe mai multe planuri\, actuala și ex directoarea festivalului\, prieteni\, colegi și camarazi de trupă și improvizatori într-o relație amoroasă… vă lăsăm pe voi să faceți socotelile. \nIMPRO BATTLE este un format de TEATRU SPORT\, adica o competitie intre 2 echipe de improvizatori. Ele se vor provoca pe parcursul mai multor runde la jocuri de improvizatie diverse si vor fi jurizati de 3 experti – NARATIV\, TEHNIC si DIVERTISMENT. Iar deliciul suprem al acestui spectacol\, pe langa toate nebuniile care se intampla pe scena este faptul ca expertul in DIVERTISMENT este chiar PUBLICUL. \nPret bilet spectacol: 25 lei \nPentru rezervare suna sau trimite SMS la 0721.193.369. \nFacem apel la punctualitatea voastra si va rugam frumos sa ajungeti cu 15-20 de minute mai devreme ca sa putem incepe la timp! Portile B52 The Club se deschid la 19.30.\nMultumim din suflet! Va asteptam cu drag\, o sa fie o nebunie frumoasa!
URL:https://www.clubb52.ro/eveniment/impro-battle-vine-improfest/
LOCATION:Club B52\, Str. 11 iunie Nr.50\, Bucuresti
CATEGORIES:Club B52
ATTACH;FMTTYPE=image/jpeg:https://www.clubb52.ro/wp-content/uploads/2019/11/Impro-Battle-Vine-Improfest.jpg
ORGANIZER;CN="Club B52":MAILTO:office@clubb52.ro
END:VEVENT
BEGIN:VEVENT
DTSTART;TZID=Europe/Moscow:20191030T200000
DTEND;TZID=Europe/Moscow:20191030T220000
DTSTAMP:20260423T025415
CREATED:20191008T060634Z
LAST-MODIFIED:20191008T060634Z
UID:10000051-1572465600-1572472800@www.clubb52.ro
SUMMARY:Maestro - The Ultimate Improviser #5
DESCRIPTION:Intr-o lume in care sugestiile te pandesc la orice colt de strada\, 9 improvizatori au decis sa aduca miercuri\, pe 30 octombrie\, de la ora 20.00\, imaginatia lor\, pe aceeasi scena din B52 The Club\, intr-o competitie improvizata pentru a vedea cine este favoritul publicului\, cine este cel mai aplaudat\, cine este cel mai bun improvizator al serii\, cine va pleca acasa cu titlul de Maestro? \nIn rolul principal: PUBLICUL\, care va da sugestii pentru scene si va decide cine va merge mai departe\, prin aplauzele si notele acordate. \nOare vor putea improvizatorii sa reziste presiunii? Oare vor face fata regizorii acestei provocari de a gestiona spectacolul? Nu veti putea afla decat daca veti face rezervare la 0721.193.369! Biletul la acest spectacol este 25 lei. \nDe la creatorii formatului de Teatru Sport – Impro Battle\, aducem pe scena B52 The Club\, un nou format competitiv\, pe numele lui: Maestro – The Ultimate Improviser! \nImprovizatorii care se vor lupta pentru titlul de Maestro sunt cei mai votati 9 improvizatori din cele 6 trupe care au participat la Impro Battle in luna octombrie: TBA\nRegizorii: TBA \nFacem apel la punctualitatea voastră și vă rugăm frumos să ajungeți cu 15-20 de minute mai devreme ca să putem începe la timp! Porțile B52 The Club se deschid la 19.30. \nMulțumim frumos! Vă așteptăm cu drag! \nMaestro Impro™ is created (©) by Keith Johnstone (Keith Johnstone Workshops) registered in the U.S.A.\, Canada and other countries.\nAll Rights Reserved\nProduction rights are exclusively managed by International Theatresports™ Insititute (www.theatresports.com)
URL:https://www.clubb52.ro/eveniment/maestro-the-ultimate-improviser-5/
LOCATION:Club B52\, Str. 11 iunie Nr.50\, Bucuresti
CATEGORIES:Club B52
ATTACH;FMTTYPE=image/jpeg:https://www.clubb52.ro/wp-content/uploads/2019/10/Maestro-The-Ultimate-Improviser-5.jpg
ORGANIZER;CN="Club B52":MAILTO:office@clubb52.ro
END:VEVENT
BEGIN:VEVENT
DTSTART;TZID=Europe/Moscow:20191023T200000
DTEND;TZID=Europe/Moscow:20191023T220000
DTSTAMP:20260423T025415
CREATED:20191008T060323Z
LAST-MODIFIED:20191008T060323Z
UID:10000023-1571860800-1571868000@www.clubb52.ro
SUMMARY:Impro Battle - Obligó vs. Backstage Boys
DESCRIPTION:Miercuri\, 23 octombrie\, ora 20.00\, în B52 The Club\, așa cum s-a stabilit în urma provocărilor\, Trupa Obligó vs. Backstage Boys \nIMPRO BATTLE este un format de TEATRU SPORT\, adica o competitie intre 2 echipe de improvizatori. Ele se vor provoca pe parcursul mai multor runde la jocuri de improvizatie diverse si vor fi jurizati de 3 experti – NARATIV\, TEHNIC si DIVERTISMENT. Iar deliciul suprem al acestui spectacol\, pe langa toate nebuniile care se intampla pe scena este faptul ca expertul in DIVERTISMENT este chiar PUBLICUL. \nPret bilet spectacol: 25 lei \nPentru rezervare suna sau trimite SMS la 0721.193.369.
URL:https://www.clubb52.ro/eveniment/impro-battle-obligo-vs-backstage-boys/
LOCATION:Club B52\, Str. 11 iunie Nr.50\, Bucuresti
CATEGORIES:Club B52
ATTACH;FMTTYPE=image/jpeg:https://www.clubb52.ro/wp-content/uploads/2019/10/Impro-Battle-Obligó-vs.-Backstage-Boys.jpg
ORGANIZER;CN="Club B52":MAILTO:office@clubb52.ro
END:VEVENT
BEGIN:VEVENT
DTSTART;TZID=Europe/Moscow:20191016T200000
DTEND;TZID=Europe/Moscow:20191016T220000
DTSTAMP:20260423T025415
CREATED:20191008T060001Z
LAST-MODIFIED:20191008T060001Z
UID:10000024-1571256000-1571263200@www.clubb52.ro
SUMMARY:Impro Battle - Improvisneyland vs. Urban Impro
DESCRIPTION:Miercuri\, 16 octombrie\, ora 20.00\, în B52 The Club\, așa cum s-a stabilit în urma provocărilor\, Improvisneyland vs. Urban Impro. \nIMPRO BATTLE este un format de TEATRU SPORT\, adica o competitie intre 2 echipe de improvizatori. Ele se vor provoca pe parcursul mai multor runde la jocuri de improvizatie diverse si vor fi jurizati de 3 experti – NARATIV\, TEHNIC si DIVERTISMENT. Iar deliciul suprem al acestui spectacol\, pe langa toate nebuniile care se intampla pe scena este faptul ca expertul in DIVERTISMENT este chiar PUBLICUL. \nPret bilet spectacol: 25 lei \nPentru rezervare suna sau trimite SMS la 0721.193.369. \nFacem apel la punctualitatea voastra si va rugam frumos sa ajungeti cu 15-20 de minute mai devreme ca sa putem incepe la timp! Portile B52 The Club se deschid la 19.30.\nMultumim din suflet! Va asteptam cu drag\, o sa fie o nebunie frumoasa!
URL:https://www.clubb52.ro/eveniment/impro-battle-improvisneyland-vs-urban-impro/
LOCATION:Club B52\, Str. 11 iunie Nr.50\, Bucuresti
CATEGORIES:Club B52
ATTACH;FMTTYPE=image/jpeg:https://www.clubb52.ro/wp-content/uploads/2019/10/Impro-Battle-Improvisneyland-vs.-Urban-Impro.jpg
ORGANIZER;CN="Club B52":MAILTO:office@clubb52.ro
END:VEVENT
BEGIN:VEVENT
DTSTART;TZID=Europe/Moscow:20191009T200000
DTEND;TZID=Europe/Moscow:20191009T220000
DTSTAMP:20260423T025415
CREATED:20191008T054235Z
LAST-MODIFIED:20191008T054706Z
UID:10000028-1570651200-1570658400@www.clubb52.ro
SUMMARY:Impro Battle - íELE vs. Freeze
DESCRIPTION:Miercuri\, 9 octombrie\, ora 20.00\, în B52 The Club\, așa cum s-a stabilit în urma provocărilor\, Trupa íELE vs. Trupa Freeze care joacă cu invitat special Delia Alexandra Riciu. \nIMPRO BATTLE este un format de TEATRU SPORT\, adica o competitie intre 2 echipe de improvizatori. Ele se vor provoca pe parcursul mai multor runde la jocuri de improvizatie diverse si vor fi jurizati de 3 experti – NARATIV\, TEHNIC si DIVERTISMENT. Iar deliciul suprem al acestui spectacol\, pe langa toate nebuniile care se intampla pe scena este faptul ca expertul in DIVERTISMENT este chiar PUBLICUL. \nPret bilet spectacol: 25 lei \nPentru rezervare suna sau trimite SMS la 0721.193.369. \nFacem apel la punctualitatea voastra si va rugam frumos sa ajungeti cu 15-20 de minute mai devreme ca sa putem incepe la timp! Portile B52 The Club se deschid la 19.30.\nMultumim din suflet! Va asteptam cu drag\, o sa fie o nebunie frumoasa!
URL:https://www.clubb52.ro/eveniment/impro-battle-iele-vs-freeze/
LOCATION:Club B52\, Str. 11 iunie Nr.50\, Bucuresti
CATEGORIES:Club B52
ATTACH;FMTTYPE=image/jpeg:https://www.clubb52.ro/wp-content/uploads/2019/10/Impro-Battle-íELE-vs.-Freeze.jpg
ORGANIZER;CN="Club B52":MAILTO:office@clubb52.ro
END:VEVENT
BEGIN:VEVENT
DTSTART;TZID=Europe/Moscow:20191002T200000
DTEND;TZID=Europe/Moscow:20191002T220000
DTSTAMP:20260423T025415
CREATED:20190928T072715Z
LAST-MODIFIED:20190928T072715Z
UID:10000037-1570046400-1570053600@www.clubb52.ro
SUMMARY:Impro Battle - All Star Game
DESCRIPTION:Începem acest sezon minunat de Impro Battle\, cu o ediție de sărbătoare. All Star Game înseamnă că în componența celor 2 echipe vor fi câte un improvizator de la fiecare din trupele următoare: Trupa Obligó\, Backstage Boys\, Urban Impro\, Trupa íELE\, Improvisneyland și Trupa Freeze! \n6 trupe pe aceeași scenă\, în B52 The Club\, miercuri\, 2 octombrie 2019\, de la ora 20.00. Echipele vor fi alese prin tragere la sorți la începutului spectacolului. \nIMPRO BATTLE este un format de TEATRU SPORT\, adica o competitie intre 2 echipe de improvizatori. Ele se vor provoca pe parcursul mai multor runde la jocuri de improvizatie diverse si vor fi jurizati de 3 experti – NARATIV\, TEHNIC si DIVERTISMENT. Iar deliciul suprem al acestui spectacol\, pe langa toate nebuniile care se intampla pe scena este faptul ca expertul in DIVERTISMENT este chiar PUBLICUL. \nPret bilet spectacol: 25 lei \nPentru rezervare suna sau trimite SMS la 0721.193.369. \nFacem apel la punctualitatea voastra si va rugam frumos sa ajungeti cu 15-20 de minute mai devreme ca sa putem incepe la timp! Portile B52 The Club se deschid la 19.30. \nMultumim din suflet! Va asteptam cu drag\, o sa fie o nebunie frumoasa!
URL:https://www.clubb52.ro/eveniment/impro-battle-all-star-game/
LOCATION:Club B52\, Str. 11 iunie Nr.50\, Bucuresti
CATEGORIES:Club B52
ATTACH;FMTTYPE=image/jpeg:https://www.clubb52.ro/wp-content/uploads/2019/09/Impro-Battle-All-Star-Game.jpg
ORGANIZER;CN="Club B52":MAILTO:office@clubb52.ro
END:VEVENT
END:VCALENDAR