BEGIN:VCALENDAR
VERSION:2.0
PRODID:-//Club B52, Strada 11 Iunie, nr. 50 - Cluburi Bucuresti - ECPv6.15.20//NONSGML v1.0//EN
CALSCALE:GREGORIAN
METHOD:PUBLISH
X-ORIGINAL-URL:https://www.clubb52.ro
X-WR-CALDESC:Evenimente pentru Club B52, Strada 11 Iunie, nr. 50 - Cluburi Bucuresti
REFRESH-INTERVAL;VALUE=DURATION:PT1H
X-Robots-Tag:noindex
X-PUBLISHED-TTL:PT1H
BEGIN:VTIMEZONE
TZID:Europe/Bucharest
BEGIN:DAYLIGHT
TZOFFSETFROM:+0200
TZOFFSETTO:+0300
TZNAME:EEST
DTSTART:20220327T010000
END:DAYLIGHT
BEGIN:STANDARD
TZOFFSETFROM:+0300
TZOFFSETTO:+0200
TZNAME:EET
DTSTART:20221030T010000
END:STANDARD
BEGIN:DAYLIGHT
TZOFFSETFROM:+0200
TZOFFSETTO:+0300
TZNAME:EEST
DTSTART:20230326T010000
END:DAYLIGHT
BEGIN:STANDARD
TZOFFSETFROM:+0300
TZOFFSETTO:+0200
TZNAME:EET
DTSTART:20231029T010000
END:STANDARD
BEGIN:DAYLIGHT
TZOFFSETFROM:+0200
TZOFFSETTO:+0300
TZNAME:EEST
DTSTART:20240331T010000
END:DAYLIGHT
BEGIN:STANDARD
TZOFFSETFROM:+0300
TZOFFSETTO:+0200
TZNAME:EET
DTSTART:20241027T010000
END:STANDARD
END:VTIMEZONE
BEGIN:VEVENT
DTSTART;TZID=Europe/Bucharest:20230602T220000
DTEND;TZID=Europe/Bucharest:20230603T050000
DTSTAMP:20260421T183043
CREATED:20230531T114048Z
LAST-MODIFIED:20230531T114048Z
UID:10000242-1685743200-1685768400@www.clubb52.ro
SUMMARY:Music Is My Aeroplane Party cu Barbu
DESCRIPTION:Pentru ca weekendul este cea mai importanta parte a saptamanii\, pentru ca la club B52 iese cel mai nebun party\, pentru ca petrecem pana dimineata in zori\, pentru\, pentru si iarasi pentru. \nVineri\, 2 iunie\, orele 22:00. \nOn decks: Barbu – alternative rock\, pop\, ska – party mode. \nIntrare – 20 lei.
URL:https://www.clubb52.ro/eveniment/music-is-my-aeroplane-party-cu-barbu/
LOCATION:Club B52\, Str. 11 iunie Nr.50\, Bucuresti
CATEGORIES:Club B52
ATTACH;FMTTYPE=image/jpeg:https://www.clubb52.ro/wp-content/uploads/2023/05/Music-Is-My-Aeroplane-Party-cu-Barbu-02.06.jpg
ORGANIZER;CN="Club B52":MAILTO:office@clubb52.ro
END:VEVENT
BEGIN:VEVENT
DTSTART;TZID=Europe/Bucharest:20230603T220000
DTEND;TZID=Europe/Bucharest:20230604T050000
DTSTAMP:20260421T183043
CREATED:20230531T114227Z
LAST-MODIFIED:20230531T114227Z
UID:10000243-1685829600-1685854800@www.clubb52.ro
SUMMARY:Don't Grow Up\, It's A Trap Party
DESCRIPTION:DON’T GROW UP\, IT’s TRAP\, party cu istorie bogata in spate by Tavi Tone. \nCe stim despre el? E un scamator aventuros si eclectic și ne putem aștepta să ne poarte intr-un adevarat carusel de stiluri și emoții\, cu piese cunoscute\, dar și edituri\, B-side-uri sau alte remixuri și rarități:\nVama Veche Vibes ★ Classic Rock Edits ★ Alternative ★ Synth Pop ★ New Wave ★ Post Punk ★ Indie ★ Disco & More \nIntrare: 20 lei.
URL:https://www.clubb52.ro/eveniment/dont-grow-up-its-a-trap-party/
LOCATION:Club B52\, Str. 11 iunie Nr.50\, Bucuresti
CATEGORIES:Club B52
ATTACH;FMTTYPE=image/jpeg:https://www.clubb52.ro/wp-content/uploads/2023/01/Dont-Grow-Up-Its-a-Trap-by-Tavi-Tone.jpg
ORGANIZER;CN="Club B52":MAILTO:office@clubb52.ro
END:VEVENT
BEGIN:VEVENT
DTSTART;TZID=Europe/Bucharest:20230609T220000
DTEND;TZID=Europe/Bucharest:20230610T050000
DTSTAMP:20260421T183043
CREATED:20230608T190635Z
LAST-MODIFIED:20230608T190635Z
UID:10000244-1686348000-1686373200@www.clubb52.ro
SUMMARY:Hituri\, Nu Bull hituri Party cu Gabi
DESCRIPTION:HITURI\, NU BULL HITURI PARTY. \nVineri\, 9 iunie\, orele 22:00.\nB52 The Club\, str. 11 iunie\, nr 50. \nDansam si ne mai aducem aminte de melodiile noastre de suflet\, care ne-au marcat anumite momente din viata\, dar care probabil\, cu timpul\, s-au mai uitat…..si melodiile si momentele. \nMuzica: Gabi – E.M.I.L./Niste Baieti (alternative\, rock\, electro\, ska\, reggae\, hip-hop\, pop\, d’n’b) \nIntrare: 20 lei.
URL:https://www.clubb52.ro/eveniment/hituri-nu-bull-hituri-party-cu-gabi/
LOCATION:Club B52\, Str. 11 iunie Nr.50\, Bucuresti
CATEGORIES:Club B52
ATTACH;FMTTYPE=image/jpeg:https://www.clubb52.ro/wp-content/uploads/2023/06/Hituri-Nu-Bull-hituri-Party-cu-Gabi-09.05.jpg
ORGANIZER;CN="Club B52":MAILTO:office@clubb52.ro
END:VEVENT
BEGIN:VEVENT
DTSTART;TZID=Europe/Bucharest:20230610T220000
DTEND;TZID=Europe/Bucharest:20230611T050000
DTSTAMP:20260421T183043
CREATED:20230608T191019Z
LAST-MODIFIED:20230608T191019Z
UID:10000245-1686434400-1686459600@www.clubb52.ro
SUMMARY:BLAZING VIBEZ - REGGAE PARTY / 10 IUN // RAS T / CHESARION / LABROS
DESCRIPTION: Blazing Vibez instigă la dans și distracție inca din 2010. Vă așteptăm vineri\, pe 10 iunie\, în Club B52 (str. 11 iunie\, nr. 50)\, cu același sound electrizant\, cu vibe-uri fierbinți și o tonă de amintiri gata de a fi regizate. \nDaca iti place muzica reggae si ritmurile jamaicane nu trebuie sa ratezi acest party \n================================================\n Lineup:\n Chesarion – Dancehall Don & Vibe Alchemist\n–––––––––––––––––––––\nhttps://www.mixcloud.com/Blazin…/chesarion-dancehall-hero/\nhttps://www.mixcloud.com/…/chesarion-dancehall-don-vol…/\n Ras T – Nu-Roots Revolutionary & Musical StoryTeller\n–––––––––––––––––––––––\nhttps://www.youtube.com/watch?v=GS_nDZs4bkY…\nhttps://www.mixcloud.com/vladrastaman/revolution-mix/\n Labros – Bass Philanthropist & Laid-back Energy Generator\n–––––––––––––––––––––––––\nhttps://www.facebook.com/labros.riddimental\nhttps://www.youtube.com/channel/UCur7NO46aOhroKCAfP64pRQ\n 10 iunie – B52 Club – 22.00!\nINTRARE: 20 Lei
URL:https://www.clubb52.ro/eveniment/blazing-vibez-reggae-party-10-iun-ras-t-chesarion-labros/
LOCATION:Club B52\, Str. 11 iunie Nr.50\, Bucuresti
CATEGORIES:Club B52
ATTACH;FMTTYPE=image/jpeg:https://www.clubb52.ro/wp-content/uploads/2023/06/BLAZING-VIBEZ-REGGAE-PARTY-RAS-T-CHESARION-LABROS.jpg
ORGANIZER;CN="Club B52":MAILTO:office@clubb52.ro
END:VEVENT
BEGIN:VEVENT
DTSTART;TZID=Europe/Bucharest:20230616T220000
DTEND;TZID=Europe/Bucharest:20230617T050000
DTSTAMP:20260421T183043
CREATED:20230608T191246Z
LAST-MODIFIED:20230608T191246Z
UID:10000246-1686952800-1686978000@www.clubb52.ro
SUMMARY:Girls Aloud Party
DESCRIPTION:GIRLS ALOUD PARTY by Gilda Comarzan & Ana Coman. \nUn party mai altfel si cu siguranta de nepierdut. Pe Gilda o stiti\, ca ne trezeste in fiecare dimineata cu vocea ei inconfundabila la radio\, iar Ana ne (in)canta cu vocea ei\, tot inconfundabila\, seara la concerte prin diverse cluburi si festivaluri. \nVin la B52 The Club\, vineri\, 16 iunie\, orele 22\, cu muzica faina\, cu muzica fresh\, cu muzica de party\, sa ne tina la dans pana dimineata. \nNu e de ratat. Save the date! \nIntrare: 20 lei.
URL:https://www.clubb52.ro/eveniment/girls-aloud-party/
LOCATION:Club B52\, Str. 11 iunie Nr.50\, Bucuresti
CATEGORIES:Club B52
ATTACH;FMTTYPE=image/jpeg:https://www.clubb52.ro/wp-content/uploads/2023/06/Girls-Aloud-Party-16-iunie.jpg
ORGANIZER;CN="Club B52":MAILTO:office@clubb52.ro
END:VEVENT
BEGIN:VEVENT
DTSTART;TZID=Europe/Bucharest:20230617T210000
DTEND;TZID=Europe/Bucharest:20230618T050000
DTSTAMP:20260421T183043
CREATED:20230608T191510Z
LAST-MODIFIED:20230608T191510Z
UID:10000247-1687035600-1687064400@www.clubb52.ro
SUMMARY:Can't Touch This (80's & 90's Party) by Jiji
DESCRIPTION:B52 The Club\, sambata\, 17 iunie\, orele 21. \nLet’s dance\, let’s party\, let’s touch this! \nJoin us and discover the spicy and groovy atmosphere of 80’s & 90’s\, blooms your senses with cool people and icy drinks. \nDj Jiji ne trece de la MC Hammer la Coco Jamboo si de la CC Catch la Duran Duran. \nSupport: 25 LEI
URL:https://www.clubb52.ro/eveniment/cant-touch-this-80s-90s-party-by-jiji-12/
LOCATION:Club B52\, Str. 11 iunie Nr.50\, Bucuresti
CATEGORIES:Club B52
ATTACH;FMTTYPE=image/jpeg:https://www.clubb52.ro/wp-content/uploads/2022/05/Cant-Touch-This-80-90s-Party-cu-Jiji.jpg
ORGANIZER;CN="Club B52":MAILTO:office@clubb52.ro
END:VEVENT
BEGIN:VEVENT
DTSTART;TZID=Europe/Bucharest:20230623T210000
DTEND;TZID=Europe/Bucharest:20230624T050000
DTSTAMP:20260421T183043
CREATED:20230620T125158Z
LAST-MODIFIED:20230620T125158Z
UID:10000248-1687554000-1687582800@www.clubb52.ro
SUMMARY:Back To The Future (80's & 90's Party) by Bogdan
DESCRIPTION:Back To The Future (80’s & 90’s Party) @ B52 The Club.\nDe ce?\nPentru ca melodiile alea din copilarie te-au facut sa fii tanarul de azi\, sa vrei sa petreci cat te tin curelele si asa o sa fii si pe viitor. Pentru ca sigur ai niste incaltari pe care vrei sa le arunci si nu te lasa inima\, iar mai bine le rupi pe ringul de dans. Pentru ca pop\, pentru ca dance\, pentru ca forever young. \nSi pentru ca vineri\, 23 iunie\, incepem de la orele 21. \nDaca vrei sa tii o masa\, sa te mai odihnesti din cand in cand de la prea mult dans\, trebuie sa suni aici: 0753.315.563. \nIntrare: 20 lei. \nMusic by Bogdan Nicolescu – il stii de la Radio Seven.
URL:https://www.clubb52.ro/eveniment/back-to-the-future-80s-90s-party-by-bogdan/
LOCATION:Club B52\, Str. 11 iunie Nr.50\, Bucuresti
CATEGORIES:Club B52
ATTACH;FMTTYPE=image/jpeg:https://www.clubb52.ro/wp-content/uploads/2023/06/Back-To-The-Future-80s-90s-Party-by-Bogdan-23-iunie.jpg
ORGANIZER;CN="Club B52":MAILTO:office@clubb52.ro
END:VEVENT
BEGIN:VEVENT
DTSTART;TZID=Europe/Bucharest:20230624T220000
DTEND;TZID=Europe/Bucharest:20230625T050000
DTSTAMP:20260421T183043
CREATED:20230620T125412Z
LAST-MODIFIED:20230620T125412Z
UID:10000249-1687644000-1687669200@www.clubb52.ro
SUMMARY:BLOC PARTY 297 b2b O DATA PE LUNA / SPECTRU & DJ CW / RAS T / PINO
DESCRIPTION: Sambata 24 Iunie va asteptam la un party cu totul special! \n Bloc Party\, una dintre cele mai longevive petreceri de muzica urbana din Bucuresti si O Data Pe Luna\, cea mai tare petrecere de rap 100% romanesc isi unesc fortele pentru acest party ce se anunta de colectie. \n Invitatii speciali din aceasta editie sunt:\nSPECTRU & DJ CW – PRODUCTII CRIMINALLE – DJ Set \nCei doi vin pregatiti pentru party cu un DJ Set care contine unele din cele mai cunoscute piese de party din Hip-Hop-ul romanesc marca productii „Criminalle”\, dar si cu piese in absoluta premiera de la cei mai cunoscuti artisti din zona Hip-Hop din Romania.\nSpectru este membru StradaVarius si cunoscut pentru productii criminale de genu: „Alin Bahaos”\, „30 de grame” sau „100 de kile”.\nhttps://www.instagram.com/criminalle_/\nhttps://www.instagram.com/dj.cw_/\nPentru ca seara sa fie completa\, lor li se vor alatura:\n RAS T – DJ rezident Bloc Party\n PINO – Ministry of Hip Hop\n Va asteptam incepand cu orele 22:00 cu cele mai bune ritmuri de rap\, reggae\, dancehall\, trap\, bass!\n INTRARE: 20 LEI
URL:https://www.clubb52.ro/eveniment/bloc-party-297-b2b-o-data-pe-luna-spectru-dj-cw-ras-t-pino/
LOCATION:Club B52\, Str. 11 iunie Nr.50\, Bucuresti
CATEGORIES:Club B52
ATTACH;FMTTYPE=image/jpeg:https://www.clubb52.ro/wp-content/uploads/2023/06/BLOC-PARTY-297-b2b-O-DATA-PE-LUNA-SPECTRU-DJ-CW-RAS-T-PINO.jpg
ORGANIZER;CN="Club B52":MAILTO:office@clubb52.ro
END:VEVENT
BEGIN:VEVENT
DTSTART;TZID=Europe/Bucharest:20230630T220000
DTEND;TZID=Europe/Bucharest:20230701T050000
DTSTAMP:20260421T183043
CREATED:20230627T193938Z
LAST-MODIFIED:20230627T193938Z
UID:10000250-1688162400-1688187600@www.clubb52.ro
SUMMARY:Bomber Fridays Party by Fane La Platane
DESCRIPTION:Clubul cu nume de avion e echipat cu Jägerbombs si alte muniții colorate\, mai grele sau mai ușoare\, atât la bar cât și la muzică. \nSe cheamă Bomber Fridays și ești invitat. \nIntrarea 20 lei. \nVineri\, 30 iunie\, B52 The Club\, str. 11 iunie\, nr 50\, orele 22:00 pana dimineata. \nOn decks: Fane La Platane (Partipipal).
URL:https://www.clubb52.ro/eveniment/bomber-fridays-party-by-fane-la-platane/
CATEGORIES:Club B52
ATTACH;FMTTYPE=image/jpeg:https://www.clubb52.ro/wp-content/uploads/2019/10/Bomber-Fridays-Party-at-club-B52.jpg
END:VEVENT
END:VCALENDAR