BEGIN:VCALENDAR
VERSION:2.0
PRODID:-//Club B52, Strada 11 Iunie, nr. 50 - Cluburi Bucuresti - ECPv6.15.20//NONSGML v1.0//EN
CALSCALE:GREGORIAN
METHOD:PUBLISH
X-WR-CALNAME:Club B52, Strada 11 Iunie, nr. 50 - Cluburi Bucuresti
X-ORIGINAL-URL:https://www.clubb52.ro
X-WR-CALDESC:Evenimente pentru Club B52, Strada 11 Iunie, nr. 50 - Cluburi Bucuresti
REFRESH-INTERVAL;VALUE=DURATION:PT1H
X-Robots-Tag:noindex
X-PUBLISHED-TTL:PT1H
BEGIN:VTIMEZONE
TZID:Europe/Helsinki
BEGIN:DAYLIGHT
TZOFFSETFROM:+0200
TZOFFSETTO:+0300
TZNAME:EEST
DTSTART:20220327T010000
END:DAYLIGHT
BEGIN:STANDARD
TZOFFSETFROM:+0300
TZOFFSETTO:+0200
TZNAME:EET
DTSTART:20221030T010000
END:STANDARD
BEGIN:DAYLIGHT
TZOFFSETFROM:+0200
TZOFFSETTO:+0300
TZNAME:EEST
DTSTART:20230326T010000
END:DAYLIGHT
BEGIN:STANDARD
TZOFFSETFROM:+0300
TZOFFSETTO:+0200
TZNAME:EET
DTSTART:20231029T010000
END:STANDARD
BEGIN:DAYLIGHT
TZOFFSETFROM:+0200
TZOFFSETTO:+0300
TZNAME:EEST
DTSTART:20240331T010000
END:DAYLIGHT
BEGIN:STANDARD
TZOFFSETFROM:+0300
TZOFFSETTO:+0200
TZNAME:EET
DTSTART:20241027T010000
END:STANDARD
END:VTIMEZONE
BEGIN:VTIMEZONE
TZID:Europe/Bucharest
BEGIN:DAYLIGHT
TZOFFSETFROM:+0200
TZOFFSETTO:+0300
TZNAME:EEST
DTSTART:20220327T010000
END:DAYLIGHT
BEGIN:STANDARD
TZOFFSETFROM:+0300
TZOFFSETTO:+0200
TZNAME:EET
DTSTART:20221030T010000
END:STANDARD
BEGIN:DAYLIGHT
TZOFFSETFROM:+0200
TZOFFSETTO:+0300
TZNAME:EEST
DTSTART:20230326T010000
END:DAYLIGHT
BEGIN:STANDARD
TZOFFSETFROM:+0300
TZOFFSETTO:+0200
TZNAME:EET
DTSTART:20231029T010000
END:STANDARD
BEGIN:DAYLIGHT
TZOFFSETFROM:+0200
TZOFFSETTO:+0300
TZNAME:EEST
DTSTART:20240331T010000
END:DAYLIGHT
BEGIN:STANDARD
TZOFFSETFROM:+0300
TZOFFSETTO:+0200
TZNAME:EET
DTSTART:20241027T010000
END:STANDARD
END:VTIMEZONE
BEGIN:VTIMEZONE
TZID:Europe/Moscow
BEGIN:STANDARD
TZOFFSETFROM:+0300
TZOFFSETTO:+0300
TZNAME:MSK
DTSTART:20220101T000000
END:STANDARD
END:VTIMEZONE
BEGIN:VEVENT
DTSTART;TZID=Europe/Helsinki:20230401T220000
DTEND;TZID=Europe/Helsinki:20230402T050000
DTSTAMP:20260421T213050
CREATED:20230322T065200Z
LAST-MODIFIED:20230322T065200Z
UID:10000218-1680386400-1680411600@www.clubb52.ro
SUMMARY:Reggae Night Party by Remi
DESCRIPTION:Remi said: „Iubesc să văd oamenii bucurându-se de muzică\, de viață și de bucuria de a fi împreună. Muzica reggae a fost pentru mine companie în momente dificile ale vieții\, momente ce m-au adus aici. Cu muzica și cu iubire pentru ceea ce fac\, vă invit să dansăm\, cu credință în viață\, în frumusețea muzicii și în bucuria de a fi împreună.” \nSambata\, 1 aprilie\, B52 The Club. \nIncep la orele 22:00 si stau pana dimineata. \nSupport: 20 lei.
URL:https://www.clubb52.ro/eveniment/reggae-night-party-by-remi-9/
LOCATION:Club B52\, Str. 11 iunie Nr.50\, Bucuresti
CATEGORIES:Club B52
ATTACH;FMTTYPE=image/jpeg:https://www.clubb52.ro/wp-content/uploads/2023/03/Reggae-Night-Party-by-Remi-01.04.23.jpg
ORGANIZER;CN="Club B52":MAILTO:office@clubb52.ro
END:VEVENT
BEGIN:VEVENT
DTSTART;TZID=Europe/Helsinki:20230406T210000
DTEND;TZID=Europe/Helsinki:20230407T050000
DTSTAMP:20260421T213050
CREATED:20230406T055628Z
LAST-MODIFIED:20230406T055628Z
UID:10000222-1680814800-1680843600@www.clubb52.ro
SUMMARY:Joi Impartit la 2 Party cu RAS-T
DESCRIPTION:Daca e joi\, totul e impartit la doi la B52. \nMai pe scurt\, la noi incepe weekendul in fiecare joi a saptamanii cu totul la jumatate de pret. Da\, da\, asa cum era pe vremuri. \nSa inceapa distractia\, socializarea si dansul pana dimineata! \nJoi\, 6 aprilie\, cu RAS-T la butoane muzicale. \nNe vedem de pe la orele 21 si stam pana dimineata sau pana ne tin picioarele. \nIntrare 20 lei.
URL:https://www.clubb52.ro/eveniment/joi-impartit-la-2-party-cu-ras-t/
LOCATION:Club B52\, Str. 11 iunie Nr.50\, Bucuresti
CATEGORIES:Club B52
ATTACH;FMTTYPE=image/jpeg:https://www.clubb52.ro/wp-content/uploads/2023/04/Joi-Impartit-la-2-Party-cu-RAS-T.jpg
ORGANIZER;CN="Club B52":MAILTO:office@clubb52.ro
END:VEVENT
BEGIN:VEVENT
DTSTART;TZID=Europe/Helsinki:20230407T220000
DTEND;TZID=Europe/Helsinki:20230408T050000
DTSTAMP:20260421T213050
CREATED:20230406T055943Z
LAST-MODIFIED:20230406T055943Z
UID:10000223-1680904800-1680930000@www.clubb52.ro
SUMMARY:BLOC PARTY 295 // KERI / RAS T / ASSAN
DESCRIPTION: Vineri 7 Aprilie ne intalnim la o noua editie Bloc Party.  Una dintre cele mai longevive petreceri de muzica urbana din Bucuresti scrie un nou capitol! \n\nLa aceasta editie il avem invitat special pe vechiul nostru prieten KERI. Acesta a facut parte mult timp din familia BlocParty. Recent el a lansat un nou album\, alaturi de Dedey – „Ultimul regat”.\n\nUn producator muzical desavarsit\, dar si un dj foarte bun\, KERI va asteapta cu o gramada de beat-uri tari!\n\nhttps://www.facebook.com/keriprod\nhttps://www.youtube.com/@BanditMusicRo\n\n Va asteptam in Club B52\, strada 11 iunie\, nr 50\, Bucuresti\, incepand cu orele 22:00.\n\nMusic and good vibes: \n KERI\n RAS T\n ASSAN\nDon’t forget\, if it’s Friday it’s #BlocParty! \n\n Artist support :\n22:00-24:00 – 20 Ron\n24:00-05:00 – 30 Ron
URL:https://www.clubb52.ro/eveniment/bloc-party-295-keri-ras-t-assan/
LOCATION:Club B52\, Str. 11 iunie Nr.50\, Bucuresti
CATEGORIES:Club B52
ATTACH;FMTTYPE=image/jpeg:https://www.clubb52.ro/wp-content/uploads/2023/04/BLOC-PARTY-295-KERI-RAS-T-ASSAN.jpg
ORGANIZER;CN="Club B52":MAILTO:office@clubb52.ro
END:VEVENT
BEGIN:VEVENT
DTSTART;TZID=Europe/Helsinki:20230408T210000
DTEND;TZID=Europe/Helsinki:20230409T050000
DTSTAMP:20260421T213050
CREATED:20230330T043508Z
LAST-MODIFIED:20230330T043508Z
UID:10000220-1680987600-1681016400@www.clubb52.ro
SUMMARY:Can't Touch This (80's & 90's Party) by Jiji
DESCRIPTION:B52 The Club\, sambata\, 8 aprilie\, orele 21. \nLet’s dance\, let’s party\, let’s touch this! \nJoin us and discover the spicy and groovy atmosphere of 80’s & 90’s\, blooms your senses with cool people and icy drinks. \nDj Jiji ne trece de la MC Hammer la Coco Jamboo si de la CC Catch la Duran Duran. \nSupport: 25 LEI
URL:https://www.clubb52.ro/eveniment/cant-touch-this-80s-90s-party-by-jiji-10/
LOCATION:Club B52\, Str. 11 iunie Nr.50\, Bucuresti
CATEGORIES:Club B52
ATTACH;FMTTYPE=image/jpeg:https://www.clubb52.ro/wp-content/uploads/2022/05/Cant-Touch-This-80-90s-Party-cu-Jiji.jpg
ORGANIZER;CN="Club B52":MAILTO:office@clubb52.ro
END:VEVENT
BEGIN:VEVENT
DTSTART;TZID=Europe/Helsinki:20230413T210000
DTEND;TZID=Europe/Helsinki:20230414T050000
DTSTAMP:20260421T213050
CREATED:20230413T071525Z
LAST-MODIFIED:20230413T071525Z
UID:10000224-1681419600-1681448400@www.clubb52.ro
SUMMARY:Joi Imparti La 2 Party
DESCRIPTION:Daca e joi\, totul e impartit la doi la B52. \nMai pe scurt\, la noi incepe weekendul in fiecare joi a saptamanii cu totul la jumatate de pret. Da\, da\, asa cum era pe vremuri. \nSa inceapa distractia\, socializarea si dansul pana dimineata! \nJoi\, 13 aprilie\, cu BARBU la butoane muzicale. \nNe vedem de pe la orele 21 si stam pana dimineata sau pana ne tin picioarele. \nIntrare 20 lei.
URL:https://www.clubb52.ro/eveniment/joi-imparti-la-2-party/
LOCATION:Club B52\, Str. 11 iunie Nr.50\, Bucuresti
CATEGORIES:Club B52
ATTACH;FMTTYPE=image/jpeg:https://www.clubb52.ro/wp-content/uploads/2023/04/Joi-Imparti-La-2-Party-13.04.jpg
ORGANIZER;CN="Club B52":MAILTO:office@clubb52.ro
END:VEVENT
BEGIN:VEVENT
DTSTART;TZID=Europe/Helsinki:20230414T220000
DTEND;TZID=Europe/Helsinki:20230415T050000
DTSTAMP:20260421T213050
CREATED:20230413T072508Z
LAST-MODIFIED:20230413T072508Z
UID:10000225-1681509600-1681534800@www.clubb52.ro
SUMMARY:BLAZING VIBEZ - REGGAE PARTY // RAS T / CHESARION / LABROS
DESCRIPTION: Blazing Vibez instigă la dans și distracție inca din 2010. Vă așteptăm vineri\, pe 14 Aprilie\, în Club B52 (str. 11 iunie\, nr. 50)\, cu același sound electrizant\, cu vibe-uri fierbinți și o tonă de amintiri gata de a fi regizate. \nDaca iti place muzica reggae si ritmurile jamaicane nu trebuie sa ratezi acest party \n================================================\n Lineup:\n Chesarion – Dancehall Don & Vibe Alchemist\n–––––––––––––––––––––\nhttps://www.mixcloud.com/Blazin…/chesarion-dancehall-hero/\nhttps://www.mixcloud.com/…/chesarion-dancehall-don-vol…/\n Ras T – Nu-Roots Revolutionary & Musical StoryTeller\n–––––––––––––––––––––––\nhttps://www.youtube.com/watch?v=GS_nDZs4bkY…\nhttps://www.mixcloud.com/vladrastaman/revolution-mix/\n Labros – Bass Philanthropist & Laid-back Energy Generator\n–––––––––––––––––––––––––\nhttps://www.facebook.com/labros.riddimental\nhttps://www.youtube.com/channel/UCur7NO46aOhroKCAfP64pRQ\n 14 Aprilie – B52 Club – 22.00!\nINTRARE: 20 Lei
URL:https://www.clubb52.ro/eveniment/blazing-vibez-reggae-party-ras-t-chesarion-labros/
LOCATION:Club B52\, Str. 11 iunie Nr.50\, Bucuresti
CATEGORIES:Club B52
ATTACH;FMTTYPE=image/jpeg:https://www.clubb52.ro/wp-content/uploads/2023/04/BLAZING-VIBEZ-REGGAE-PARTY-RAS-T-CHESARION-LABROS.jpg
ORGANIZER;CN="Club B52":MAILTO:office@clubb52.ro
END:VEVENT
BEGIN:VEVENT
DTSTART;TZID=Europe/Bucharest:20230420T210000
DTEND;TZID=Europe/Bucharest:20230421T050000
DTSTAMP:20260421T213050
CREATED:20230420T063835Z
LAST-MODIFIED:20230420T063835Z
UID:10000228-1682024400-1682053200@www.clubb52.ro
SUMMARY:Joi Impartit la 2 Party cu Gabi
DESCRIPTION:Daca e joi\, totul e impartit la doi la B52. \nMai pe scurt\, la noi incepe weekendul in fiecare joi a saptamanii cu totul la jumatate de pret. Da\, da\, asa cum era pe vremuri. \nSa inceapa distractia\, socializarea si dansul pana dimineata! \nJoi\, 20 aprilie\, cu GABI la butoane muzicale. \nNe vedem de pe la orele 21 si stam pana dimineata sau pana ne tin picioarele. \nIntrare 20 lei.
URL:https://www.clubb52.ro/eveniment/joi-impartit-la-2-party-cu-gabi-2/
LOCATION:Club B52\, Str. 11 iunie Nr.50\, Bucuresti
CATEGORIES:Club B52
ATTACH;FMTTYPE=image/jpeg:https://www.clubb52.ro/wp-content/uploads/2023/04/Joi-Impartit-la-2-Party-cu-Gabi.jpg
ORGANIZER;CN="Club B52":MAILTO:office@clubb52.ro
END:VEVENT
BEGIN:VEVENT
DTSTART;TZID=Europe/Moscow:20230421T210000
DTEND;TZID=Europe/Moscow:20230422T050000
DTSTAMP:20260421T213050
CREATED:20230413T072805Z
LAST-MODIFIED:20230413T083131Z
UID:10000226-1682110800-1682139600@www.clubb52.ro
SUMMARY:Back To The Future (80's & 90's Party)
DESCRIPTION:Back To The Future (80’s & 90’s Party) @ B52 The Club.\nDe ce?\nPentru ca melodiile alea din copilarie te-au facut sa fii tanarul de azi\, sa vrei sa petreci cat te tin curelele si asa o sa fii si pe viitor. Pentru ca sigur ai niste incaltari pe care vrei sa le arunci si nu te lasa inima\, iar mai bine le rupi pe ringul de dans. Pentru ca pop\, pentru ca dance\, pentru ca forever young.\nSi pentru ca vineri\, 21 aprilie\, incepem de la orele 21.\nDaca vrei sa tii o masa\, sa te mai odihnesti din cand in cand de la prea mult dans\, trebuie sa suni aici: 0753.315.563.\nIntrare: 20 lei.\nMusic by Bogdan Nicolescu – il stii de la Radio Seven.
URL:https://www.clubb52.ro/eveniment/back-to-the-future-80s-90s-party/
LOCATION:Club B52\, Str. 11 iunie Nr.50\, Bucuresti
CATEGORIES:Club B52
ATTACH;FMTTYPE=image/jpeg:https://www.clubb52.ro/wp-content/uploads/2023/04/Back-To-The-Future-80s-90s-Party.jpg
ORGANIZER;CN="Club B52":MAILTO:office@clubb52.ro
END:VEVENT
BEGIN:VEVENT
DTSTART;TZID=Europe/Moscow:20230422T210000
DTEND;TZID=Europe/Moscow:20230423T050000
DTSTAMP:20260421T213050
CREATED:20230413T083030Z
LAST-MODIFIED:20230413T083057Z
UID:10000227-1682197200-1682226000@www.clubb52.ro
SUMMARY:Mi-e Dor De Vama Veche Party (season at the end)
DESCRIPTION:Hey\, ladies\, hey fellas\, brothers and sisters\, anunt important!\nMI-E DOR DE VAMA VECHE PARTY ia vacanta in Bucuresti pana in luna octombrie 2023.\nA fost un sezon toamna-primavara fain si plin de surprize placute.\nAcum\, usor\, usor o sa vina timpul ca in weeekenduri chiar sa ne indreptam spre Vama Veche\, sa prindem rasaritul pe malul marii cu adevarat.\nAsa ca\, sambata\, 22 aprilie\, esti asteptat/a la B52 The Club pentru o petrecere de care o sa povestim pana la toamna.\nIncepem la orele 21:00.\nMuzica: posesor de laptop cu foldere muzicale – Gabi (E.M.I.L./Niste Baieti) – o sa trecem prin toate stilurile pertinente.\nIntrare: 20 lei.
URL:https://www.clubb52.ro/eveniment/mi-e-dor-de-vama-veche-party-season-at-the-end/
LOCATION:Club B52\, Str. 11 iunie Nr.50\, Bucuresti
CATEGORIES:Club B52
ATTACH;FMTTYPE=image/jpeg:https://www.clubb52.ro/wp-content/uploads/2020/02/Mi-e-Dor-De-Vama-Veche-Party-at-club-Fabrica-B52-1.jpg
ORGANIZER;CN="Club B52":MAILTO:office@clubb52.ro
END:VEVENT
BEGIN:VEVENT
DTSTART;TZID=Europe/Bucharest:20230427T210000
DTEND;TZID=Europe/Bucharest:20230428T050000
DTSTAMP:20260421T213050
CREATED:20230427T162709Z
LAST-MODIFIED:20230427T162709Z
UID:10000229-1682629200-1682658000@www.clubb52.ro
SUMMARY:Joi Impartit la 2 cu Remi
DESCRIPTION:Daca e joi\, totul e impartit la doi la B52. \nMai pe scurt\, la noi incepe weekendul in fiecare joi a saptamanii cu totul la jumatate de pret. Da\, da\, asa cum era pe vremuri. \nSa inceapa distractia\, socializarea si dansul pana dimineata! \nJoi\, 27 aprilie\, cu REMI la butoane muzicale. \nNe vedem de pe la orele 21 si stam pana dimineata sau pana ne tin picioarele. \nIntrare 20 lei.
URL:https://www.clubb52.ro/eveniment/joi-impartit-la-2-cu-remi/
LOCATION:Club B52\, Str. 11 iunie Nr.50\, Bucuresti
CATEGORIES:Club B52
ATTACH;FMTTYPE=image/jpeg:https://www.clubb52.ro/wp-content/uploads/2023/04/Joi-Impartit-la-2-cu-Remi.jpg
ORGANIZER;CN="Club B52":MAILTO:office@clubb52.ro
END:VEVENT
BEGIN:VEVENT
DTSTART;TZID=Europe/Bucharest:20230428T220000
DTEND;TZID=Europe/Bucharest:20230429T050000
DTSTAMP:20260421T213050
CREATED:20230427T162853Z
LAST-MODIFIED:20230427T162853Z
UID:10000230-1682719200-1682744400@www.clubb52.ro
SUMMARY:Bomber Fridays Party by Gabi
DESCRIPTION:Clubul cu nume de avion e echipat cu Jägerbombs si alte muniții colorate\, mai grele sau mai ușoare\, atât la bar cât și la muzică. \nSe cheamă Bomber Fridays și ești invitat. \nIntrarea 20 lei. \nVineri\, 28 aprilie\, B52 The Club\, str. 11 iunie\, nr 50\, orele 22:00 pana dimineata. \nOn decks: Gabi – alternative\, pop\, reggae\, hip-hop\, electro
URL:https://www.clubb52.ro/eveniment/bomber-fridays-party-by-gabi/
LOCATION:Club B52\, Str. 11 iunie Nr.50\, Bucuresti
CATEGORIES:Club B52
ATTACH;FMTTYPE=image/jpeg:https://www.clubb52.ro/wp-content/uploads/2021/10/Bomber-Fridays-cu-Gabi.jpg
ORGANIZER;CN="Club B52":MAILTO:office@clubb52.ro
END:VEVENT
BEGIN:VEVENT
DTSTART;TZID=Europe/Bucharest:20230429T220000
DTEND;TZID=Europe/Bucharest:20230430T050000
DTSTAMP:20260421T213050
CREATED:20230427T163133Z
LAST-MODIFIED:20230427T163133Z
UID:10000231-1682805600-1682830800@www.clubb52.ro
SUMMARY:Color Me Wild Party by Remi
DESCRIPTION:Pentru ca sambata este cea mai importanta zi din saptamana\, pentru ca la club B52 (str. 11 iunie\, nr 50) iese cel mai nebun party\, pentru ca petrecem pana dimineata in zori\, pentru\, pentru si iarasi pentru. \nSambata\, 29 aprilie\, orele 22:00. \nSupport: 20 lei. \nOn decks: Remi.
URL:https://www.clubb52.ro/eveniment/color-me-wild-party-by-remi-2/
LOCATION:Club B52\, Str. 11 iunie Nr.50\, Bucuresti
CATEGORIES:Club B52
ATTACH;FMTTYPE=image/jpeg:https://www.clubb52.ro/wp-content/uploads/2019/10/Color-Me-Wild-Party-Saturdays-at-B52.jpg
ORGANIZER;CN="Club B52":MAILTO:office@clubb52.ro
END:VEVENT
END:VCALENDAR