BEGIN:VCALENDAR
VERSION:2.0
PRODID:-//Club B52, Strada 11 Iunie, nr. 50 - Cluburi Bucuresti - ECPv6.15.20//NONSGML v1.0//EN
CALSCALE:GREGORIAN
METHOD:PUBLISH
X-WR-CALNAME:Club B52, Strada 11 Iunie, nr. 50 - Cluburi Bucuresti
X-ORIGINAL-URL:https://www.clubb52.ro
X-WR-CALDESC:Evenimente pentru Club B52, Strada 11 Iunie, nr. 50 - Cluburi Bucuresti
REFRESH-INTERVAL;VALUE=DURATION:PT1H
X-Robots-Tag:noindex
X-PUBLISHED-TTL:PT1H
BEGIN:VTIMEZONE
TZID:Europe/Helsinki
BEGIN:DAYLIGHT
TZOFFSETFROM:+0200
TZOFFSETTO:+0300
TZNAME:EEST
DTSTART:20220327T010000
END:DAYLIGHT
BEGIN:STANDARD
TZOFFSETFROM:+0300
TZOFFSETTO:+0200
TZNAME:EET
DTSTART:20221030T010000
END:STANDARD
BEGIN:DAYLIGHT
TZOFFSETFROM:+0200
TZOFFSETTO:+0300
TZNAME:EEST
DTSTART:20230326T010000
END:DAYLIGHT
BEGIN:STANDARD
TZOFFSETFROM:+0300
TZOFFSETTO:+0200
TZNAME:EET
DTSTART:20231029T010000
END:STANDARD
BEGIN:DAYLIGHT
TZOFFSETFROM:+0200
TZOFFSETTO:+0300
TZNAME:EEST
DTSTART:20240331T010000
END:DAYLIGHT
BEGIN:STANDARD
TZOFFSETFROM:+0300
TZOFFSETTO:+0200
TZNAME:EET
DTSTART:20241027T010000
END:STANDARD
END:VTIMEZONE
BEGIN:VEVENT
DTSTART;TZID=Europe/Helsinki:20230302T200000
DTEND;TZID=Europe/Helsinki:20230302T220000
DTSTAMP:20260421T230811
CREATED:20230131T124901Z
LAST-MODIFIED:20230217T064623Z
UID:10000173-1677787200-1677794400@www.clubb52.ro
SUMMARY:Teatru: Cand Cupidon E Chior
DESCRIPTION:Cand Cupidon E Chior \nUn manunchi de texte foarte bine scrise\, un spectacol savuros\, presarat cu momente comice\, in care nu ai cum sa nu te regasesti macar un pic\, 3 cupluri si 6 posibilitati de relationare in dragoste\, 3 perechi si 6 situatii diferite. Dupa o saptamana grea\, meriti si tu o seara de relaxare\, o seara in care sa razi cu gura pana la urechi si sa te destresezi\, sa te amuzi si sa te energizezi alaturi de o trupa pestrita de teatru. Te asteptam cu mare drag! \nDistributia: Stefana Badiu\, Lavinia Alexandru\, Oana Burcescu si Marius Patulea. \nRegie colectiva! \nZiua: 23 februarie 2023\nOra: 20:00\nPret bilet online: 40 lei – click aici: https://bit.ly/3H5jqhu\nRezervari locuri: 0753.315.563. – dupa ce ati achizitionat biletul online\, sunati la acest numar de telefon sa faceti rezervarea de loc cu nume si prenume.
URL:https://www.clubb52.ro/eveniment/teatru-cand-cupidon-e-chior/
LOCATION:Club B52\, Str. 11 iunie Nr.50\, Bucuresti
CATEGORIES:Club B52
ATTACH;FMTTYPE=image/jpeg:https://www.clubb52.ro/wp-content/uploads/2023/01/Teatru-Cand-Cupidon-E-Chior.jpg
ORGANIZER;CN="Club B52":MAILTO:office@clubb52.ro
END:VEVENT
BEGIN:VEVENT
DTSTART;TZID=Europe/Helsinki:20230303T210000
DTEND;TZID=Europe/Helsinki:20230304T050000
DTSTAMP:20260421T230811
CREATED:20230217T070011Z
LAST-MODIFIED:20230217T070011Z
UID:10000122-1677877200-1677906000@www.clubb52.ro
SUMMARY:Girls Aloud Party by Gilda & Ana
DESCRIPTION:GIRLS ALOUD PARTY by Gilda Comarzan & Ana Coman. \nUn party mai altfel si cu siguranta de nepierdut. Pe Gilda o stiti\, ca ne trezeste in fiecare dimineata cu vocea ei inconfundabila la radio\, iar Ana ne (in)canta cu vocea ei\, tot inconfundabila\, seara la concerte prin diverse cluburi si festivaluri. \nDe data asta vin la B52 The Club\, vineri\, 3 martie\, orele 21\, cu muzica faina\, cu muzica fresh\, cu muzica de party\, sa ne tina la dans pana dimineata.\nNu e de ratat. Save the date! \nIntrare: 20 lei.
URL:https://www.clubb52.ro/eveniment/girls-aloud-party-by-gilda-ana/
LOCATION:Club B52\, Str. 11 iunie Nr.50\, Bucuresti
CATEGORIES:Club B52
ATTACH;FMTTYPE=image/jpeg:https://www.clubb52.ro/wp-content/uploads/2023/02/Girls-Aloud-Party-by-Gilda-Ana.jpg
ORGANIZER;CN="Club B52":MAILTO:office@clubb52.ro
END:VEVENT
BEGIN:VEVENT
DTSTART;TZID=Europe/Helsinki:20230304T210000
DTEND;TZID=Europe/Helsinki:20230305T050000
DTSTAMP:20260421T230811
CREATED:20230223T070113Z
LAST-MODIFIED:20230223T070113Z
UID:10000125-1677963600-1677992400@www.clubb52.ro
SUMMARY:Reggae Night Party by Remi
DESCRIPTION:Remi said: „Iubesc să văd oamenii bucurându-se de muzică\, de viață și de bucuria de a fi împreună. Muzica reggae a fost pentru mine companie în momente dificile ale vieții\, momente ce m-au adus aici. Cu muzica și cu iubire pentru ceea ce fac\, vă invit să dansăm\, cu credință în viață\, în frumusețea muzicii și în bucuria de a fi împreună.” \nSambata\, 4 martie\, B52 The Club.\nIncep la orele 21:00 si stau pana dimineata.\nSupport: 20 lei.
URL:https://www.clubb52.ro/eveniment/reggae-night-party-by-remi-8/
LOCATION:Club B52\, Str. 11 iunie Nr.50\, Bucuresti
CATEGORIES:Club B52
ATTACH;FMTTYPE=image/jpeg:https://www.clubb52.ro/wp-content/uploads/2023/02/Reggae-Night-Party-by-Remi-04.03.jpg
ORGANIZER;CN="Club B52":MAILTO:office@clubb52.ro
END:VEVENT
BEGIN:VEVENT
DTSTART;TZID=Europe/Helsinki:20230308T193000
DTEND;TZID=Europe/Helsinki:20230308T213000
DTSTAMP:20260421T230811
CREATED:20230303T161818Z
LAST-MODIFIED:20230303T161818Z
UID:10000204-1678303800-1678311000@www.clubb52.ro
SUMMARY:Cabaret Masculin / Taboo Boys
DESCRIPTION:Ora 19.30 veti avea parte de o ora de distractie ( curs gratuit Salsa Bachata \,Merengue) cu maesttrul Cristi Pietricica \,iar de la ora 20.30 spectacol Cabaret Masculin cu Taboo Boys.\n\nFinger food inclus în prețul biletului.\n\nSărbătorim ziua femeii zi de zi\, dar o facem să devină și mai spectaculoasă de 𝟖 𝐌𝐚𝐫𝐭𝐢𝐞!\n\nFie că este vorba de mămici\, soţii\, iubite\, prietene sau colege\, cu toţii transmitem în această zi un gând bun către persoanele dragi de sex feminin din viaţa noastră și ne străduim ca de fiecare dată să o facem memorabil!\n\n𝐂𝐞𝐥 𝐦𝐚𝐢 𝐞𝐱𝐜𝐞𝐧𝐭𝐫𝐢𝐜 𝐬𝐡𝐨𝐰 𝐦𝐚𝐬𝐜𝐮𝐥𝐢𝐧 𝐛𝐲 𝐓𝐚𝐛𝐨𝐨 𝐁𝐨𝐲𝐬 & 𝐑𝐞𝐦𝐮𝐬 𝐁𝐚𝐫𝐛𝐮!
URL:https://www.clubb52.ro/eveniment/cabaret-masculin-taboo-boys/
LOCATION:Club B52\, Str. 11 iunie Nr.50\, Bucuresti
CATEGORIES:Club B52
ATTACH;FMTTYPE=image/jpeg:https://www.clubb52.ro/wp-content/uploads/2023/03/Cabaret-Masculin-Taboo-Boys.jpg
ORGANIZER;CN="Club B52":MAILTO:office@clubb52.ro
END:VEVENT
BEGIN:VEVENT
DTSTART;TZID=Europe/Helsinki:20230310T220000
DTEND;TZID=Europe/Helsinki:20230311T050000
DTSTAMP:20260421T230811
CREATED:20230303T120038Z
LAST-MODIFIED:20230303T120038Z
UID:10000127-1678485600-1678510800@www.clubb52.ro
SUMMARY:BLOC PARTY 294 // DJ OLDSKULL / RAS T / ASSAN
DESCRIPTION: Vineri 10 Martie ne intalnim la o noua editie Bloc Party.  Una dintre cele mai longevive petreceri de muzica urbana din Bucuresti scrie un nou capitol! \n\n Va asteptam in Club B52\, strada 11 iunie\, Bucuresti\, incepand cu orele 22:00.\n\nMusic and good vibes: \n DJ Oldskull\n Ras T\n Assan\nDon’t forget\, if it’s Friday it’s #BlocParty! \n Artist support: 20 de lei
URL:https://www.clubb52.ro/eveniment/bloc-party-294-dj-oldskull-ras-t-assan/
LOCATION:Club B52\, Str. 11 iunie Nr.50\, Bucuresti
CATEGORIES:Club B52
ATTACH;FMTTYPE=image/jpeg:https://www.clubb52.ro/wp-content/uploads/2023/03/BLOC-PARTY-294-DJ-OLDSKULL-RAS-T-ASSAN.jpg
ORGANIZER;CN="Club B52":MAILTO:office@clubb52.ro
END:VEVENT
BEGIN:VEVENT
DTSTART;TZID=Europe/Helsinki:20230311T220000
DTEND;TZID=Europe/Helsinki:20230312T050000
DTSTAMP:20260421T230811
CREATED:20230303T120426Z
LAST-MODIFIED:20230303T120426Z
UID:10000129-1678572000-1678597200@www.clubb52.ro
SUMMARY:Lost&Found
DESCRIPTION:Muzici electronice cu multe frecvențe joase\, livrate coerent și mixate chirurgical. DnB\, grime\, garage\, bass house\, electro-alternative\, pentru o seară cu mult hype.\n\nSe întâmplă sâmbătă pe 11 martie\, în club B52 (str. 11 Iunie\, nr.50).\n\nIntrare: 15 RON
URL:https://www.clubb52.ro/eveniment/lostfound/
LOCATION:Club B52\, Str. 11 iunie Nr.50\, Bucuresti
CATEGORIES:Club B52
ATTACH;FMTTYPE=image/jpeg:https://www.clubb52.ro/wp-content/uploads/2023/03/LostFound.jpg
ORGANIZER;CN="Club B52":MAILTO:office@clubb52.ro
END:VEVENT
BEGIN:VEVENT
DTSTART;TZID=Europe/Helsinki:20230317T220000
DTEND;TZID=Europe/Helsinki:20230318T050000
DTSTAMP:20260421T230811
CREATED:20230309T070324Z
LAST-MODIFIED:20230309T070337Z
UID:10000207-1679090400-1679115600@www.clubb52.ro
SUMMARY:BLAZING VIBEZ - Reggae Party
DESCRIPTION: Blazing Vibez instigă la dans și distracție inca din 2010. Vă așteptăm vineri\, pe 17 Martie\, în Club B52 (str. 11 iunie\, nr. 50)\, cu același sound electrizant\, cu vibe-uri fierbinți și o tonă de amintiri gata de a fi regizate. \n\nDaca iti place muzica reggae si ritmurile jamaicane nu trebuie sa ratezi acest party \n================================================\n Lineup:\n Chesarion – Dancehall Don & Vibe Alchemist\n–––––––––––––––––––––\nhttps://www.mixcloud.com/Blazin…/chesarion-dancehall-hero/\nhttps://www.mixcloud.com/…/chesarion-dancehall-don-vol…/\n Ras T – Nu-Roots Revolutionary & Musical StoryTeller\n–––––––––––––––––––––––\nhttps://www.youtube.com/watch?v=GS_nDZs4bkY…\nhttps://www.mixcloud.com/vladrastaman/revolution-mix/\n Labros – Bass Philanthropist & Laid-back Energy Generator\n–––––––––––––––––––––––––\nhttps://www.facebook.com/labros.riddimental\nhttps://www.youtube.com/channel/UCur7NO46aOhroKCAfP64pRQ\n\n 17 Martie – B52 Club – 22.00!\n\nArtist Support: 20 Lei
URL:https://www.clubb52.ro/eveniment/blazing-vibez-reggae-party-14/
LOCATION:Club B52\, Str. 11 iunie Nr.50\, Bucuresti
CATEGORIES:Club B52
ATTACH;FMTTYPE=image/jpeg:https://www.clubb52.ro/wp-content/uploads/2023/03/BLAZING-VIBEZ-Reggae-Party-17-martie.jpg
ORGANIZER;CN="Club B52":MAILTO:office@clubb52.ro
END:VEVENT
BEGIN:VEVENT
DTSTART;TZID=Europe/Helsinki:20230318T210000
DTEND;TZID=Europe/Helsinki:20230319T050000
DTSTAMP:20260421T230811
CREATED:20230303T120629Z
LAST-MODIFIED:20230303T120629Z
UID:10000175-1679173200-1679202000@www.clubb52.ro
SUMMARY:Can't Touch This (80's & 90's Party) by Jiji
DESCRIPTION:B52 The Club\, sambata\, 18 martie\, orele 21. \nLet’s dance\, let’s party\, let’s touch this! \nJoin us and discover the spicy and groovy atmosphere of 80’s & 90’s\, blooms your senses with cool people and icy drinks. \nDj Jiji ne trece de la MC Hammer la Coco Jamboo si de la CC Catch la Duran Duran. \nSupport: 25 LEI
URL:https://www.clubb52.ro/eveniment/cant-touch-this-80s-90s-party-by-jiji-9/
LOCATION:Club B52\, Str. 11 iunie Nr.50\, Bucuresti
CATEGORIES:Club B52
ATTACH;FMTTYPE=image/jpeg:https://www.clubb52.ro/wp-content/uploads/2022/04/Cant-Touch-This-80s-90s-Party-cu-Jiji.jpg
ORGANIZER;CN="Club B52":MAILTO:office@clubb52.ro
END:VEVENT
BEGIN:VEVENT
DTSTART;TZID=Europe/Helsinki:20230323T210000
DTEND;TZID=Europe/Helsinki:20230324T050000
DTSTAMP:20260421T230811
CREATED:20230309T070625Z
LAST-MODIFIED:20230309T070625Z
UID:10000210-1679605200-1679634000@www.clubb52.ro
SUMMARY:Joi Impartit la 2 Party
DESCRIPTION:Daca e joi\, totul e impartit la doi la B52. \nMai pe scurt\, la noi incepe weekendul in fiecare joi a saptamanii cu totul la jumatate de pret. Da\, da\, asa cum era pe vremuri. \nSa inceapa distractia\, socializarea si dansul pana dimineata! \nJoi\, 23 martie\, pornim campania de dans general cu Remi la butoane muzicale. \nNe vedem de pe la orele 21 si stam pana dimineata sau pana ne tin picioarele. \nIntrare 20 lei.
URL:https://www.clubb52.ro/eveniment/joi-impartit-la-2-party/
LOCATION:Club B52\, Str. 11 iunie Nr.50\, Bucuresti
CATEGORIES:Club B52
ATTACH;FMTTYPE=image/jpeg:https://www.clubb52.ro/wp-content/uploads/2023/03/Joi-Impartit-la-2-Party.jpg
ORGANIZER;CN="Club B52":MAILTO:office@clubb52.ro
END:VEVENT
BEGIN:VEVENT
DTSTART;TZID=Europe/Helsinki:20230324T210000
DTEND;TZID=Europe/Helsinki:20230325T050000
DTSTAMP:20260421T230811
CREATED:20230309T070924Z
LAST-MODIFIED:20230309T070924Z
UID:10000213-1679691600-1679720400@www.clubb52.ro
SUMMARY:Mi-e Dor De Vama Veche Party
DESCRIPTION:B52 The Club & club Fabrica\, (str. 11 iunie\, nr 50)\, vineri\, 24 martie\, de la orele 21:00. \nO sa avem de toate ca la Vama Veche\, mai putin nisip.  \nO intrunire menita sa ne aduca zambetul pe urechi pana la buze si sa socializam pana-n zori. \nMuzica:\nPosesor de laptop: Gabi (E.M.I.L./Niste Baieti) – alternative\, rock\, reggae\, hip-hop\, electro\, ska\, pop – trecem prin toate \nBilet intrare: 20 lei. \n2 cluburi legate intre ele printr-o pasarela\, 1 dj = acelasi party cu aceeasi muzica.
URL:https://www.clubb52.ro/eveniment/mi-e-dor-de-vama-veche-party-4/
LOCATION:Club B52\, Str. 11 iunie Nr.50\, Bucuresti
CATEGORIES:Club B52
ATTACH;FMTTYPE=image/jpeg:https://www.clubb52.ro/wp-content/uploads/2020/02/Mi-e-Dor-De-Vama-Veche-Party-at-club-Fabrica-B52-1.jpg
ORGANIZER;CN="Club B52":MAILTO:office@clubb52.ro
END:VEVENT
BEGIN:VEVENT
DTSTART;TZID=Europe/Helsinki:20230325T220000
DTEND;TZID=Europe/Helsinki:20230326T050000
DTSTAMP:20260421T230811
CREATED:20230322T064306Z
LAST-MODIFIED:20230322T064306Z
UID:10000215-1679781600-1679806800@www.clubb52.ro
SUMMARY:AFRO VIBES VOL.VIII // DXNGER x SAINTHOOD x MOTOPAPI x MC MULLAN x LOLO
DESCRIPTION:AFRO VIBES PARTY – VOL.VIII is happening on SATURDAY\, 25th of MARCH at B52 The Club (Str. 11 iunie\, 50)\n Afrobeat / Afrohouse / Amapiano / Dancehall / Shatta / Brazilian Funk / Hip-Hop & RnB\n SERVED BY: DJs DXNGER x SAINTHOOD x MOTOPAPI\nSPECIAL PERFORMANCE : LOLO (DJEMBE)\nHYPED BY : MC MULLAN\n Entrance fee : 40 RON\n\nTickets can be purchased at the entrance (Cash only)\nTable reservations : +40 753 315 563
URL:https://www.clubb52.ro/eveniment/afro-vibes-vol-viii-dxnger-x-sainthood-x-motopapi-x-mc-mullan-x-lolo/
LOCATION:Club B52\, Str. 11 iunie Nr.50\, Bucuresti
CATEGORIES:Club B52
ATTACH;FMTTYPE=image/jpeg:https://www.clubb52.ro/wp-content/uploads/2023/03/AFRO-VIBES-VOL.VIII-DXNGER-x-SAINTHOOD-x-MOTOPAPI-x-MC-MULLAN-x-LOLO.jpg
ORGANIZER;CN="Club B52":MAILTO:office@clubb52.ro
END:VEVENT
BEGIN:VEVENT
DTSTART;TZID=Europe/Helsinki:20230330T210000
DTEND;TZID=Europe/Helsinki:20230331T050000
DTSTAMP:20260421T230811
CREATED:20230330T043304Z
LAST-MODIFIED:20230330T043304Z
UID:10000221-1680210000-1680238800@www.clubb52.ro
SUMMARY:Joi Impartit la 2 Party cu Gabi
DESCRIPTION:Daca e joi\, totul e impartit la doi la B52. \nMai pe scurt\, la noi incepe weekendul in fiecare joi a saptamanii cu totul la jumatate de pret. Da\, da\, asa cum era pe vremuri. \nSa inceapa distractia\, socializarea si dansul pana dimineata! \nJoi\, 30 martie\, cu Gabi la butoane muzicale. \nNe vedem de pe la orele 21 si stam pana dimineata sau pana ne tin picioarele. \nIntrare 20 lei.
URL:https://www.clubb52.ro/eveniment/joi-impartit-la-2-party-cu-gabi/
LOCATION:Club B52\, Str. 11 iunie Nr.50\, Bucuresti
CATEGORIES:Club B52
ATTACH;FMTTYPE=image/jpeg:https://www.clubb52.ro/wp-content/uploads/2023/03/Joi-Impartit-la-2-Party-cu-Gabi.jpg
ORGANIZER;CN="Club B52":MAILTO:office@clubb52.ro
END:VEVENT
BEGIN:VEVENT
DTSTART;TZID=Europe/Helsinki:20230331T220000
DTEND;TZID=Europe/Helsinki:20230401T050000
DTSTAMP:20260421T230811
CREATED:20230322T064608Z
LAST-MODIFIED:20230322T064703Z
UID:10000217-1680300000-1680325200@www.clubb52.ro
SUMMARY:Music Is My Aeroplane Party
DESCRIPTION:Born from punk-rock and madly in love with sweet reggae music and hip hop mixes\, traveling from legendary indie hits to best dance-rock anthems to bang your head on\, Barbu will take you through a spinning music carousel that won’t keep you still all night.\n\n„I like pleasure spiked with pain\nAnd music is my aeroplane”\nAnthony Kiedis\nTONE TAVI\n\nAn adventurous and eclectic wizard\, Tavi has been playing music for as long as he can remember and still possesses the energy to surprise you with the variety of genres he tackles and the amazing selection he handles with the meticulousness of a true music maniac. If it’s groovy\, he’ll play it and the synergy of danceable beats will mollify you and you’ll end up with a restless leg syndrome.\n\nEntrance: 20 lei.
URL:https://www.clubb52.ro/eveniment/music-is-my-aeroplane-party/
LOCATION:Club B52\, Str. 11 iunie Nr.50\, Bucuresti
CATEGORIES:Club B52
ATTACH;FMTTYPE=image/jpeg:https://www.clubb52.ro/wp-content/uploads/2023/03/Music-Is-My-Aeroplane-Party-31.03.23.jpg
ORGANIZER;CN="Club B52":MAILTO:office@clubb52.ro
END:VEVENT
END:VCALENDAR