BEGIN:VCALENDAR
VERSION:2.0
PRODID:-//Club B52, Strada 11 Iunie, nr. 50 - Cluburi Bucuresti - ECPv6.15.20//NONSGML v1.0//EN
CALSCALE:GREGORIAN
METHOD:PUBLISH
X-WR-CALNAME:Club B52, Strada 11 Iunie, nr. 50 - Cluburi Bucuresti
X-ORIGINAL-URL:https://www.clubb52.ro
X-WR-CALDESC:Evenimente pentru Club B52, Strada 11 Iunie, nr. 50 - Cluburi Bucuresti
REFRESH-INTERVAL;VALUE=DURATION:PT1H
X-Robots-Tag:noindex
X-PUBLISHED-TTL:PT1H
BEGIN:VTIMEZONE
TZID:Europe/Helsinki
BEGIN:DAYLIGHT
TZOFFSETFROM:+0200
TZOFFSETTO:+0300
TZNAME:EEST
DTSTART:20220327T010000
END:DAYLIGHT
BEGIN:STANDARD
TZOFFSETFROM:+0300
TZOFFSETTO:+0200
TZNAME:EET
DTSTART:20221030T010000
END:STANDARD
BEGIN:DAYLIGHT
TZOFFSETFROM:+0200
TZOFFSETTO:+0300
TZNAME:EEST
DTSTART:20230326T010000
END:DAYLIGHT
BEGIN:STANDARD
TZOFFSETFROM:+0300
TZOFFSETTO:+0200
TZNAME:EET
DTSTART:20231029T010000
END:STANDARD
BEGIN:DAYLIGHT
TZOFFSETFROM:+0200
TZOFFSETTO:+0300
TZNAME:EEST
DTSTART:20240331T010000
END:DAYLIGHT
BEGIN:STANDARD
TZOFFSETFROM:+0300
TZOFFSETTO:+0200
TZNAME:EET
DTSTART:20241027T010000
END:STANDARD
END:VTIMEZONE
BEGIN:VEVENT
DTSTART;TZID=Europe/Helsinki:20230203T220000
DTEND;TZID=Europe/Helsinki:20230204T050000
DTSTAMP:20260422T003620
CREATED:20230121T070853Z
LAST-MODIFIED:20230121T070853Z
UID:10000170-1675461600-1675486800@www.clubb52.ro
SUMMARY:Urban Groove Party
DESCRIPTION:Long time\, no see!\nVineri\, 3 februarie\, facem un party special. \nMai stii cum erau pe vremuri serile de dans la Hefe (Coma)? Dar ia gandeste-te ca acum i se alatura Brugner! O sa fie dans pana dimineata.\nCine nu a uitat\, stie ca o sa iasa cum trebuie. Cine nu a fost pana acum\, e timpul sa o faca si nu va regreta.\nDistractia este garantata. \nUrban Groove Party\, vineri\, 3 februarie\, interval orar 22:00-05:00\nIntrare: 20 lei.
URL:https://www.clubb52.ro/eveniment/urban-groove-party-2/
LOCATION:Club B52\, Str. 11 iunie Nr.50\, Bucuresti
CATEGORIES:Club B52
ATTACH;FMTTYPE=image/jpeg:https://www.clubb52.ro/wp-content/uploads/2023/01/Urban-Groove-Party.jpg
ORGANIZER;CN="Club B52":MAILTO:office@clubb52.ro
END:VEVENT
BEGIN:VEVENT
DTSTART;TZID=Europe/Helsinki:20230204T220000
DTEND;TZID=Europe/Helsinki:20230205T050000
DTSTAMP:20260422T003620
CREATED:20230121T071115Z
LAST-MODIFIED:20230121T071115Z
UID:10000171-1675548000-1675573200@www.clubb52.ro
SUMMARY:Music Is My Aeroplane Party by Barbu
DESCRIPTION:Pentru ca sambata este cea mai importanta zi din saptamana\, pentru ca la club B52 iese cel mai nebun party\, pentru ca petrecem pana dimineata in zori\, pentru\, pentru si iarasi pentru. \nSambata\, 4 februarie\, orele 22:00.\nOn decks: Barbu – alternative rock\, pop\, ska – party mode.\nIntrare – 20 lei.
URL:https://www.clubb52.ro/eveniment/music-is-my-aeroplane-party-by-barbu-2/
LOCATION:Club B52\, Str. 11 iunie Nr.50\, Bucuresti
CATEGORIES:Club B52
ATTACH;FMTTYPE=image/jpeg:https://www.clubb52.ro/wp-content/uploads/2023/01/Music-Is-My-Aeroplane-Party-by-Barbu.jpg
ORGANIZER;CN="Club B52":MAILTO:office@clubb52.ro
END:VEVENT
BEGIN:VEVENT
DTSTART;TZID=Europe/Helsinki:20230210T220000
DTEND;TZID=Europe/Helsinki:20230211T050000
DTSTAMP:20260422T003620
CREATED:20230208T161543Z
LAST-MODIFIED:20230208T161543Z
UID:10000113-1676066400-1676091600@www.clubb52.ro
SUMMARY:Hituri\, Nu Bulls'hituri Party by Gabi
DESCRIPTION:Vineri\, 10 februarie\, orele 22:00. \nB52 The Club\, str. 11 iunie\, nr 50. \nDansam si ne mai aducem aminte de melodiile noastre de suflet\, care ne-au marcat anumite momente din viata\, dar care probabil\, cu timpul\, s-au mai uitat…..si melodiile si momentele.\nMuzica: Gabi- E.M.I.L./Niste Baieti (alternative\, rock\, electro\, ska\, reggae\, hip-hop\, pop\, d’n’b) \nIntrare: 20 lei.
URL:https://www.clubb52.ro/eveniment/hituri-nu-bullshituri-party-by-gabi-4/
LOCATION:Club B52\, Str. 11 iunie Nr.50\, Bucuresti
CATEGORIES:Club B52
ATTACH;FMTTYPE=image/jpeg:https://www.clubb52.ro/wp-content/uploads/2019/10/Hituri-NU-Bulls-hituri-Party-at-club-B52.jpg
ORGANIZER;CN="Club B52":MAILTO:office@clubb52.ro
END:VEVENT
BEGIN:VEVENT
DTSTART;TZID=Europe/Helsinki:20230211T220000
DTEND;TZID=Europe/Helsinki:20230212T050000
DTSTAMP:20260422T003620
CREATED:20230208T161932Z
LAST-MODIFIED:20230208T161932Z
UID:10000115-1676152800-1676178000@www.clubb52.ro
SUMMARY:Blazing Vibez - Reggae Party
DESCRIPTION:Blazing Vibez instigă la dans și distracție. Vă așteptăm sambata\, pe 11 Februarie\, în Club B52 (str. 11 iunie\, nr. 50)\, cu același sound electrizant\, cu vibe-uri fierbinți și o tonă de amintiri gata de a fi regizate.\n===================================================\nLineup:\nChesarion – Dancehall Don & Vibe Alchemist\n–––––––––––––––––––––\nhttps://www.mixcloud.com/Blazin…/chesarion-dancehall-hero/\nhttps://www.mixcloud.com/…/chesarion-dancehall-don-vol…/\nYardie Flo (BASSKA) – Riddim Ninja & Microphone Marshall\n–––––––––––––––––––––––––\nhttps://www.facebook.com/YardieFlo\nhttps://www.facebook.com/BasskaOfficial\nRas T – Nu-Roots Revolutionary & Musical StoryTeller\n–––––––––––––––––––––––\nhttps://www.youtube.com/watch?v=GS_nDZs4bkY… \n\n11 Februarie – B52 Club – 22.00!\nArtist Support: 20 Lei
URL:https://www.clubb52.ro/eveniment/blazing-vibez-reggae-party-13/
LOCATION:Club B52\, Str. 11 iunie Nr.50\, Bucuresti
CATEGORIES:Club B52
ATTACH;FMTTYPE=image/jpeg:https://www.clubb52.ro/wp-content/uploads/2023/02/Blazing-Vibez-Reggae-Party.jpg
ORGANIZER;CN="Club B52":MAILTO:office@clubb52.ro
END:VEVENT
BEGIN:VEVENT
DTSTART;TZID=Europe/Helsinki:20230217T220000
DTEND;TZID=Europe/Helsinki:20230218T050000
DTSTAMP:20260422T003620
CREATED:20230131T125236Z
LAST-MODIFIED:20230131T125236Z
UID:10000174-1676671200-1676696400@www.clubb52.ro
SUMMARY:BLOC PARTY 293 // DJ POLICY (Ibiza/UK) / DJ OLDSKULL / RAS T / ASSAN
DESCRIPTION:⚠️ Vineri 17 Februarie\, ne intalnim la o noua editie de colectie Bloc Party. Una dintre cele mai longevive petreceri de muzica urbana din Bucuresti scrie un nou capitol! 🔥\n‼️De data aceasta avem un invitat special venit de pe taramurile calde ale insulei IBIZA. ☀️ \n🎧 DJ POLCIY – este un talentat DJ cu origini britance\, care face furori la cele mai bune petreceri de pe insula spaniola. Este un performer versatil si entuziastic\, cunoscut pentru skill-urile lui in materie de turntable-ism. Nativ din Londra\, DJ POLICY este specializat in hip-hop\, dancehall\, afrobeat\, UKG & mixed house vibes. POLICY a avut rezidentiate in mai multe cluburi din IBIZA\, din care putem aminti cateva: O Beach\, Ushuaia\, Hi\, Ibiza Rocks\, Eden\, Privilege precum si in faimosul Soul City. \n💥 Pentru ca seara sa fie completa\, lui i se vor alatura DJii rezidenti BLOC PARTY: 🔊🔥\n🎧 DJ OLDSKULL\n🎧 RAS T\n🎧 ASSAN \n💥 Va asteptam in Club B52\, strada 11 iunie\, nr 50\, Bucuresti\, incepand cu orele 22:00 pentru o petrecere cu tema urbana de neuitat! 🔊🔥🔊 \nINTRARE: 30 LEI \n🔹Don’t forget\, if it’s Friday it’s #BlocParty! 🔸
URL:https://www.clubb52.ro/eveniment/bloc-party-293-dj-policy-ibiza-uk-dj-oldskull-ras-t-assan/
LOCATION:Club B52\, Str. 11 iunie Nr.50\, Bucuresti
CATEGORIES:Club B52
ATTACH;FMTTYPE=image/jpeg:https://www.clubb52.ro/wp-content/uploads/2023/01/BLOC-PARTY-293-DJ-POLICY-Ibiza-UK-DJ-OLDSKULL-RAS-T-ASSAN.jpg
ORGANIZER;CN="Club B52":MAILTO:office@clubb52.ro
END:VEVENT
BEGIN:VEVENT
DTSTART;TZID=Europe/Helsinki:20230218T210000
DTEND;TZID=Europe/Helsinki:20230219T050000
DTSTAMP:20260422T003620
CREATED:20230208T162158Z
LAST-MODIFIED:20230208T162158Z
UID:10000116-1676754000-1676782800@www.clubb52.ro
SUMMARY:Can't Touch This (80's & 90's Party) by Jiji
DESCRIPTION:B52 The Club\, sambata\, 18 februarie\, orele 21 si in club Fabrica\, dupa miezul noptii – 2 cluburi\, aceeasi muzica\, 1 singur DJ. \nLet’s dance\, let’s party\, let’s touch this! \nJoin us and discover the spicy and groovy atmosphere of 80’s & 90’s\, blooms your senses with cool people and icy drinks. \nDj Jiji ne trece de la MC Hammer la Coco Jamboo si de la CC Catch la Duran Duran. \nSupport: 20 LEI
URL:https://www.clubb52.ro/eveniment/cant-touch-this-80s-90s-party-by-jiji-8/
LOCATION:Club B52\, Str. 11 iunie Nr.50\, Bucuresti
CATEGORIES:Club B52
ATTACH;FMTTYPE=image/jpeg:https://www.clubb52.ro/wp-content/uploads/2022/05/Cant-Touch-This-80-90s-Party-cu-Jiji.jpg
ORGANIZER;CN="Club B52":MAILTO:office@clubb52.ro
END:VEVENT
BEGIN:VEVENT
DTSTART;TZID=Europe/Helsinki:20230223T200000
DTEND;TZID=Europe/Helsinki:20230223T230000
DTSTAMP:20260422T003620
CREATED:20230217T065754Z
LAST-MODIFIED:20230217T065754Z
UID:10000120-1677182400-1677193200@www.clubb52.ro
SUMMARY:Teatru: FLAGRANT
DESCRIPTION:Joi\, 23 februarie\, de la orele 20\, esti invitat la teatru in B52 The Club. \nBilete 40 lei. Click aici –  \n„Când ești prins în flagrant\, viața ți se schimbă în bine sau în rău?\nDouă femei\, un bărbat și trei posibilități: o femeie pasională\, insă singură de mult timp\, care și-ar fi dorit o altă viață (poate și o altă carieră\, una mai palpitantă\, așa cum vom vedea)\, un infractor sărac în idei și o femeie de serviciu „profesionistă”\, care nu scapă ocazia să iși arate spiritul de observație specific acestei tagme.\nExistă oameni care se tem de neprevăzut și oameni care văd în orice lucru\, fie și rău\, o oportunitate.\nVom descoperi soluțiile într-o comedie spumoasă\, delicioasă și captivantă. \nDistributie: Ștefana Badiu\, Cătălin Lungu\, Carmen M. Sascău.
URL:https://www.clubb52.ro/eveniment/teatru-flagrant/
LOCATION:Club B52\, Str. 11 iunie Nr.50\, Bucuresti
CATEGORIES:Club B52
ATTACH;FMTTYPE=image/jpeg:https://www.clubb52.ro/wp-content/uploads/2023/02/Teatru-FLAGRANT.jpg
ORGANIZER;CN="Club B52":MAILTO:office@clubb52.ro
END:VEVENT
BEGIN:VEVENT
DTSTART;TZID=Europe/Helsinki:20230224T220000
DTEND;TZID=Europe/Helsinki:20230225T050000
DTSTAMP:20260422T003620
CREATED:20230223T065829Z
LAST-MODIFIED:20230223T065913Z
UID:10000123-1677276000-1677301200@www.clubb52.ro
SUMMARY:AFRO VIBES VOL.VII // DXNGER x SAINTHOOD x MOTOPAPI x AYABA x JOHN BAM x PAPI x MC MULLAN
DESCRIPTION:AFRO VIBES PARTY – VOL.VII is happening on FRIDAY\, 24th of FEBRUARY at B52 The Club (Str. 11 iunie\, 50)\n✨ Afrobeat / Afrohouse / Amapiano / Dancehall / Shatta / Brazilian Funk / Hip-Hop & RnB\n✨ SERVED BY: DJs DXNGER x SAINTHOOD x MOTOPAPI x AYABA x PAPI x JOHN BAM\n✨ HYPED BY: MC MULLAN\n✨ Entrance fee: 40 RON \nTickets can be purchased at the entrance (Cash only)\nTable reservations : +40 753 315 563\n#afrovibesparty #diafrovibesparty\n#dj #djdxnger #afropartyinbucharest
URL:https://www.clubb52.ro/eveniment/afro-vibes-vol-vii-dxnger-x-sainthood-x-motopapi-x-ayaba-x-john-bam-x-papi-x-mc-mullan/
LOCATION:Club B52\, Str. 11 iunie Nr.50\, Bucuresti
CATEGORIES:Club B52
ATTACH;FMTTYPE=image/jpeg:https://www.clubb52.ro/wp-content/uploads/2023/02/AFRO-VIBES-VOL.VII-DXNGER-x-SAINTHOOD-x-MOTOPAPI-x-AYABA-x-JOHN-BAM-x-PAPI-x-MC-MULLAN.jpg
ORGANIZER;CN="Club B52":MAILTO:office@clubb52.ro
END:VEVENT
BEGIN:VEVENT
DTSTART;TZID=Europe/Helsinki:20230225T210000
DTEND;TZID=Europe/Helsinki:20230226T050000
DTSTAMP:20260422T003620
CREATED:20230217T065251Z
LAST-MODIFIED:20230217T065251Z
UID:10000118-1677358800-1677387600@www.clubb52.ro
SUMMARY:Mi-e Dor De Vama Veche Party
DESCRIPTION:B52 The Club\, (str. 11 iunie\, nr 50)\, sambata\, 25 februarie\, de la orele 21:00.\nO sa avem de toate ca la Vama Veche\, mai putin nisip. 🙂\nO intrunire menita sa ne aduca zambetul pe urechi pana la buze si sa socializam pana-n zori. \nMuzica:\nPosesor de laptop: Gabi (E.M.I.L./Niste Baieti) – alternative\, rock\, reggae\, hip-hop\, electro\, ska\, pop – trecem prin toate \nBilet intrare: 20 lei.
URL:https://www.clubb52.ro/eveniment/mi-e-dor-de-vama-veche-party-3/
LOCATION:Club B52\, Str. 11 iunie Nr.50\, Bucuresti
CATEGORIES:Club B52
ATTACH;FMTTYPE=image/jpeg:https://www.clubb52.ro/wp-content/uploads/2020/02/Mi-e-Dor-De-Vama-Veche-Party-at-club-Fabrica-B52-1.jpg
ORGANIZER;CN="Club B52":MAILTO:office@clubb52.ro
END:VEVENT
END:VCALENDAR