BEGIN:VCALENDAR
VERSION:2.0
PRODID:-//Club B52, Strada 11 Iunie, nr. 50 - Cluburi Bucuresti - ECPv6.15.20//NONSGML v1.0//EN
CALSCALE:GREGORIAN
METHOD:PUBLISH
X-ORIGINAL-URL:https://www.clubb52.ro
X-WR-CALDESC:Evenimente pentru Club B52, Strada 11 Iunie, nr. 50 - Cluburi Bucuresti
REFRESH-INTERVAL;VALUE=DURATION:PT1H
X-Robots-Tag:noindex
X-PUBLISHED-TTL:PT1H
BEGIN:VTIMEZONE
TZID:Europe/Helsinki
BEGIN:DAYLIGHT
TZOFFSETFROM:+0200
TZOFFSETTO:+0300
TZNAME:EEST
DTSTART:20220327T010000
END:DAYLIGHT
BEGIN:STANDARD
TZOFFSETFROM:+0300
TZOFFSETTO:+0200
TZNAME:EET
DTSTART:20221030T010000
END:STANDARD
BEGIN:DAYLIGHT
TZOFFSETFROM:+0200
TZOFFSETTO:+0300
TZNAME:EEST
DTSTART:20230326T010000
END:DAYLIGHT
BEGIN:STANDARD
TZOFFSETFROM:+0300
TZOFFSETTO:+0200
TZNAME:EET
DTSTART:20231029T010000
END:STANDARD
BEGIN:DAYLIGHT
TZOFFSETFROM:+0200
TZOFFSETTO:+0300
TZNAME:EEST
DTSTART:20240331T010000
END:DAYLIGHT
BEGIN:STANDARD
TZOFFSETFROM:+0300
TZOFFSETTO:+0200
TZNAME:EET
DTSTART:20241027T010000
END:STANDARD
END:VTIMEZONE
BEGIN:VEVENT
DTSTART;TZID=Europe/Helsinki:20230106T220000
DTEND;TZID=Europe/Helsinki:20230107T050000
DTSTAMP:20260422T021112
CREATED:20230102T191955Z
LAST-MODIFIED:20230102T191955Z
UID:10000177-1673042400-1673067600@www.clubb52.ro
SUMMARY:Don't Grow Up\, It's a Trap by Tavi Tone
DESCRIPTION:Nici nu am terminat bine cu Revelionul ca la B52 incepem noul an de party-uri de weekend. \nPornim la drum cu ceva special: DON’T GROW UP\, IT’s TRAP\, party cu istorie bogata in spate by Tavi Tone. \nFigură legendară a scenei underground de la noi din țară\, Tavi Tone s-a remarcat mai ales ca fiind membru fondator a unor cluburi notorii din Vama Veche și București\, locuri ce au fost la vremea lor adevărate oaze de muzică bună. \nAre la activ sezoane întregi de rezidență în Vama Veche. De altfel pune muzică de prin 99 și încă surprinde prin varietatea genurilor abordate și a selecției extraordinare de care se ocupă cu\nmeticulozitatea unui adevărat colecționar. \nTone Tavi e un scamator aventuros si eclectic și ne putem aștepta să ne poarte intr-un adevarat carusel de stiluri și emoții\, cu piese cunoscute\, dar și edituri\, B-side-uri sau alte remixuri și rarități:\nVama Veche Vibes ★ Classic Rock Edits ★ Alternative ★ Synth Pop ★ New Wave ★ Post Punk ★ Indie ★ Disco & More \nmixcloud.com/tone-tavi \nIntrare: 20 lei.
URL:https://www.clubb52.ro/eveniment/dont-grow-up-its-a-trap-by-tavi-tone/
LOCATION:Club B52\, Str. 11 iunie Nr.50\, Bucuresti
CATEGORIES:Club B52
ATTACH;FMTTYPE=image/jpeg:https://www.clubb52.ro/wp-content/uploads/2023/01/Dont-Grow-Up-Its-a-Trap-by-Tavi-Tone.jpg
ORGANIZER;CN="Club B52":MAILTO:office@clubb52.ro
END:VEVENT
BEGIN:VEVENT
DTSTART;TZID=Europe/Helsinki:20230107T220000
DTEND;TZID=Europe/Helsinki:20230108T050000
DTSTAMP:20260422T021112
CREATED:20230102T192216Z
LAST-MODIFIED:20230102T192216Z
UID:10000160-1673128800-1673154000@www.clubb52.ro
SUMMARY:Music Is My Aeroplane Party by Barbu
DESCRIPTION:Pentru ca sambata este cea mai importanta zi din saptamana\, pentru ca la club B52 iese cel mai nebun party\, pentru ca petrecem pana dimineata in zori\, pentru\, pentru si iarasi pentru. \nSambata\, 7 ianuarie\, orele 22:00. \nOn decks: Barbu – alternative rock\, pop\, ska – party mode. \nIntrare – 20 lei.
URL:https://www.clubb52.ro/eveniment/music-is-my-aeroplane-party-by-barbu/
LOCATION:Club B52\, Str. 11 iunie Nr.50\, Bucuresti
CATEGORIES:Club B52
ATTACH;FMTTYPE=image/jpeg:https://www.clubb52.ro/wp-content/uploads/2023/01/Music-Is-My-Aeroplane-Party-by-Barb.jpg
ORGANIZER;CN="Club B52":MAILTO:office@clubb52.ro
END:VEVENT
BEGIN:VEVENT
DTSTART;TZID=Europe/Helsinki:20230113T210000
DTEND;TZID=Europe/Helsinki:20230114T050000
DTSTAMP:20260422T021112
CREATED:20230104T201122Z
LAST-MODIFIED:20230104T201122Z
UID:10000159-1673643600-1673672400@www.clubb52.ro
SUMMARY:Hituri\, Nu Bull Hituri Party by Gabi
DESCRIPTION:Vineri\, 13 ianuarie\, orele 21:00. \nB52 The Club\, str. 11 iunie\, nr 50. \nDansam si ne mai aducem aminte de melodiile noastre de suflet\, care ne-au marcat anumite momente din viata\, dar care probabil\, cu timpul\, s-au mai uitat…..si melodiile si momentele. \nMuzica: Gabi- E.M.I.L./Niste Baieti (alternative\, rock\, electro\, ska\, reggae\, hip-hop\, pop\, d’n’b) \nIntrare: 20 lei.
URL:https://www.clubb52.ro/eveniment/hituri-nu-bull-hituri-party-by-gabi/
LOCATION:Club B52\, Str. 11 iunie Nr.50\, Bucuresti
CATEGORIES:Club B52
ATTACH;FMTTYPE=image/jpeg:https://www.clubb52.ro/wp-content/uploads/2019/10/Hituri-NU-Bulls-hituri-Party-at-club-B52.jpg
ORGANIZER;CN="Club B52":MAILTO:office@clubb52.ro
END:VEVENT
BEGIN:VEVENT
DTSTART;TZID=Europe/Helsinki:20230114T220000
DTEND;TZID=Europe/Helsinki:20230115T050000
DTSTAMP:20260422T021112
CREATED:20230104T201548Z
LAST-MODIFIED:20230104T201548Z
UID:10000162-1673733600-1673758800@www.clubb52.ro
SUMMARY:AFRO VIBES VOL.VI // DXNGER x SAINTHOOD x MOTOPAPI x MC MULLAN
DESCRIPTION:AFRO VIBES PARTY – VOL.VI is happening on Saturday\, 14th of JANUARY at B52 The Club (Str. 11 iunie\, 50) \n✨ Afrobeat / Afrohouse / Amapiano / Dancehall / Shatta / Brazilian Funk / Hip-Hop & RnB\n✨ SERVED BY: DJs DXNGER x SAINTHOOD x MOTOPAPI\n✨HYPED BY : MC MULLAN\n✨ Entrance fee : 40 RON \nTickets can be purchased at the entrance (Cash only)\nTable reservations : +40 753 315 563 \n#afrovibesparty #diafrovibesparty\n#dj #djdxnger #afropartyinbucharest
URL:https://www.clubb52.ro/eveniment/afro-vibes-vol-vi-dxnger-x-sainthood-x-motopapi-x-mc-mullan/
LOCATION:Club B52\, Str. 11 iunie Nr.50\, Bucuresti
CATEGORIES:Club B52
ATTACH;FMTTYPE=image/jpeg:https://www.clubb52.ro/wp-content/uploads/2023/01/AFRO-VIBES-VOL.VI-DXNGER-x-SAINTHOOD-x-MOTOPAPI-x-MC-MULLAN.jpg
ORGANIZER;CN="Club B52":MAILTO:office@clubb52.ro
END:VEVENT
BEGIN:VEVENT
DTSTART;TZID=Europe/Helsinki:20230120T210000
DTEND;TZID=Europe/Helsinki:20230121T050000
DTSTAMP:20260422T021112
CREATED:20230104T201734Z
LAST-MODIFIED:20230104T201734Z
UID:10000163-1674248400-1674277200@www.clubb52.ro
SUMMARY:Can't Touch This (80's & 90's Party) by Jiji
DESCRIPTION:B52 The Club & Fabrica la etaj – vineri\, 20 ianuarie\, orele 21. \nLet’s dance\, let’s party\, let’s touch this! \nJoin us and discover the spicy and groovy atmosphere of 80’s & 90’s\, blooms your senses with cool people and icy drinks. \nDj Jiji ne trece de la MC Hammer la Coco Jamboo si de la CC Catch la Duran Duran. \nSupport: 20 lei
URL:https://www.clubb52.ro/eveniment/cant-touch-this-80s-90s-party-by-jiji-7/
LOCATION:Club B52\, Str. 11 iunie Nr.50\, Bucuresti
CATEGORIES:Club B52
ATTACH;FMTTYPE=image/jpeg:https://www.clubb52.ro/wp-content/uploads/2022/04/Cant-Touch-This-80s-90s-Party-cu-Jiji.jpg
ORGANIZER;CN="Club B52":MAILTO:office@clubb52.ro
END:VEVENT
BEGIN:VEVENT
DTSTART;TZID=Europe/Helsinki:20230121T220000
DTEND;TZID=Europe/Helsinki:20230122T050000
DTSTAMP:20260422T021112
CREATED:20230121T070246Z
LAST-MODIFIED:20230121T070419Z
UID:10000167-1674338400-1674363600@www.clubb52.ro
SUMMARY:Blazing Vibez Party
DESCRIPTION:Blazing Vibez instigă la dans și distracție. Vă așteptăm sambata\, pe 21 Ianuarie\, în B52 (str. 11 iunie\, nr. 50)\, cu același sound electrizant\, cu vibe-uri fierbinți și o tonă de amintiri gata de a fi regizate.\n=================================================\nLineup: \nChesarion – Dancehall Don & Vibe Alchemist\n–––––––––––––––––––––\nhttps://www.mixcloud.com/Blazin…/chesarion-dancehall-hero/\nhttps://www.mixcloud.com/…/chesarion-dancehall-don-vol…/ \nRas T – Nu-Roots Revolutionary & Musical StoryTeller\n–––––––––––––––––––––– \n\n\nLABROS – Bass Philanthropist & Laid-back Energy Generator\n––––––––––––––––––––––\nhttps://www.facebook.com/labros.riddimental\nhttps://www.youtube.com/channel/UCur7NO46aOhroKCAfP64pRQ \n21 Ianuarie – B52 Club – 22:00!\nArtist Support: 20 Lei
URL:https://www.clubb52.ro/eveniment/blazing-vibez-party/
LOCATION:Club B52\, Str. 11 iunie Nr.50\, Bucuresti
CATEGORIES:Club B52
ATTACH;FMTTYPE=image/jpeg:https://www.clubb52.ro/wp-content/uploads/2023/01/Blazing-Vibez-Party-21.01.2023.jpg
ORGANIZER;CN="Club B52":MAILTO:office@clubb52.ro
END:VEVENT
BEGIN:VEVENT
DTSTART;TZID=Europe/Helsinki:20230127T210000
DTEND;TZID=Europe/Helsinki:20230128T050000
DTSTAMP:20260422T021112
CREATED:20230108T145546Z
LAST-MODIFIED:20230108T145546Z
UID:10000165-1674853200-1674882000@www.clubb52.ro
SUMMARY:Reggae Night Party by Remi
DESCRIPTION:Iubesc să văd oamenii bucurându-se de muzică\, de viață și de bucuria de a fi împreună. Muzica reggae a fost pentru mine companie în momente dificile ale vieții\, momente ce m-au adus aici. Cu muzica și cu iubire pentru ceea ce fac\, vă invit să dansăm\, cu credință în viață\, în frumusețea muzicii și în bucuria de a fi împreună. \nVineri\, 27 ianuarie\, B52 The Club. \nIncep la orele 21:00 si stau pana dimineata. \nSupport: 20 lei.
URL:https://www.clubb52.ro/eveniment/reggae-night-party-by-remi-7/
LOCATION:Club B52\, Str. 11 iunie Nr.50\, Bucuresti
CATEGORIES:Club B52
ATTACH;FMTTYPE=image/jpeg:https://www.clubb52.ro/wp-content/uploads/2023/01/Reggae-Night-Party-by-Remi-27.01.jpg
ORGANIZER;CN="Club B52":MAILTO:office@clubb52.ro
END:VEVENT
BEGIN:VEVENT
DTSTART;TZID=Europe/Helsinki:20230128T210000
DTEND;TZID=Europe/Helsinki:20230129T050000
DTSTAMP:20260422T021112
CREATED:20230121T070639Z
LAST-MODIFIED:20230121T070639Z
UID:10000168-1674939600-1674968400@www.clubb52.ro
SUMMARY:Mi-e Dor De Vama Veche Party
DESCRIPTION:Oh\, my god\, we’re back again! \nB52 The Club (str. 11 iunie\, nr 50)\, sambata\, 28 ianuarie\, de la orele 21:00.\nO sa avem de toate ca la Vama Veche\, mai putin nisip. 🙂\nO intrunire menita sa ne aduca zambetul pe urechi pana la buze si sa socializam pana-n zori. \nMuzica:\nPosesor de laptop: Gabi (E.M.I.L./Niste Baieti) – alternative\, rock\, reggae\, hip-hop\, electro\, ska\, pop – trecem prin toate \nBilet intrare: 20 lei.
URL:https://www.clubb52.ro/eveniment/mi-e-dor-de-vama-veche-party-2/
LOCATION:Club B52\, Str. 11 iunie Nr.50\, Bucuresti
CATEGORIES:Club B52
ATTACH;FMTTYPE=image/jpeg:https://www.clubb52.ro/wp-content/uploads/2022/10/Mi-e-Dor-De-Vama-Veche-Party-29.10.2022.jpg
ORGANIZER;CN="Club B52":MAILTO:office@clubb52.ro
END:VEVENT
END:VCALENDAR