BEGIN:VCALENDAR
VERSION:2.0
PRODID:-//Club B52, Strada 11 Iunie, nr. 50 - Cluburi Bucuresti - ECPv6.15.20//NONSGML v1.0//EN
CALSCALE:GREGORIAN
METHOD:PUBLISH
X-WR-CALNAME:Club B52, Strada 11 Iunie, nr. 50 - Cluburi Bucuresti
X-ORIGINAL-URL:https://www.clubb52.ro
X-WR-CALDESC:Evenimente pentru Club B52, Strada 11 Iunie, nr. 50 - Cluburi Bucuresti
REFRESH-INTERVAL;VALUE=DURATION:PT1H
X-Robots-Tag:noindex
X-PUBLISHED-TTL:PT1H
BEGIN:VTIMEZONE
TZID:Europe/Helsinki
BEGIN:DAYLIGHT
TZOFFSETFROM:+0200
TZOFFSETTO:+0300
TZNAME:EEST
DTSTART:20210328T010000
END:DAYLIGHT
BEGIN:STANDARD
TZOFFSETFROM:+0300
TZOFFSETTO:+0200
TZNAME:EET
DTSTART:20211031T010000
END:STANDARD
BEGIN:DAYLIGHT
TZOFFSETFROM:+0200
TZOFFSETTO:+0300
TZNAME:EEST
DTSTART:20220327T010000
END:DAYLIGHT
BEGIN:STANDARD
TZOFFSETFROM:+0300
TZOFFSETTO:+0200
TZNAME:EET
DTSTART:20221030T010000
END:STANDARD
BEGIN:DAYLIGHT
TZOFFSETFROM:+0200
TZOFFSETTO:+0300
TZNAME:EEST
DTSTART:20230326T010000
END:DAYLIGHT
BEGIN:STANDARD
TZOFFSETFROM:+0300
TZOFFSETTO:+0200
TZNAME:EET
DTSTART:20231029T010000
END:STANDARD
END:VTIMEZONE
BEGIN:VEVENT
DTSTART;TZID=Europe/Helsinki:20221104T220000
DTEND;TZID=Europe/Helsinki:20221105T050000
DTSTAMP:20260422T052136
CREATED:20221028T080147Z
LAST-MODIFIED:20221028T080147Z
UID:10000219-1667599200-1667624400@www.clubb52.ro
SUMMARY:BLOC PARTY 291// RAS T// KOMBAT// ASSAN
DESCRIPTION:⚠️ Vineri 4 noiembrie ne intalnim la o noua editie Bloc Party. 🔊 Una dintre cele mai longevive petreceri de muzica urbana din Bucuresti scrie un nou capitol! 🔥 \n💥 Va asteptam in Club B52\, strada 11 iunie\, Bucuresti\, incepand cu orele 22:00. \nMusic and good vibes: 🔊🔥\n🎧 Ras T\n🎧 Kombat\n🎧 Assan \n🔹Don’t forget\, if it’s Friday it’s #BlocParty! 🔸 \n✅ Artist support :20 de lei \nParteneri oficiali: Skills Loading Room🍸Ministry of Hip Hop
URL:https://www.clubb52.ro/eveniment/bloc-party-291-ras-t-kombat-assan/
LOCATION:Club B52\, Str. 11 iunie Nr.50\, Bucuresti
CATEGORIES:Club B52
ATTACH;FMTTYPE=image/jpeg:https://www.clubb52.ro/wp-content/uploads/2022/10/BLOC-PARTY-291-VINERI-4-NOIEMBRIE-RAS-T-KOMBAT-ASSAN.jpg
ORGANIZER;CN="Club B52":MAILTO:office@clubb52.ro
END:VEVENT
BEGIN:VEVENT
DTSTART;TZID=Europe/Helsinki:20221105T210000
DTEND;TZID=Europe/Helsinki:20221106T050000
DTSTAMP:20260422T052136
CREATED:20221028T080409Z
LAST-MODIFIED:20221028T080409Z
UID:10000182-1667682000-1667710800@www.clubb52.ro
SUMMARY:Hituri\, Nu Bulls'hituri Party by Gabi
DESCRIPTION:Sambata\, 5 noiembrie\, orele 21:00. \nB52 The Club\, str. 11 iunie\, nr 50. \nDansam si ne mai aducem aminte de melodiile noastre de suflet\, care ne-au marcat anumite momente din viata\, dar care probabil\, cu timpul \,s-au mai uitat…..si melodiile si momentele. \nMuzica: Gabi- E.M.I.L./Niste Baieti (alternative\, rock\, electro\, ska\, reggae\, hip-hop\, pop\, d’n’b) \nIntrare: 20 lei.
URL:https://www.clubb52.ro/eveniment/hituri-nu-bullshituri-party-by-gabi-2/
LOCATION:Club B52\, Str. 11 iunie Nr.50\, Bucuresti
CATEGORIES:Club B52
ATTACH;FMTTYPE=image/jpeg:https://www.clubb52.ro/wp-content/uploads/2022/06/Hituri-Nu-Bullshituri-Party-at-B52-The-Club-second-edition.jpg
ORGANIZER;CN="Club B52":MAILTO:office@clubb52.ro
END:VEVENT
BEGIN:VEVENT
DTSTART;TZID=Europe/Helsinki:20221111T210000
DTEND;TZID=Europe/Helsinki:20221112T050000
DTSTAMP:20260422T052136
CREATED:20221028T080830Z
LAST-MODIFIED:20221028T080830Z
UID:10000183-1668200400-1668229200@www.clubb52.ro
SUMMARY:Can't Touch This (80's & 90's Party) by Jiji
DESCRIPTION:B52 The Club & club Fabrica – vineri\, 11 noiembrie\, start orele 21. \nLet’s dance\, let’s party\, let’s touch this! \nJoin us and discover the spicy and groovy atmosphere of 80’s & 90’s\, blooms your senses with cool people and icy drinks. \nDj Jiji ne trece de la MC Hammer la Coco Jamboo si de la CC Catch la Duran Duran. \nBilet: 20 LEI \nDoua cluburi\, un singur dj\, aceesi muzica. \nIn B52 The Club va incepe la orele 21:00\, iar in club Fabrica dupa miezul noptii\, dupa concertul E.M.I.L.
URL:https://www.clubb52.ro/eveniment/cant-touch-this-80s-90s-party-by-jiji-6/
LOCATION:Club B52\, Str. 11 iunie Nr.50\, Bucuresti
CATEGORIES:Club B52
ATTACH;FMTTYPE=image/jpeg:https://www.clubb52.ro/wp-content/uploads/2022/05/Cant-Touch-This-80-90s-Party-cu-Jiji.jpg
ORGANIZER;CN="Club B52":MAILTO:office@clubb52.ro
END:VEVENT
BEGIN:VEVENT
DTSTART;TZID=Europe/Helsinki:20221112T210000
DTEND;TZID=Europe/Helsinki:20221113T050000
DTSTAMP:20260422T052136
CREATED:20221028T081231Z
LAST-MODIFIED:20221028T081231Z
UID:10000185-1668286800-1668315600@www.clubb52.ro
SUMMARY:Urban Groove Party
DESCRIPTION:Long time\, no see! \nSambata\, 12 noiembrie\, facem un party special. Mai stii cum erau pe vremuri serile de dans la Hefe (Coma)? Dar ia gandeste-te ca acum i se alatura Brugner! O sa fie dans pana dimineata.\nCine nu a uitat\, stie ca o sa iasa cum trebuie. Cine nu a fost pana acum\, e timpul sa o faca si nu va regreta. \nDistractia este garantata. \nUrban Groove Party\, sambata 12 noiembrie\, interval orar 21:00 – 05:00. \nIntrare: 20 lei.
URL:https://www.clubb52.ro/eveniment/urban-groove-party/
LOCATION:Club B52\, Str. 11 iunie Nr.50\, Bucuresti
CATEGORIES:Club B52
ATTACH;FMTTYPE=image/jpeg:https://www.clubb52.ro/wp-content/uploads/2022/10/Urban-Groove-Party.jpg
ORGANIZER;CN="Club B52":MAILTO:office@clubb52.ro
END:VEVENT
BEGIN:VEVENT
DTSTART;TZID=Europe/Helsinki:20221118T220000
DTEND;TZID=Europe/Helsinki:20221119T050000
DTSTAMP:20260422T052136
CREATED:20221117T081806Z
LAST-MODIFIED:20221117T081922Z
UID:10000187-1668808800-1668834000@www.clubb52.ro
SUMMARY:Battle MC: In Chains
DESCRIPTION:Revenim in Bucuresti cu o noua preselectie „In Chains”. \nPe data de 18 Noiembrie in Club B52 din Bucuresti va invitam la o noua seara de Battle Rap. Castigatorul serii se va alege cu un lant de aur cu Battle MC de 24k si se va califica in finala de 8 lanturi unde pana acum avem deja 3 dintre finalisti. \nStart inscrieri! \nTe poti inscrie in competitie cu un mesaj privat pe Battle MC Romania cu mesajul: „Nume de scena\, varsta si un numar de telefon” \nLa platane: Dj Serbanesku\nIntrare: 20 lei
URL:https://www.clubb52.ro/eveniment/battle-mc-in-chains/
LOCATION:Club B52\, Str. 11 iunie Nr.50\, Bucuresti
CATEGORIES:Club B52
ATTACH;FMTTYPE=image/jpeg:https://www.clubb52.ro/wp-content/uploads/2022/11/Battle-MC-In-Chains.jpg
ORGANIZER;CN="Club B52":MAILTO:office@clubb52.ro
END:VEVENT
BEGIN:VEVENT
DTSTART;TZID=Europe/Helsinki:20221119T220000
DTEND;TZID=Europe/Helsinki:20221120T060000
DTSTAMP:20260422T052136
CREATED:20221117T082120Z
LAST-MODIFIED:20221117T082120Z
UID:10000189-1668895200-1668924000@www.clubb52.ro
SUMMARY:Blazing Vibez Reggae Party
DESCRIPTION:Blazing Vibez instigă la dans și distracție. Vă așteptăm sambata\, pe 19 Noiembrie\, în B52 (str. 11 iunie\, nr. 50)\, cu același sound electrizant\, cu vibe-uri fierbinți și o tonă de amintiri gata de a fi regizate.\n===================================================\nLineup:\nChesarion – Dancehall Don & Vibe Alchemist\n–––––––––––––––––––––\nhttps://www.mixcloud.com/Blazin…/chesarion-dancehall-hero/\nhttps://www.mixcloud.com/…/chesarion-dancehall-don-vol…/\nDj Oldskull – Sound Architect & Mixing Arts Master\n–––––––––––––––––––––––––\nhttps://www.facebook.com/DjOldskull/\nhttps://www.mixcloud.com/discover/dj-oldskull/\nRas T – Nu-Roots Revolutionary & Musical StoryTeller\n––––––––––––––––––––––– \n\n\n–––––––––––––––––––––––––\n11 iunie – B52 Club – 22.00!\nArtist Support: 20 Lei
URL:https://www.clubb52.ro/eveniment/blazing-vibez-reggae-party-12/
LOCATION:Club B52\, Str. 11 iunie Nr.50\, Bucuresti
CATEGORIES:Club B52
ATTACH;FMTTYPE=image/jpeg:https://www.clubb52.ro/wp-content/uploads/2022/11/Blazing-Vibez-Reggae-Party-19.11.jpg
ORGANIZER;CN="Club B52":MAILTO:office@clubb52.ro
END:VEVENT
BEGIN:VEVENT
DTSTART;TZID=Europe/Helsinki:20221124T210000
DTEND;TZID=Europe/Helsinki:20221125T050000
DTSTAMP:20260422T052136
CREATED:20221117T082437Z
LAST-MODIFIED:20221117T082437Z
UID:10000190-1669323600-1669352400@www.clubb52.ro
SUMMARY:Joi Impartit la 2
DESCRIPTION:Daca e joi\, totul e impartit la doi la B52. \nMai pe scurt\, la noi incepe weekendul in fiecare joi a saptamanii cu totul la jumatate de pret. Da\, da\, asa cum era pe vremuri. \nSa inceapa distractia\, socializarea si dansul pana dimineata! \nJoi\, 24 noiembrie\, pornim campania de dans general cu Barbu (E.M.I.L.) la butoane muzicale.\nNe vedem de pe la orele 21 si stam pana dimineata sau pana ne tin picioarele. \nIntrare 20 lei
URL:https://www.clubb52.ro/eveniment/joi-impartit-la-2/
LOCATION:Club B52\, Str. 11 iunie Nr.50\, Bucuresti
CATEGORIES:Club B52
ATTACH;FMTTYPE=image/jpeg:https://www.clubb52.ro/wp-content/uploads/2022/11/Joi-Impartit-la-2.jpg
ORGANIZER;CN="Club B52":MAILTO:office@clubb52.ro
END:VEVENT
BEGIN:VEVENT
DTSTART;TZID=Europe/Helsinki:20221125T210000
DTEND;TZID=Europe/Helsinki:20221126T050000
DTSTAMP:20260422T052136
CREATED:20221117T082716Z
LAST-MODIFIED:20221117T082716Z
UID:10000192-1669410000-1669438800@www.clubb52.ro
SUMMARY:Reggae Night Party by Remi
DESCRIPTION:Iubesc să văd oamenii bucurându-se de muzică\, de viață și de bucuria de a fi împreună. Muzica reggae a fost pentru mine companie în momente dificile ale vieții\, momente ce m-au adus aici. Cu muzica și cu iubire pentru ceea ce fac\, vă invit să dansăm\, cu credință în viață\, în frumusețea muzicii și în bucuria de a fi împreună. \nVineri\, 25 noiembrie\, B53 The Club.\nIncep la orele 21:00 si stau pana dimineata. \nSupport: 15 lei
URL:https://www.clubb52.ro/eveniment/reggae-night-party-by-remi-6/
LOCATION:Club B52\, Str. 11 iunie Nr.50\, Bucuresti
CATEGORIES:Club B52
ATTACH;FMTTYPE=image/jpeg:https://www.clubb52.ro/wp-content/uploads/2022/11/Reggae-Night-Party-by-Remi-25.11.jpg
ORGANIZER;CN="Club B52":MAILTO:office@clubb52.ro
END:VEVENT
BEGIN:VEVENT
DTSTART;TZID=Europe/Helsinki:20221126T220000
DTEND;TZID=Europe/Helsinki:20221127T050000
DTSTAMP:20260422T052136
CREATED:20221126T211536Z
LAST-MODIFIED:20221126T211536Z
UID:10000198-1669500000-1669525200@www.clubb52.ro
SUMMARY:AFRO VIBES VOL.V // DXNGER x SAINTHOOD x MOTOPAPI x MC MULLAN
DESCRIPTION:AFRO VIBES PARTY – VOL.V is happening on Saturday\, 26th of November at B52 The Club (Str. 11 iunie\, 50) \n✨ Afrobeat / Afrohouse / Amapiano / Dancehall / Shatta / Brazilian Funk / Hip-Hop & RnB\n✨ SERVED BY: DJs DXNGER x SAINTHOOD x MOTOPAPI\n✨HYPED BY : MC MULLAN\n✨ Entrance fee : 40 RON \nTickets can be purchased at the entrance (Cash only)\nTable reservations : +40 753 315 563 \n#afrovibesparty #diafrovibesparty\n#dj #djdxnger #afropartyinbucharest
URL:https://www.clubb52.ro/eveniment/afro-vibes-vol-v-dxnger-x-sainthood-x-motopapi-x-mc-mullan/
LOCATION:Club B52\, Str. 11 iunie Nr.50\, Bucuresti
CATEGORIES:Club B52
ATTACH;FMTTYPE=image/jpeg:https://www.clubb52.ro/wp-content/uploads/2022/11/AFRO-VIBES-VOL.V-DXNGER-x-SAINTHOOD-x-MOTOPAPI-x-MC-MULLAN.jpg
ORGANIZER;CN="Club B52":MAILTO:office@clubb52.ro
END:VEVENT
END:VCALENDAR