BEGIN:VCALENDAR
VERSION:2.0
PRODID:-//Club B52, Strada 11 Iunie, nr. 50 - Cluburi Bucuresti - ECPv6.15.20//NONSGML v1.0//EN
CALSCALE:GREGORIAN
METHOD:PUBLISH
X-ORIGINAL-URL:https://www.clubb52.ro
X-WR-CALDESC:Evenimente pentru Club B52, Strada 11 Iunie, nr. 50 - Cluburi Bucuresti
REFRESH-INTERVAL;VALUE=DURATION:PT1H
X-Robots-Tag:noindex
X-PUBLISHED-TTL:PT1H
BEGIN:VTIMEZONE
TZID:Europe/Helsinki
BEGIN:DAYLIGHT
TZOFFSETFROM:+0200
TZOFFSETTO:+0300
TZNAME:EEST
DTSTART:20210328T010000
END:DAYLIGHT
BEGIN:STANDARD
TZOFFSETFROM:+0300
TZOFFSETTO:+0200
TZNAME:EET
DTSTART:20211031T010000
END:STANDARD
BEGIN:DAYLIGHT
TZOFFSETFROM:+0200
TZOFFSETTO:+0300
TZNAME:EEST
DTSTART:20220327T010000
END:DAYLIGHT
BEGIN:STANDARD
TZOFFSETFROM:+0300
TZOFFSETTO:+0200
TZNAME:EET
DTSTART:20221030T010000
END:STANDARD
BEGIN:DAYLIGHT
TZOFFSETFROM:+0200
TZOFFSETTO:+0300
TZNAME:EEST
DTSTART:20230326T010000
END:DAYLIGHT
BEGIN:STANDARD
TZOFFSETFROM:+0300
TZOFFSETTO:+0200
TZNAME:EET
DTSTART:20231029T010000
END:STANDARD
END:VTIMEZONE
BEGIN:VEVENT
DTSTART;TZID=Europe/Helsinki:20220129T170000
DTEND;TZID=Europe/Helsinki:20220129T220000
DTSTAMP:20260422T202228
CREATED:20220215T122702Z
LAST-MODIFIED:20220215T122702Z
UID:10000022-1643475600-1643493600@www.clubb52.ro
SUMMARY:Mi-e Dor De Vama Veche - Reunion Party
DESCRIPTION:Stim ca ti-e dor\, caci si noi murim de dorul marii.\nNu-i nimic\, sambata\, 29 ianuarie\, facem atmosfera aia in B52 (str.11 iunie\, nr 50)\, de la orele 17:00 pana la 22:00.\nO sa avem de toate ca la Vama Veche\, mai putin nisip. \nO intrunire menita sa ne aduca zambetul pe urechi si pana la buze si sa socializam ca in vremurile bune\nMuzica:\nPosesor de laptop: Gabi (E.M.I.L./Niste Baieti) – alternative\, rock\, reggae\, hip-hop\, electro\, ska\, pop – trecem prin toate\nIntrare: 10 lei.\nAccesul se face pe baza de certificat verde/test negativ\, in limita capacitatii disponibile in baza reglementarilor in vigoare.
URL:https://www.clubb52.ro/eveniment/mi-e-dor-de-vama-veche-reunion-party/
LOCATION:Club B52\, Str. 11 iunie Nr.50\, Bucuresti
CATEGORIES:Club B52
ATTACH;FMTTYPE=image/jpeg:https://www.clubb52.ro/wp-content/uploads/2022/02/Mi-e-Dor-De-Vama-Veche-Reunion-Party.jpg
ORGANIZER;CN="Club B52":MAILTO:office@clubb52.ro
END:VEVENT
END:VCALENDAR