BEGIN:VCALENDAR
VERSION:2.0
PRODID:-//Club B52, Strada 11 Iunie, nr. 50 - Cluburi Bucuresti - ECPv6.15.20//NONSGML v1.0//EN
CALSCALE:GREGORIAN
METHOD:PUBLISH
X-WR-CALNAME:Club B52, Strada 11 Iunie, nr. 50 - Cluburi Bucuresti
X-ORIGINAL-URL:https://www.clubb52.ro
X-WR-CALDESC:Evenimente pentru Club B52, Strada 11 Iunie, nr. 50 - Cluburi Bucuresti
REFRESH-INTERVAL;VALUE=DURATION:PT1H
X-Robots-Tag:noindex
X-PUBLISHED-TTL:PT1H
BEGIN:VTIMEZONE
TZID:Europe/Helsinki
BEGIN:DAYLIGHT
TZOFFSETFROM:+0200
TZOFFSETTO:+0300
TZNAME:EEST
DTSTART:20180325T010000
END:DAYLIGHT
BEGIN:STANDARD
TZOFFSETFROM:+0300
TZOFFSETTO:+0200
TZNAME:EET
DTSTART:20181028T010000
END:STANDARD
BEGIN:DAYLIGHT
TZOFFSETFROM:+0200
TZOFFSETTO:+0300
TZNAME:EEST
DTSTART:20190331T010000
END:DAYLIGHT
BEGIN:STANDARD
TZOFFSETFROM:+0300
TZOFFSETTO:+0200
TZNAME:EET
DTSTART:20191027T010000
END:STANDARD
BEGIN:DAYLIGHT
TZOFFSETFROM:+0200
TZOFFSETTO:+0300
TZNAME:EEST
DTSTART:20200329T010000
END:DAYLIGHT
BEGIN:STANDARD
TZOFFSETFROM:+0300
TZOFFSETTO:+0200
TZNAME:EET
DTSTART:20201025T010000
END:STANDARD
BEGIN:DAYLIGHT
TZOFFSETFROM:+0200
TZOFFSETTO:+0300
TZNAME:EEST
DTSTART:20210328T010000
END:DAYLIGHT
BEGIN:STANDARD
TZOFFSETFROM:+0300
TZOFFSETTO:+0200
TZNAME:EET
DTSTART:20211031T010000
END:STANDARD
END:VTIMEZONE
BEGIN:VEVENT
DTSTART;TZID=Europe/Helsinki:20191204T200000
DTEND;TZID=Europe/Helsinki:20191204T220000
DTSTAMP:20260424T103138
CREATED:20191123T014303Z
LAST-MODIFIED:20191123T014303Z
UID:10000084-1575489600-1575496800@www.clubb52.ro
SUMMARY:Impro Battle - ImproHub vs. Trupa íELE
DESCRIPTION:Miercuri\, 4 decembrie\, ora 20.00\, în B52 The Club\, Improhub se arunca in lupta cu Trupa íELE\, folosind cele mai agile arme ale improvizatiei\, cele mai bune scene\, cele mai bune povesti\, cele mai bune editari\, cele mai bune justificari si cele mai bune personaje.\nIMPRO BATTLE este un format de TEATRU SPORT\, adica o competitie intre 2 echipe de improvizatori. Ele se vor provoca pe parcursul mai multor runde la jocuri de improvizatie diverse si vor fi jurizati de 3 experti – NARATIV\, TEHNIC si DIVERTISMENT. Iar deliciul suprem al acestui spectacol\, pe langa toate nebuniile care se intampla pe scena este faptul ca expertul in DIVERTISMENT este chiar PUBLICUL. \nPret bilet spectacol: 25 lei \nPentru rezervare suna sau trimite SMS la 0721.193.369. \nFacem apel la punctualitatea voastra si va rugam frumos sa ajungeti cu 15-20 de minute mai devreme ca sa putem incepe la timp! Portile B52 The Club se deschid la 19.30.\nMultumim din suflet! Va asteptam cu drag\, o sa fie o nebunie frumoasa!
URL:https://www.clubb52.ro/eveniment/impro-battle-improhub-vs-trupa-iele/
LOCATION:Club B52\, Str. 11 iunie Nr.50\, Bucuresti
CATEGORIES:Club B52
ATTACH;FMTTYPE=image/jpeg:https://www.clubb52.ro/wp-content/uploads/2019/11/Impro-Battle-ImproHub-vs.-Trupa-íELE.jpg
ORGANIZER;CN="Club B52":MAILTO:office@clubb52.ro
END:VEVENT
BEGIN:VEVENT
DTSTART;TZID=Europe/Helsinki:20191207T180000
DTEND;TZID=Europe/Helsinki:20191208T010000
DTSTAMP:20260424T103138
CREATED:20191108T233252Z
LAST-MODIFIED:20191108T233252Z
UID:10000072-1575741600-1575766800@www.clubb52.ro
SUMMARY:Presh - Meat riders party
DESCRIPTION:Se apropie decembrie! Vine iarna! E momentul ăla din an: Vino fresh și pleacă presh! \nHai în B52 să cântărești niște echipamente super tari din colecția de iarnă 2020: plăci\, boots\, legături\, schiuri și nu numai. Între timp bem o bere\, ne povestim aventurile din vară și facem planul de iarnă! \nCa să facem seara și mai interesantă ți-am pregătit o tombolă\, concursuri și muzică faină!\nȘiii… Dacă ai o poză pe schiuri sau snowboard\, pe care vrei s-o arăți tuturor\, posteaz-o pe pagina evenimentului și folosește tagurile #stayfresh și #preshmeatparty19 în descriere. \nCu noi pe zonă vor fi: Funride\, SnowSports.ro\, Skates.ro\, H2O Shop\, Flavashop Brasov
URL:https://www.clubb52.ro/eveniment/presh-meat-riders-party/
LOCATION:Club B52\, Str. 11 iunie Nr.50\, Bucuresti
CATEGORIES:Club B52
ATTACH;FMTTYPE=image/jpeg:https://www.clubb52.ro/wp-content/uploads/2019/11/Presh-Meat-riders-party-club-B52-7-decembrie.jpg
END:VEVENT
BEGIN:VEVENT
DTSTART;TZID=Europe/Helsinki:20191210T200000
DTEND;TZID=Europe/Helsinki:20191210T220000
DTSTAMP:20260424T103138
CREATED:20191123T014718Z
LAST-MODIFIED:20191209T100115Z
UID:10000086-1576008000-1576015200@www.clubb52.ro
SUMMARY:Impro Battle - FunKey vs. Freeze
DESCRIPTION:Marți\, 10 decembrie\, ora 20.00\, în B52 The Club\, Trupa FunKey se confrunta cu Trupa Freeze. Cine va iesi cel mai putin sifonat din aceasta rafuiala? Vom vedea…\nIMPRO BATTLE este un format de TEATRU SPORT\, adica o competitie intre 2 echipe de improvizatori. Ele se vor provoca pe parcursul mai multor runde la jocuri de improvizatie diverse si vor fi jurizati de 3 experti – NARATIV\, TEHNIC si DIVERTISMENT. Iar deliciul suprem al acestui spectacol\, pe langa toate nebuniile care se intampla pe scena este faptul ca expertul in DIVERTISMENT este chiar PUBLICUL. \nPret bilet spectacol: 25 lei \nPentru rezervare suna sau trimite SMS la 0721.193.369.
URL:https://www.clubb52.ro/eveniment/impro-battle-funkey-vs-freeze/
LOCATION:Club B52\, Str. 11 iunie Nr.50\, Bucuresti
CATEGORIES:Club B52
ATTACH;FMTTYPE=image/jpeg:https://www.clubb52.ro/wp-content/uploads/2019/11/Impro-Battle-FunKey-vs.-Freeze-10.12.jpg
ORGANIZER;CN="Club B52":MAILTO:office@clubb52.ro
END:VEVENT
BEGIN:VEVENT
DTSTART;TZID=Europe/Helsinki:20191214T220000
DTEND;TZID=Europe/Helsinki:20191215T050000
DTSTAMP:20260424T103138
CREATED:20191126T232411Z
LAST-MODIFIED:20191126T233434Z
UID:10000088-1576360800-1576386000@www.clubb52.ro
SUMMARY:Can't Touch This cu Dj Jiji (80's - 90's Party)
DESCRIPTION:Let’s dance\, let’s party\, let’s touch this!\nJoin us and discover the spicy and groovy atmosphere of 80’s & 90’s\, blooms your senses with cool people and icy drinks. \nDJ JIJI ne trece de la MC Hammer la Coco Jamboo si de la CC Catch la Duran Duran. \nTickets available on the entrance: 10 LEI.
URL:https://www.clubb52.ro/eveniment/cant-touch-this-cu-dj-jiji-80s-90s-party-3/
LOCATION:Club B52\, Str. 11 iunie Nr.50\, Bucuresti
CATEGORIES:Club B52
ATTACH;FMTTYPE=image/jpeg:https://www.clubb52.ro/wp-content/uploads/2019/11/Cant-Touch-This-cu-Dj-Jiji.jpg
ORGANIZER;CN="Club B52":MAILTO:office@clubb52.ro
END:VEVENT
BEGIN:VEVENT
DTSTART;TZID=Europe/Helsinki:20191218T200000
DTEND;TZID=Europe/Helsinki:20191218T220000
DTSTAMP:20260424T103138
CREATED:20191123T015028Z
LAST-MODIFIED:20191123T015028Z
UID:10000087-1576699200-1576706400@www.clubb52.ro
SUMMARY:Maestro - The Ultimate Improviser #6
DESCRIPTION:Intr-o lume in care sugestiile te pandesc la orice colt de strada\, 9 improvizatori au decis sa aduca miercuri\, pe 18 decembrie\, de la ora 20.00\, imaginatia lor\, pe aceeasi scena din B52 The Club\, intr-o competitie improvizata pentru a vedea cine este favoritul publicului\, cine este cel mai aplaudat\, cine este cel mai bun improvizator al serii\, cine va pleca acasa cu titlul de Maestro? \nIn rolul principal: PUBLICUL\, care va da sugestii pentru scene si va decide cine va merge mai departe\, prin aplauzele si notele acordate. \nOare vor putea improvizatorii sa reziste presiunii? Oare vor face fata regizorii acestei provocari de a gestiona spectacolul? Nu veti putea afla decat daca veti face rezervare la 0721.193.369! Biletul la acest spectacol este 25 lei. \nDe la creatorii formatului de Teatru Sport – Impro Battle\, aducem pe scena B52 The Club\, un nou format competitiv\, pe numele lui: Maestro – The Ultimate Improviser! \nImprovizatorii care se vor lupta pentru titlul de Maestro sunt cei mai votati improvizatori din cele 8 trupe care au participat la Impro Battle in perioada noiembrie-decembrie: TBA\nRegizorii: TBA \nFacem apel la punctualitatea voastră și vă rugăm frumos să ajungeți cu 15-20 de minute mai devreme ca să putem începe la timp! Porțile B52 The Club se deschid la 19.30. \nMulțumim frumos! Vă așteptăm cu drag! \nMaestro Impro™ is created (©) by Keith Johnstone (Keith Johnstone Workshops) registered in the U.S.A.\, Canada and other countries.\nAll Rights Reserved\nProduction rights are exclusively managed by International Theatresports™ Insititute (www.theatresports.com)
URL:https://www.clubb52.ro/eveniment/maestro-the-ultimate-improviser-6/
LOCATION:Club B52\, Str. 11 iunie Nr.50\, Bucuresti
CATEGORIES:Club B52
ATTACH;FMTTYPE=image/jpeg:https://www.clubb52.ro/wp-content/uploads/2019/11/Maestro-The-Ultimate-Improviser-6.jpg
ORGANIZER;CN="Club B52":MAILTO:office@clubb52.ro
END:VEVENT
BEGIN:VEVENT
DTSTART;TZID=Europe/Helsinki:20191220T220000
DTEND;TZID=Europe/Helsinki:20191221T080000
DTSTAMP:20260424T103138
CREATED:20191209T100428Z
LAST-MODIFIED:20191209T100513Z
UID:10000096-1576879200-1576915200@www.clubb52.ro
SUMMARY:Blazing Vibez Christmas Edition
DESCRIPTION:Blazing Vibez instigă la dans și distracție. Vă așteptăm vineri\, pe 15 Noiembrie\, în B52 (str. 11 iunie\, nr. 50)\, cu același sound electrizant\, cu vibe-uri fierbinți și o tonă de amintiri gata de a fi regizate. \n===================================================\nLineup: \nPhlo Da Shaolin – Riddim Ninja & Microphone Marshall\n–––––––––––––––––––––––––\nhttps://www.mixcloud.com/phlodashaolin\nhttps://soundcloud.com/phlodashaolin \nDj Oldskull – Sound Architect & Mixing Arts Master\n–––––––––––––––––––––––––\nhttps://www.facebook.com/DjOldskull/\nhttps://www.mixcloud.com/discover/dj-oldskull/ \nChesarion – Dancehall Don & Vibe Alchemist\n–––––––––––––––––––––\nhttps://www.mixcloud.com/BlazingVibez/chesarion-dancehall-hero/\nhttps://www.mixcloud.com/BlazingVibez/chesarion-dancehall-don-vol-2-lawless/ \n20 decembrie 2019 – B52 Club – 22.00!\nArtist Support: 10 Lei
URL:https://www.clubb52.ro/eveniment/blazing-vibez-christmas-edition/
LOCATION:Club B52\, Str. 11 iunie Nr.50\, Bucuresti
CATEGORIES:Club B52
ATTACH;FMTTYPE=image/jpeg:https://www.clubb52.ro/wp-content/uploads/2019/12/Blazing-Vibez-Christmas-Edition-at-B52-Club.jpg
ORGANIZER;CN="Club B52":MAILTO:office@clubb52.ro
END:VEVENT
BEGIN:VEVENT
DTSTART;TZID=Europe/Helsinki:20191221T220000
DTEND;TZID=Europe/Helsinki:20191222T050000
DTSTAMP:20260424T103138
CREATED:20191209T100815Z
LAST-MODIFIED:20191209T100815Z
UID:10000132-1576965600-1576990800@www.clubb52.ro
SUMMARY:Sile Si Nopti Party
DESCRIPTION:Cum il prindem pe Sile ca vine prin Bucuresti\, fie de la Vama Veche\, fie de la Londra\, il punem imediat la butoane si muzici. \nAsa ca\, sambata\, pe 21 decembrie\, ne antrenam in club B52 pentru zilele de sarbatoare ce vor sa vina! \nSile promite ca pune ca pe plaja la Vama Veche. \nOferta bar: daca vii in intervalul orar 22:00 – 01:00\, platesti 25 de lei la bar si poti sa bei cat Heineken draught vrei sau cat Mimosa Cocktail (prosecco/orange) vrei. \nIntrarea este libera.
URL:https://www.clubb52.ro/eveniment/sile-si-nopti-party/
LOCATION:Club B52\, Str. 11 iunie Nr.50\, Bucuresti
CATEGORIES:Club B52
ATTACH;FMTTYPE=image/jpeg:https://www.clubb52.ro/wp-content/uploads/2019/12/Sile-Si-Nopti-Party-at-club-B52.jpg
ORGANIZER;CN="Club B52":MAILTO:office@clubb52.ro
END:VEVENT
BEGIN:VEVENT
DTSTART;TZID=Europe/Helsinki:20191227T220000
DTEND;TZID=Europe/Helsinki:20191228T050000
DTSTAMP:20260424T103138
CREATED:20191220T165635Z
LAST-MODIFIED:20191220T165750Z
UID:10000002-1577484000-1577509200@www.clubb52.ro
SUMMARY:Holidaze Party
DESCRIPTION:E simplu. Se întâmplă ceva special atât pentru cei puși pe party\, cât și pentru cei care au nevoie de ceva energie. Clubul cu nume de avion și-a pregătit ce are mai electrizant la butoane și ce-i mai colorat la bar\, deci nu se stă locului până dimineață. \nThis night won’t be silent. \n––––––– \nOn decks:\nPhlo Da Shaolin\nRemi Manoiu\nGabi Georgescu\nAlexandru Bogdan – AMON \nINTRAREA LIBERA. \nOferta bar: daca vii in intervalul orar 22:00 – 01:00\, platesti 25 de lei la bar si poti sa bei cat Heineken draught vrei sau cat Mimosa Cocktail (prosecco/orange) vrei.
URL:https://www.clubb52.ro/eveniment/holidaze-party/
LOCATION:Club B52\, Str. 11 iunie Nr.50\, Bucuresti
CATEGORIES:Club B52
ATTACH;FMTTYPE=image/png:https://www.clubb52.ro/wp-content/uploads/2019/12/Holidaze-Party-at-club-B52.png
ORGANIZER;CN="Club B52":MAILTO:office@clubb52.ro
END:VEVENT
BEGIN:VEVENT
DTSTART;TZID=Europe/Helsinki:20191228T220000
DTEND;TZID=Europe/Helsinki:20191229T050000
DTSTAMP:20260424T103138
CREATED:20191212T225833Z
LAST-MODIFIED:20191212T225833Z
UID:10000001-1577570400-1577595600@www.clubb52.ro
SUMMARY:Reggae Night Party cu Remi
DESCRIPTION:Pentru ca serile de reggae sunt tot mai rare\, ne am hotarat sa facem petreceri cu o energie deosebita si mult dans. \nAsa ca te asteptam pe 28 decembrie sa ne bucuram impreuna de muzica lui Alborosie\, Damian Marley\, Protoje\, Chronnix\, Gentleman\, Dub Inc. si multi altii. \nMuzica: DJ Remi \nINTRAREA LIBERA
URL:https://www.clubb52.ro/eveniment/reggae-night-party-cu-remi-2/
LOCATION:Club B52\, Str. 11 iunie Nr.50\, Bucuresti
CATEGORIES:Club B52
ATTACH;FMTTYPE=image/jpeg:https://www.clubb52.ro/wp-content/uploads/2019/12/Reggae-Night-Party-cu-Remi-at-club-B52.jpg
ORGANIZER;CN="Club B52":MAILTO:office@clubb52.ro
END:VEVENT
BEGIN:VEVENT
DTSTART;TZID=Europe/Helsinki:20191231T210000
DTEND;TZID=Europe/Helsinki:20200101T050000
DTSTAMP:20260424T103138
CREATED:20191120T190314Z
LAST-MODIFIED:20191120T191410Z
UID:10000080-1577826000-1577854800@www.clubb52.ro
SUMMARY:Petrecere Revelion 2020 - La Puterea a 3-a @ B52 & Fabrica Pub\, Club
DESCRIPTION:Petrecere Revelion 2020! Trei\, doamne și toate 3! Cam așa o să înceapă discuțiile de pe 1 ianuarie 2020\, după un Revelion la puterea a 3-a în Fabrica & B52. \nDe ce? Pentru că o petrecere nu-i niciodată de-ajuns\, mai ales când ai strâns energie un an întreg. Așa că trecem și în 2020 din trei locuri într-un singur foc. Ne punem pe trei party-uri de pomină\, cu un singur bilet de intrare\, după cum zice mai jos: \nÎn Fabrica Pub se face retrospectivă muzicală a ultimelor decade cu Bogdan Nicolescu. Să-i zicem pe nume – Best of 80’s\, 90’s and today’s music for a better future. \nNu e loc de discuții\, în Fabrica Club se stă de seara până dimineața doar pe Hituri\, Nu Bulls’hituri\, cu Gabi la panoul de control. \nȘi dacă tot călătorim în timp și spațiu\, la B52 facem escală estivală\, la Caribbean Party cu Remi. Pirații si sirenele au întâietate. \nBuuun! Acum să trecem la treburi mai serioase\, anume meniul de petrecere. Introducerea e scurtă\, dar cuvintele cheie sunt mai multe. \n#BufetSuedez\, #Abundență\, #Diversitate\, #Finețuri internaționale și #OpenBar în toate cele trei locații. Să facem\, deci\, o revizie a antreului și a felului principal\, doar așa\, să șțiți la ce vă stă gândul și apetitul până pe 31 Decembrie. \nANTREU\nCrevete tempura cu sos de alune\nQuiche cu somon\nQuiche cu bacon și ciuperci\nCheesecake sărat cu brie\, mascarpone și roșii uscate\nVol-au-vent cu spumă de hrean și roast beef\nSushi 3 feluri\nChoux cu piure de roșii și nuci macadamia picante\nBiscuite de secară cu bocconcini marinat în pesto și ulei de trufe cu usturoi copt \nFEL CALD\nRuladă de pui cu fistic\nVită Wellington\nFile cod panetat cu pudra de usturoi si wasabi; cartofi wedges cu parmezan si verdeata\nLegume stir fry\nPolenta cu ciuperci de pădure și măsline verzi \nOPEN BAR\nBere: Ciuc\, Silva\, Heineken\nVin la pahar: alb/roze/rosu crama Sarica Niculitel\nWhiskey: Ballantines\, Four Roses\, Jameson\nVodka: Absolut\nRom: Havana\nTequilla: Olmeca \nLong drinks: Vodka Apple\, Whiskey Cola\, Gin Tonic\, Cuba Libre\, Vodka Orange\, Vodka Cola\, Vodka Tonic\, Martini Tonic\, Campari Tonic\, Tequilla Sunrise\, Campari Orange\, Amaretto Apple\, Vodka Energy\, Whiskey Energy\nRacoritoare: Pepsi\, Pepsi Black\, Pepsi Twist\, Mirinda\, Mountain Dew\, 7Up\, 7Up Lemon\, 7Up Grapefruit\, Lipton Ice T (lamaie/piersica)\, Prigat (portocale\, capsuni-banane\, piersici\, pere\, kiwi)\, Apa tonica Evervess\nApa: plata/minerala\nCafea: Espresso si Espresso fara cofeina \nAșadar\, trei Revelioane\, trei petreceri diferite\, bufet suedez și open bar până la ultimul petrecăreț\, acces general în toate cele trei locații – toate la pachet. în același preț: \n350 lei/persoană\, cu loc la masa;\n280 lei/persoană\, fără loc la masă\n140 lei/persoană\, după ora 2.30 a.m.\n165 lei/ copil peste 5 ani. \nBiletele pentru Petrecere Revelion 2020 la puterea a 3-a le găsești în Fabrica B52 sau la numărul de telefon 075fabrica.
URL:https://www.clubb52.ro/eveniment/petrecere-revelion-2020-la-puterea-a-3-a-b52-fabrica-pub-club/
LOCATION:Club B52\, Str. 11 iunie Nr.50\, Bucuresti
CATEGORIES:Club B52
ATTACH;FMTTYPE=image/jpeg:https://www.clubb52.ro/wp-content/uploads/2019/11/Revelion-La-Puterea-a-3-a-@-Fabrica-Pub-Club-B52.jpg
ORGANIZER;CN="Club B52":MAILTO:office@clubb52.ro
END:VEVENT
END:VCALENDAR