BEGIN:VCALENDAR
VERSION:2.0
PRODID:-//Club B52, Strada 11 Iunie, nr. 50 - Cluburi Bucuresti - ECPv6.15.20//NONSGML v1.0//EN
CALSCALE:GREGORIAN
METHOD:PUBLISH
X-ORIGINAL-URL:https://www.clubb52.ro
X-WR-CALDESC:Evenimente pentru Club B52, Strada 11 Iunie, nr. 50 - Cluburi Bucuresti
REFRESH-INTERVAL;VALUE=DURATION:PT1H
X-Robots-Tag:noindex
X-PUBLISHED-TTL:PT1H
BEGIN:VTIMEZONE
TZID:Europe/Helsinki
BEGIN:DAYLIGHT
TZOFFSETFROM:+0200
TZOFFSETTO:+0300
TZNAME:EEST
DTSTART:20180325T010000
END:DAYLIGHT
BEGIN:STANDARD
TZOFFSETFROM:+0300
TZOFFSETTO:+0200
TZNAME:EET
DTSTART:20181028T010000
END:STANDARD
BEGIN:DAYLIGHT
TZOFFSETFROM:+0200
TZOFFSETTO:+0300
TZNAME:EEST
DTSTART:20190331T010000
END:DAYLIGHT
BEGIN:STANDARD
TZOFFSETFROM:+0300
TZOFFSETTO:+0200
TZNAME:EET
DTSTART:20191027T010000
END:STANDARD
BEGIN:DAYLIGHT
TZOFFSETFROM:+0200
TZOFFSETTO:+0300
TZNAME:EEST
DTSTART:20200329T010000
END:DAYLIGHT
BEGIN:STANDARD
TZOFFSETFROM:+0300
TZOFFSETTO:+0200
TZNAME:EET
DTSTART:20201025T010000
END:STANDARD
END:VTIMEZONE
BEGIN:VTIMEZONE
TZID:Europe/Moscow
BEGIN:STANDARD
TZOFFSETFROM:+0300
TZOFFSETTO:+0300
TZNAME:MSK
DTSTART:20180101T000000
END:STANDARD
END:VTIMEZONE
BEGIN:VEVENT
DTSTART;TZID=Europe/Helsinki:20191101T220000
DTEND;TZID=Europe/Helsinki:20191102T050000
DTSTAMP:20260424T120116
CREATED:20191029T084043Z
LAST-MODIFIED:20191029T084043Z
UID:10000057-1572645600-1572670800@www.clubb52.ro
SUMMARY:Bomber Fridays Party
DESCRIPTION:Clubul cu nume de avion e echipat cu Jägerbombs si alte muniții colorate\, mai grele sau mai ușoare\, atât la bar cât și la muzică.\nSe cheamă Bomber Fridays și ești invitat. \nINTRAREA LIBERA. \nOferta bar: in intervalul orar 22:00 – 01:00 platesti 25 de lei si bei cat Heineken la draught vreu sau cata Mimosa Cocktail (prosecco/orange) vrei. \nOn decks vineri: Phlo Da Shaolin
URL:https://www.clubb52.ro/eveniment/bomber-fridays-party/
LOCATION:Club B52\, Str. 11 iunie Nr.50\, Bucuresti
CATEGORIES:Club B52
ATTACH;FMTTYPE=image/jpeg:https://www.clubb52.ro/wp-content/uploads/2019/10/Bomber-Fridays-Party-at-club-B52.jpg
ORGANIZER;CN="Club B52":MAILTO:office@clubb52.ro
END:VEVENT
BEGIN:VEVENT
DTSTART;TZID=Europe/Moscow:20191102T220000
DTEND;TZID=Europe/Moscow:20191103T050000
DTSTAMP:20260424T120116
CREATED:20191012T082758Z
LAST-MODIFIED:20191023T060316Z
UID:10000053-1572732000-1572757200@www.clubb52.ro
SUMMARY:Can't Touch This cu Dj Jiji (80's - 90's Party)
DESCRIPTION:Let’s dance\, let’s party\, let’s touch this!\nJoin us and discover the spicy and groovy atmosphere of 80’s & 90’s\, blooms your senses with cool people and icy drinks. \nDJ JIJI ne trece de la MC Hammer la Coco Jamboo si de la CC Catch la Duran Duran. \nTickets available on the entrance: 10 LEI. \nhttps://www.facebook.com/Dj-Jiji-174955239250669/?fref=pb&hc_location=profile_browser
URL:https://www.clubb52.ro/eveniment/cant-touch-this-cu-dj-jiji-80s-90s-party-2/
LOCATION:Club B52\, Str. 11 iunie Nr.50\, Bucuresti
CATEGORIES:Club B52
ATTACH;FMTTYPE=image/jpeg:https://www.clubb52.ro/wp-content/uploads/2019/10/Cant-Touch-This-cu-Dj-Jiji-80s-90s-Party.jpg
ORGANIZER;CN="Club B52":MAILTO:office@clubb52.ro
END:VEVENT
BEGIN:VEVENT
DTSTART;TZID=Europe/Helsinki:20191106T200000
DTEND;TZID=Europe/Helsinki:20191106T220000
DTSTAMP:20260424T120116
CREATED:20191104T102102Z
LAST-MODIFIED:20191104T102102Z
UID:10000062-1573070400-1573077600@www.clubb52.ro
SUMMARY:Impro Battle - Vine Improfest
DESCRIPTION:Miercuri\, 6 noiembrie\, ora 20.00\, în B52 The Club\, celebrăm IMPRO 7 – Bring your best\, ediția de anul acesta a festivalului național de improvizație\, cu un eveniment ante festival\, punând față în față echipa organizatorică formată din Adina Maria Sandu\, Adriana Bordeanu și Dan Miron și echipa artistică formată din Monica Anastase\, Mihaela Georgescu și Bogdan Untilă. Practic va fi o bătălie la alt nivel\, întrucât duelul se duce pe mai multe planuri\, actuala și ex directoarea festivalului\, prieteni\, colegi și camarazi de trupă și improvizatori într-o relație amoroasă… vă lăsăm pe voi să faceți socotelile. \nIMPRO BATTLE este un format de TEATRU SPORT\, adica o competitie intre 2 echipe de improvizatori. Ele se vor provoca pe parcursul mai multor runde la jocuri de improvizatie diverse si vor fi jurizati de 3 experti – NARATIV\, TEHNIC si DIVERTISMENT. Iar deliciul suprem al acestui spectacol\, pe langa toate nebuniile care se intampla pe scena este faptul ca expertul in DIVERTISMENT este chiar PUBLICUL. \nPret bilet spectacol: 25 lei \nPentru rezervare suna sau trimite SMS la 0721.193.369. \nFacem apel la punctualitatea voastra si va rugam frumos sa ajungeti cu 15-20 de minute mai devreme ca sa putem incepe la timp! Portile B52 The Club se deschid la 19.30.\nMultumim din suflet! Va asteptam cu drag\, o sa fie o nebunie frumoasa!
URL:https://www.clubb52.ro/eveniment/impro-battle-vine-improfest/
LOCATION:Club B52\, Str. 11 iunie Nr.50\, Bucuresti
CATEGORIES:Club B52
ATTACH;FMTTYPE=image/jpeg:https://www.clubb52.ro/wp-content/uploads/2019/11/Impro-Battle-Vine-Improfest.jpg
ORGANIZER;CN="Club B52":MAILTO:office@clubb52.ro
END:VEVENT
BEGIN:VEVENT
DTSTART;TZID=Europe/Helsinki:20191107T210000
DTEND;TZID=Europe/Helsinki:20191108T000000
DTSTAMP:20260424T120116
CREATED:20191104T101613Z
LAST-MODIFIED:20191104T101613Z
UID:10000061-1573160400-1573171200@www.clubb52.ro
SUMMARY:The Nun by Fright Night
DESCRIPTION:Sărbătorim anul acesta 5 ani de Fright Night??\, iar de aceea ne-am decis să organizăm o ediție aniversară:The Nun by Fright Night îşi propune să fie cu adevarăt o petrecere de neuitat- în clubul B52\, cu o atmosferă întreținuta de DJ Rares Mandu\, petrecerea o să ofere tuturor o seara de neuitat.\nSeara va fi continuata cu un super concert VIIIAIN. \nPrețul biletului este 35 de lei şi în el va fi inclus o băutură (voucher in valoare de 10 lei)\nCum v-am obişnuit şi înainte\, dresscode-ul vor fi costumele de Halloween?\, care vor asigura că spiritul sărbătorii este cât mai autentic posibil. \nLa această petrecere vom strânge donații pentru o cauză caritabilă foarte dragă nouă- o colegă din Rotaract care suferă de o tumoare la şold.\nSuntem conştienți că\,în aceste situații\, orice ajutor este esențial şi de aceea suntem convinşi că vom putea face o diferență semnificativă. \nVă aşteptăm aşadar pe 7 Noiembrie de la ora 20:00 pe Strada 11 Iunie nr. 50 la petrecerea de Halloween!????? \nBiletele se pot achizitiona de la membrii sau recrutii Interact! (Biletele achizitionate la intrarea in locatie costa 40 de lei).
URL:https://www.clubb52.ro/eveniment/the-nun-by-fright-night/
LOCATION:Club B52\, Str. 11 iunie Nr.50\, Bucuresti
CATEGORIES:Club B52
ATTACH;FMTTYPE=image/jpeg:https://www.clubb52.ro/wp-content/uploads/2019/11/The-Nun-by-Fright-Night.jpg
ORGANIZER;CN="Club B52":MAILTO:office@clubb52.ro
END:VEVENT
BEGIN:VEVENT
DTSTART;TZID=Europe/Helsinki:20191108T203000
DTEND;TZID=Europe/Helsinki:20191108T223000
DTSTAMP:20260424T120116
CREATED:20191105T211445Z
LAST-MODIFIED:20191107T160358Z
UID:10000066-1573245000-1573252200@www.clubb52.ro
SUMMARY:Concert Jurjak | Love is in the Art
DESCRIPTION:Mr.Jurjak vine la Love is in the Art 2019. \nNe vedem vineri\, de la 20:30\, în B52 The Club. \nIntrarea liberă\, în limita locurilor disponibile
URL:https://www.clubb52.ro/eveniment/concert-jurjak-love-is-in-the-art/
LOCATION:Club B52\, Str. 11 iunie Nr.50\, Bucuresti
CATEGORIES:Club B52
ATTACH;FMTTYPE=image/jpeg:https://www.clubb52.ro/wp-content/uploads/2019/11/Concert-Jurjak-Love-is-in-the-Art.jpg
END:VEVENT
BEGIN:VEVENT
DTSTART;TZID=Europe/Helsinki:20191108T220000
DTEND;TZID=Europe/Helsinki:20191109T060000
DTSTAMP:20260424T120116
CREATED:20191029T103645Z
LAST-MODIFIED:20191029T103645Z
UID:10000058-1573250400-1573279200@www.clubb52.ro
SUMMARY:O Data Pe Luna Party
DESCRIPTION:Daca esti participant fidel la O Data Pe Luna Party\, stii foarte bine ca nu mai este nevoie de introducere. Daca nu ai experimentat inca petrecerea noastra\, ce mai astepti? Ne strangem toti doar o data pe luna. \nNe tinem de cuvant si continuam seria petrecerilor O Data Pe Luna cu ceva nou de fiecare data. \nPe 8 Noiembrie\, in Club B52\, for the First and Last time\, un duel intre rap-ul romanesc si cel strain\, DJ Gharaa & gAZAh vs? Dan Apetria & Dj Chill Will. \nVa asteptam\, ca deobicei\, sa ne facem de cap impreuna. \nBilet intrare: 10 lei (Fun Fee)
URL:https://www.clubb52.ro/eveniment/o-data-pe-luna-party/
LOCATION:Club B52\, Str. 11 iunie Nr.50\, Bucuresti
CATEGORIES:Club B52
ATTACH;FMTTYPE=image/jpeg:https://www.clubb52.ro/wp-content/uploads/2019/10/O-Data-Pe-Luna-Party-8-Noiembrie-Club-B52.jpg
ORGANIZER;CN="Club B52":MAILTO:office@clubb52.ro
END:VEVENT
BEGIN:VEVENT
DTSTART;TZID=Europe/Helsinki:20191109T220000
DTEND;TZID=Europe/Helsinki:20191110T000000
DTSTAMP:20260424T120116
CREATED:20191104T210830Z
LAST-MODIFIED:20191104T211549Z
UID:10000063-1573336800-1573344000@www.clubb52.ro
SUMMARY:Concert Suie Paparude | Love is in the Art
DESCRIPTION:Șuie Paparude vin la Love is in the Art 2019. \nNe vedem sâmbătă\, de la 22:00\, în B52 The Club. \nIntrarea liberă\, în limita locurilor disponibile.
URL:https://www.clubb52.ro/eveniment/concert-suie-paparude-love-is-in-the-art/
LOCATION:Club B52\, Str. 11 iunie Nr.50\, Bucuresti
CATEGORIES:Club B52
ATTACH;FMTTYPE=image/jpeg:https://www.clubb52.ro/wp-content/uploads/2019/11/Concert-Suie-Paparude-Love-is-in-the-Art.jpg
END:VEVENT
BEGIN:VEVENT
DTSTART;TZID=Europe/Helsinki:20191109T220000
DTEND;TZID=Europe/Helsinki:20191110T050000
DTSTAMP:20260424T120116
CREATED:20191104T211842Z
LAST-MODIFIED:20191104T211842Z
UID:10000064-1573336800-1573362000@www.clubb52.ro
SUMMARY:Color Me Wild Party
DESCRIPTION:Pentru ca sambata este ce mai importanta zi din saptamana\, pentru ca la club B52 iese cel mai nebun party\, pentru ca petrecem pana dimineata in zori\, pentru\, pentru si iarasi pentru. \nIntrarea este libera. \nContinuam cu oferta noastra la bere\, dar avem ceva si pentru fete si am si marit intervalul orar.\nAsa ca\, daca vii intre 22:00 – 01:00\, platesti la bar 25 de lei\, primesti o bratara in baza careia bei cate Heineken draught si Mimosa Cocktail (proseco/orange) vrei. \nMuzica: PHLO DA SHAOLIN \nRezervari mese: 0753 315 563 \nPS – concert SUIE PAPARUDE intre 22:00 – 00:00.
URL:https://www.clubb52.ro/eveniment/color-me-wild-party-2/
LOCATION:Club B52\, Str. 11 iunie Nr.50\, Bucuresti
CATEGORIES:Club B52
ATTACH;FMTTYPE=image/jpeg:https://www.clubb52.ro/wp-content/uploads/2019/10/Color-Me-Wild-Party-Saturdays-at-B52.jpg
ORGANIZER;CN="Club B52":MAILTO:office@clubb52.ro
END:VEVENT
BEGIN:VEVENT
DTSTART;TZID=Europe/Helsinki:20191110T200000
DTEND;TZID=Europe/Helsinki:20191110T220000
DTSTAMP:20260424T120116
CREATED:20191104T212518Z
LAST-MODIFIED:20191104T212518Z
UID:10000065-1573416000-1573423200@www.clubb52.ro
SUMMARY:Concert Grimus | Love is in the Art
DESCRIPTION:Grimus la Love is in the Art 2019. \nNe vedem dumunică\, de la 20:00\, în B52 The Club. \nIntrarea liberă\, în limita locurilor disponibile
URL:https://www.clubb52.ro/eveniment/concert-grimus-love-is-in-the-art/
LOCATION:Club B52\, Str. 11 iunie Nr.50\, Bucuresti
CATEGORIES:Club B52
ATTACH;FMTTYPE=image/jpeg:https://www.clubb52.ro/wp-content/uploads/2019/11/Concert-Grimus-Love-is-in-the-Art.jpg
END:VEVENT
BEGIN:VEVENT
DTSTART;TZID=Europe/Helsinki:20191115T220000
DTEND;TZID=Europe/Helsinki:20191116T060000
DTSTAMP:20260424T120116
CREATED:20191029T165639Z
LAST-MODIFIED:20191029T165639Z
UID:10000060-1573855200-1573884000@www.clubb52.ro
SUMMARY:Blazing Vibez Reggae Party
DESCRIPTION:Blazing Vibez instigă la dans și distracție. Vă așteptăm vineri\, pe 15 Noiembrie\, în B52 (str. 11 iunie\, nr. 50)\, cu același sound electrizant\, cu vibe-uri fierbinți și o tonă de amintiri gata de a fi regizate. \n===========================================\nLineup: \nChesarion – Dancehall Don & Vibe Alchemist\n–––––––––––––––––––––\nhttps://www.mixcloud.com/BlazingVibez/chesarion-dancehall-hero/\nhttps://www.mixcloud.com/BlazingVibez/chesarion-dancehall-don-vol-2-lawless/ \nPhlo Da Shaolin – Riddim Ninja & Microphone Marshall\n–––––––––––––––––––––––––\nhttps://www.mixcloud.com/phlodashaolin\nhttps://soundcloud.com/phlodashaolin \nDj Oldskull – Sound Architect & Mixing Arts Master\n–––––––––––––––––––––––––\nhttps://www.facebook.com/DjOldskull/\nhttps://www.mixcloud.com/discover/dj-oldskull/ \nRas T – Nu-Roots Revolutionary & Musical StoryTeller\n–––––––––––––––––––––––––\nhttps://www.mixcloud.com/vladrastaman/irie-vibez-mix/\nhttps://www.mixcloud.com/vladrastaman/revolution-mix/ \n15 noiembrie 2019 – B52 Club – 22.00!\nArtist Support: 10 Lei
URL:https://www.clubb52.ro/eveniment/blazing-vibez-reggae-party-2/
LOCATION:Club B52\, Str. 11 iunie Nr.50\, Bucuresti
CATEGORIES:Club B52
ATTACH;FMTTYPE=image/jpeg:https://www.clubb52.ro/wp-content/uploads/2019/10/Blazing-Vibez-Reggae-Party-at-B52-Club.jpg
ORGANIZER;CN="Club B52":MAILTO:office@clubb52.ro
END:VEVENT
BEGIN:VEVENT
DTSTART;TZID=Europe/Helsinki:20191116T180000
DTEND;TZID=Europe/Helsinki:20191117T030000
DTSTAMP:20260424T120116
CREATED:20191105T224022Z
LAST-MODIFIED:20191105T224022Z
UID:10000068-1573927200-1573959600@www.clubb52.ro
SUMMARY:Ora de snowboard Skates.ro
DESCRIPTION:La-nceput de carieră și sezon pune-te la punct cu teoria!\nDacă ești la început într-ale snowboardingului – 1st timer\, începător\, începător avansat\, chiar și\nintermediar – hai să povestim despre ce e vorba-n sportul ăsta!\nSkates.ro împreună cu Project_RIDE Snowboard School te invită la ORA DE SNOWBOARDING!\nSîmbătă\, 16 Noiembrie\, cu începere de la ora 18:00 te așteptăm la B52 The Club de pe Strada 11 Iunie nr 50. Tu vino c-un pix și-un caiet\, că de restul ne ocupăm noi. \nProgramul zilei: \nora 17:30 – Începe să ne-adunăm. Facem prezentările\, bem un ceai\, ne biscuim. \nora 18:00 – Se sună de intrare. Urmează să ne conversăm despre: echipamente\, îmbrăcălțăminte\,\ntehnologii\, accesorii\, poziții\, reglaje și-ntreținere. \nora 19:30 – Pauză relaxativă \nora 20:00 – Se sună de intrare. Facem o recapitulare\, bifăm o sesiune Qs & As\, dăm lucrare de control\,\nne uităm la niște tutoriale și ne dăm cu Fly Boards! \nundeva după ora 21:00 – „Don’t grow up\, it’s a trap!” PARTY\nResponsabili cu vibe-ul – Töne Tavï și Gabi (E.M.I.L. / Niște Băieți) \nLa absolvire\, eminenții cursanți se vor alege cu:\n– o grămadă de cunoștințe teoretice\n– prieteni noi\n– vouchere cu reduceri la Skates.ro\n– sticker packs \nATENȚIE!\n* La ORA DE SNOWBOARDING locurile NU sunt limitate\, dar este nevoie de rezervare! \nAceasta se poate face prin completarea urmatorului formular: https://forms.gle/ofZoJF4Xp4EKCX9m8 \nNumar maxim participanti: fără număr\, că-i loc berechet în B52 😉 \n** Orarul este doar cu titlu informativ. Prelungirile sunt inevitabile.\n** Accesul la after party este gratuit și nu presupune rezervare sau cunoștințe la partid.
URL:https://www.clubb52.ro/eveniment/ora-de-snowboard-skates-ro/
LOCATION:Club B52\, Str. 11 iunie Nr.50\, Bucuresti
CATEGORIES:Club B52
ATTACH;FMTTYPE=image/jpeg:https://www.clubb52.ro/wp-content/uploads/2019/11/Ora-de-snowboard-Skates.ro_.jpg
END:VEVENT
BEGIN:VEVENT
DTSTART;TZID=Europe/Helsinki:20191120T200000
DTEND;TZID=Europe/Helsinki:20191120T220000
DTSTAMP:20260424T120116
CREATED:20191118T083436Z
LAST-MODIFIED:20191118T083436Z
UID:10000074-1574280000-1574287200@www.clubb52.ro
SUMMARY:Impro Battle - Obligó vs. Niște Păpușari
DESCRIPTION:Miercuri\, 20 noiembrie\, ora 20.00\, în B52 The Club\, Trupa Obligó întâlnește o trupă fresh și plină de entuziasm\, trupa de impro din Teatrul Țăndărică România\, Niște Păpușari. \nIMPRO BATTLE este un format de TEATRU SPORT\, adica o competitie intre 2 echipe de improvizatori. Ele se vor provoca pe parcursul mai multor runde la jocuri de improvizatie diverse si vor fi jurizati de 3 experti – NARATIV\, TEHNIC si DIVERTISMENT. Iar deliciul suprem al acestui spectacol\, pe langa toate nebuniile care se intampla pe scena este faptul ca expertul in DIVERTISMENT este chiar PUBLICUL. \nPret bilet spectacol: 25 lei \nPentru rezervare suna sau trimite SMS la 0721.193.369. \nFacem apel la punctualitatea voastra si va rugam frumos sa ajungeti cu 15-20 de minute mai devreme ca sa putem incepe la timp! Portile B52 The Club se deschid la 19.30.\nMultumim din suflet! Va asteptam cu drag\, o sa fie o nebunie frumoasa!
URL:https://www.clubb52.ro/eveniment/impro-battle-obligo-vs-niste-papusari/
LOCATION:Club B52\, Str. 11 iunie Nr.50\, Bucuresti
CATEGORIES:Club B52
ATTACH;FMTTYPE=image/jpeg:https://www.clubb52.ro/wp-content/uploads/2019/11/Impro-Battle-Obligó-vs.-Niște-Păpușari.jpg
ORGANIZER;CN="Club B52":MAILTO:office@clubb52.ro
END:VEVENT
BEGIN:VEVENT
DTSTART;TZID=Europe/Helsinki:20191122T220000
DTEND;TZID=Europe/Helsinki:20191123T050000
DTSTAMP:20260424T120116
CREATED:20191118T233526Z
LAST-MODIFIED:20191118T233526Z
UID:10000078-1574460000-1574485200@www.clubb52.ro
SUMMARY:Bomber Fridays Party
DESCRIPTION:Clubul cu nume de avion e echipat cu Jägerbombs si alte muniții colorate\, mai grele sau mai ușoare\, atât la bar cât și la muzică. \nSe cheamă Bomber Fridays și ești invitat. \nINTRAREA LIBERA. \nOferta bar: in intervalul orar 22:00 – 01:00 platesti 25 de lei si bei cat Heineken la draught vrei sau cat Mimosa Cocktail (prosecco/orange) vrei. \nOn decks vineri: Phlo Da Shaolin
URL:https://www.clubb52.ro/eveniment/bomber-fridays-party-2/
LOCATION:Club B52\, Str. 11 iunie Nr.50\, Bucuresti
CATEGORIES:Club B52
ATTACH;FMTTYPE=image/jpeg:https://www.clubb52.ro/wp-content/uploads/2019/10/Bomber-Fridays-Party-at-club-B52.jpg
ORGANIZER;CN="Club B52":MAILTO:office@clubb52.ro
END:VEVENT
BEGIN:VEVENT
DTSTART;TZID=Europe/Helsinki:20191123T220000
DTEND;TZID=Europe/Helsinki:20191124T050000
DTSTAMP:20260424T120116
CREATED:20191105T224318Z
LAST-MODIFIED:20191118T233656Z
UID:10000070-1574546400-1574571600@www.clubb52.ro
SUMMARY:Aniversare 15 ani de Club B52 in Bucuresti
DESCRIPTION:15-Ani Birthday-Party by B52 in Bucuresti\n15 Ani si suntem cei mai norocoși să ne facem ziua cu multă lume-n jur (printre care și tu). \nUn simplu observator ar spune ca B52 este… doar un club.\nUn „connaisseur” ştie că B52 este o stare… O stare cu rădăcini adânci în B52 Vama Veche.\nClubul B52 a fost un pariu pus în 2002. A devenit realitate în 2003\, în Vama Veche\, şi s-a numit\, preţ de o lună\, „Suerte”\, pentru ca la jumătatea lui iulie a aceluiaşi an numele terasei să devină „ B52”.\nAcum 15 ani\, in 2004\, Bucureştiul începea să petreaca mai mult. \nSâmbătă\, 23 noiembrie\, esti invitat la marele party! \nMuzica: Mr Fleaska\, Amon\, Gabi\, Phlo Da Shaolin si Remi \nIntrare: 15 lei (long drink inclus)\nRezervari mese: 0753. 315.563
URL:https://www.clubb52.ro/eveniment/aniversare-15-ani-de-club-b52-in-bucuresti/
LOCATION:Club B52\, Str. 11 iunie Nr.50\, Bucuresti
CATEGORIES:Club B52
ATTACH;FMTTYPE=image/jpeg:https://www.clubb52.ro/wp-content/uploads/2019/11/Aniversare-15-ani-de-club-B52-in-Bucuresti.jpg
ORGANIZER;CN="Club B52":MAILTO:office@clubb52.ro
END:VEVENT
BEGIN:VEVENT
DTSTART;TZID=Europe/Helsinki:20191127T200000
DTEND;TZID=Europe/Helsinki:20191127T220000
DTSTAMP:20260424T120116
CREATED:20191118T083719Z
LAST-MODIFIED:20191118T083719Z
UID:10000076-1574884800-1574892000@www.clubb52.ro
SUMMARY:Impro Battle - IDIOT vs. Urban Impro
DESCRIPTION:Miercuri\, 27 noiembrie\, ora 20.00\, în B52 The Club\, Trupa de Teatru IDIOT vine tocmai de la Iași pentru o confruntare cu Urban Impro. \nIMPRO BATTLE este un format de TEATRU SPORT\, adica o competitie intre 2 echipe de improvizatori. Ele se vor provoca pe parcursul mai multor runde la jocuri de improvizatie diverse si vor fi jurizati de 3 experti – NARATIV\, TEHNIC si DIVERTISMENT. Iar deliciul suprem al acestui spectacol\, pe langa toate nebuniile care se intampla pe scena este faptul ca expertul in DIVERTISMENT este chiar PUBLICUL. \nPret bilet spectacol: 25 lei \nPentru rezervare suna sau trimite SMS la 0721.193.369. \nFacem apel la punctualitatea voastra si va rugam frumos sa ajungeti cu 15-20 de minute mai devreme ca sa putem incepe la timp! Portile B52 The Club se deschid la 19.30. \nMultumim din suflet! Va asteptam cu drag\, o sa fie o nebunie frumoasa!
URL:https://www.clubb52.ro/eveniment/impro-battle-idiot-vs-urban-impro/
LOCATION:Club B52\, Str. 11 iunie Nr.50\, Bucuresti
CATEGORIES:Club B52
ATTACH;FMTTYPE=image/jpeg:https://www.clubb52.ro/wp-content/uploads/2019/11/Impro-Battle-IDIOT-vs.-Urban-Impro.jpg
ORGANIZER;CN="Club B52":MAILTO:office@clubb52.ro
END:VEVENT
BEGIN:VEVENT
DTSTART;TZID=Europe/Helsinki:20191129T220000
DTEND;TZID=Europe/Helsinki:20191130T050000
DTSTAMP:20260424T120116
CREATED:20191122T082705Z
LAST-MODIFIED:20191122T082705Z
UID:10000082-1575064800-1575090000@www.clubb52.ro
SUMMARY:Reggae Party cu Dj Remi
DESCRIPTION:Pentru ca serile de reggae sunt tot mai rare\, ne am hotarat sa facem petreceri cu o energie deosebita si mult dans. Asa ca te asteptam pe 29 noiembrie sa ne bucuram impreuna de muzica lui Alborosie\, Damian Marley\, Protoje\, Chronnix\, Gentleman\, Dub Inc. si multi altii. \nMuzica: DJ Remi \nINTRAREA LIBERA
URL:https://www.clubb52.ro/eveniment/reggae-party-cu-dj-remi-2/
LOCATION:Club B52\, Str. 11 iunie Nr.50\, Bucuresti
CATEGORIES:Club B52
ATTACH;FMTTYPE=image/jpeg:https://www.clubb52.ro/wp-content/uploads/2019/11/Reggae-Party-cu-Dj-Remi-at-club-B52.jpg
ORGANIZER;CN="Club B52":MAILTO:office@clubb52.ro
END:VEVENT
BEGIN:VEVENT
DTSTART;TZID=Europe/Helsinki:20191130T220000
DTEND;TZID=Europe/Helsinki:20191201T050000
DTSTAMP:20260424T120116
CREATED:20191029T164916Z
LAST-MODIFIED:20191029T165217Z
UID:10000059-1575151200-1575176400@www.clubb52.ro
SUMMARY:Monsters' Party - Fane la Platane & MadLiquid
DESCRIPTION:Monstru’\, monstrulețule\,\nBăi\, petrecărețule\,\nCe ne-ai pregătit pe seară\,\nDe s-a dat sfoară prin țară\,\nCum că-n Club B52\,\nDe ești spirit sau strigoi\,\nN-ai în dress code usturoi\,\n(Fie vorba între noi\,\nEi oricum umblă cam… goi)\,\nȘi că-n seara de 30\,\nOameni\, monștri\, lilieci\,\nCostumați în ghizuroi\,\nPetrecem monstru cu voi\,\nBem shot-uri\, facem șicane\,\nMuzică ne pune Fane\,\nȘi nu-i doar un vis lucid\nCă vine și MadLiquid?!\nSuper! Deci așa rămâne\,\nMonsters’ Party e pe bune! \nDe Sfântul Andrei nu sta acasă să mănânci usturoi\, vino cu noi și devino un strigoi la Monsters’ Party în B52 The Club începând cu ora 22:00\, pe 30 Noiembrie!\nFane la Platane și MadLiquid vor scoate parti animalul din tine până dimineață!\nÎn noaptea în care limita dintre cele văzute și nevăzute dispare\, te invităm să petreci alături de cele mai înfricoșătoare entități ale nopții: monștri care mai de care\, strigoi\, zombii\, vârcolaci și alte creaturi. Imaginația este limita\, așa că pregătește-ți costumul\, pentru ca avem premii surpriză! \nȚi-am mai pregătit decoruri\, gif Booth și alte câteva surprize.\nRămâi aproape pentru updates! \nDress Code: monștri\, monștri\, monștri\, dar primim și alte creaturi ale nopții.\n#MonstersParty #SarbatoresteRomaneste #partipipal #scoatepartianimaluldintine \nParteneri: Skeptic Dog Animation\, Magic Mint\, NERV\, Flash Tattoos Romania\nMulțumiri BOX Studios .Co
URL:https://www.clubb52.ro/eveniment/monsters-party-fane-la-platane-madliquid/
LOCATION:Club B52\, Str. 11 iunie Nr.50\, Bucuresti
CATEGORIES:Club B52
ATTACH;FMTTYPE=image/jpeg:https://www.clubb52.ro/wp-content/uploads/2019/10/Monsters-Party-at-B52-Fane-la-Platane-MadLiquid.jpg
ORGANIZER;CN="Club B52":MAILTO:office@clubb52.ro
END:VEVENT
END:VCALENDAR