BEGIN:VCALENDAR
VERSION:2.0
PRODID:-//Club B52, Strada 11 Iunie, nr. 50 - Cluburi Bucuresti - ECPv6.15.20//NONSGML v1.0//EN
CALSCALE:GREGORIAN
METHOD:PUBLISH
X-ORIGINAL-URL:https://www.clubb52.ro
X-WR-CALDESC:Evenimente pentru Club B52, Strada 11 Iunie, nr. 50 - Cluburi Bucuresti
REFRESH-INTERVAL;VALUE=DURATION:PT1H
X-Robots-Tag:noindex
X-PUBLISHED-TTL:PT1H
BEGIN:VTIMEZONE
TZID:Europe/Moscow
BEGIN:STANDARD
TZOFFSETFROM:+0300
TZOFFSETTO:+0300
TZNAME:MSK
DTSTART:20180101T000000
END:STANDARD
END:VTIMEZONE
BEGIN:VEVENT
DTSTART;TZID=Europe/Moscow:20191002T200000
DTEND;TZID=Europe/Moscow:20191002T220000
DTSTAMP:20260424T132858
CREATED:20190928T072715Z
LAST-MODIFIED:20190928T072715Z
UID:10000037-1570046400-1570053600@www.clubb52.ro
SUMMARY:Impro Battle - All Star Game
DESCRIPTION:Începem acest sezon minunat de Impro Battle\, cu o ediție de sărbătoare. All Star Game înseamnă că în componența celor 2 echipe vor fi câte un improvizator de la fiecare din trupele următoare: Trupa Obligó\, Backstage Boys\, Urban Impro\, Trupa íELE\, Improvisneyland și Trupa Freeze! \n6 trupe pe aceeași scenă\, în B52 The Club\, miercuri\, 2 octombrie 2019\, de la ora 20.00. Echipele vor fi alese prin tragere la sorți la începutului spectacolului. \nIMPRO BATTLE este un format de TEATRU SPORT\, adica o competitie intre 2 echipe de improvizatori. Ele se vor provoca pe parcursul mai multor runde la jocuri de improvizatie diverse si vor fi jurizati de 3 experti – NARATIV\, TEHNIC si DIVERTISMENT. Iar deliciul suprem al acestui spectacol\, pe langa toate nebuniile care se intampla pe scena este faptul ca expertul in DIVERTISMENT este chiar PUBLICUL. \nPret bilet spectacol: 25 lei \nPentru rezervare suna sau trimite SMS la 0721.193.369. \nFacem apel la punctualitatea voastra si va rugam frumos sa ajungeti cu 15-20 de minute mai devreme ca sa putem incepe la timp! Portile B52 The Club se deschid la 19.30. \nMultumim din suflet! Va asteptam cu drag\, o sa fie o nebunie frumoasa!
URL:https://www.clubb52.ro/eveniment/impro-battle-all-star-game/
LOCATION:Club B52\, Str. 11 iunie Nr.50\, Bucuresti
CATEGORIES:Club B52
ATTACH;FMTTYPE=image/jpeg:https://www.clubb52.ro/wp-content/uploads/2019/09/Impro-Battle-All-Star-Game.jpg
ORGANIZER;CN="Club B52":MAILTO:office@clubb52.ro
END:VEVENT
BEGIN:VEVENT
DTSTART;TZID=Europe/Moscow:20191004T210000
DTEND;TZID=Europe/Moscow:20191005T050000
DTSTAMP:20260424T132858
CREATED:20190923T220633Z
LAST-MODIFIED:20190927T182531Z
UID:10000040-1570222800-1570251600@www.clubb52.ro
SUMMARY:Reggae Night Party cu Remi
DESCRIPTION:Pentru ca serile de reggae sunt tot mai rare\, ne am hotarat sa facem petreceri cu o energie deosebita si mult dans. Asa ca te asteptam pe 11 octombrie sa ne bucuram impreuna de muzica lui Alborosie\, Damian Marley\, Protoje\, Chronnix\, Gentleman\, Dub Inc. si multi altii. \nMuzica: DJ Remi\nINTRAREA LIBERA
URL:https://www.clubb52.ro/eveniment/reggae-night-party-cu-remi/
LOCATION:Club B52\, Str. 11 iunie Nr.50\, Bucuresti
CATEGORIES:Club B52
ATTACH;FMTTYPE=image/png:https://www.clubb52.ro/wp-content/uploads/2019/09/Reggae-Night-Party-cu-Remi-4-oct.png
ORGANIZER;CN="Club B52":MAILTO:office@clubb52.ro
END:VEVENT
BEGIN:VEVENT
DTSTART;TZID=Europe/Moscow:20191005T220000
DTEND;TZID=Europe/Moscow:20191006T050000
DTSTAMP:20260424T132858
CREATED:20191004T083011Z
LAST-MODIFIED:20191004T083011Z
UID:10000034-1570312800-1570338000@www.clubb52.ro
SUMMARY:Saturday Night Fever Party
DESCRIPTION:Acum\, ca ne-am linistit cu inceputul de scoli\, licee\, facultati\, sa ne apucam cum trebuie de petrecut.\nNe-am gandit si la studenti si studente. Continuam cu oferta noastra la bere\, dar avem ceva si pentru fete si am si marit intervalul orar.\nAsa ca\, daca vii intre 22:00 – 01:00\, platesti la bar 25 de lei\, primesti o bratara in baza careia bei cate Heineken draught si Mimoza Cocktail (proseco/orange) vrei. \nINTRAREA LIBERA \nMuzica: Phlo Da Shaolin (Basska)
URL:https://www.clubb52.ro/eveniment/saturday-night-fever-party-3/
LOCATION:Club B52\, Str. 11 iunie Nr.50\, Bucuresti
CATEGORIES:Club B52
ATTACH;FMTTYPE=image/jpeg:https://www.clubb52.ro/wp-content/uploads/2019/09/Saturday-Night-Fever-Party-at-club-B52.jpg
ORGANIZER;CN="Club B52":MAILTO:office@clubb52.ro
END:VEVENT
BEGIN:VEVENT
DTSTART;TZID=Europe/Moscow:20191009T200000
DTEND;TZID=Europe/Moscow:20191009T220000
DTSTAMP:20260424T132858
CREATED:20191008T054235Z
LAST-MODIFIED:20191008T054706Z
UID:10000028-1570651200-1570658400@www.clubb52.ro
SUMMARY:Impro Battle - íELE vs. Freeze
DESCRIPTION:Miercuri\, 9 octombrie\, ora 20.00\, în B52 The Club\, așa cum s-a stabilit în urma provocărilor\, Trupa íELE vs. Trupa Freeze care joacă cu invitat special Delia Alexandra Riciu. \nIMPRO BATTLE este un format de TEATRU SPORT\, adica o competitie intre 2 echipe de improvizatori. Ele se vor provoca pe parcursul mai multor runde la jocuri de improvizatie diverse si vor fi jurizati de 3 experti – NARATIV\, TEHNIC si DIVERTISMENT. Iar deliciul suprem al acestui spectacol\, pe langa toate nebuniile care se intampla pe scena este faptul ca expertul in DIVERTISMENT este chiar PUBLICUL. \nPret bilet spectacol: 25 lei \nPentru rezervare suna sau trimite SMS la 0721.193.369. \nFacem apel la punctualitatea voastra si va rugam frumos sa ajungeti cu 15-20 de minute mai devreme ca sa putem incepe la timp! Portile B52 The Club se deschid la 19.30.\nMultumim din suflet! Va asteptam cu drag\, o sa fie o nebunie frumoasa!
URL:https://www.clubb52.ro/eveniment/impro-battle-iele-vs-freeze/
LOCATION:Club B52\, Str. 11 iunie Nr.50\, Bucuresti
CATEGORIES:Club B52
ATTACH;FMTTYPE=image/jpeg:https://www.clubb52.ro/wp-content/uploads/2019/10/Impro-Battle-íELE-vs.-Freeze.jpg
ORGANIZER;CN="Club B52":MAILTO:office@clubb52.ro
END:VEVENT
BEGIN:VEVENT
DTSTART;TZID=Europe/Moscow:20191011T220000
DTEND;TZID=Europe/Moscow:20191012T050000
DTSTAMP:20260424T132858
CREATED:20191008T055656Z
LAST-MODIFIED:20191008T060021Z
UID:10000027-1570831200-1570856400@www.clubb52.ro
SUMMARY:Hituri\, NU Bulls'hituri Party
DESCRIPTION:Facem party frumos vineri seara pana sambata in zori!\nO data la ceva timp e indicat sa ne mai aducem aminte si de melodiile noastre de suflet\, care ne-au marcat anumite momente din viata\, dar care probabil cu timpul s-au mai uitat…..si melodiile si momentele.\nDaca aveti propuneri de melodii\, sunteti foarte invitati sa le postati pe wall-ul event-ului.\nINTRAREA LIBERA. \nMuzica:\nGabi – E.M.I.L./Niste Baieti (alternative\, rock\, electro\, ska\, reggae\, hip-hop\, pop\, d’n’b\, trap)\nOra 22:00 \nContinuam cu oferta noastra la bere\, dar avem ceva si pentru fete si am si marit intervalul orar.\nAsa ca\, daca vii intre 22:00 – 01:00\, platesti la bar 25 de lei\, primesti o bratara in baza careia bei cate Heineken draught si Mimosa Cocktail (proseco/orange) vrei.
URL:https://www.clubb52.ro/eveniment/hituri-nu-bullshituri-party/
LOCATION:Club B52\, Str. 11 iunie Nr.50\, Bucuresti
CATEGORIES:Club B52
ATTACH;FMTTYPE=image/jpeg:https://www.clubb52.ro/wp-content/uploads/2019/10/Hituri-NU-Bulls-hituri-Party-at-club-B52.jpg
ORGANIZER;CN="Club B52":MAILTO:office@clubb52.ro
END:VEVENT
BEGIN:VEVENT
DTSTART;TZID=Europe/Moscow:20191012T220000
DTEND;TZID=Europe/Moscow:20191013T050000
DTSTAMP:20260424T132858
CREATED:20191012T082237Z
LAST-MODIFIED:20191012T082433Z
UID:10000052-1570917600-1570942800@www.clubb52.ro
SUMMARY:Color Me Wild Party
DESCRIPTION:Pentru ca sambata este ce mai importanta zi din saptamana\, pentru ca la club B52 iese cel mai nebun party\, pentru ca petrecem pana dimineata in zori\, pentru\, pentru si iarasi pentru. Intrarea este libera. \nMuzica: DJ Skoo \nContinuam cu oferta noastra la bere\, dar avem ceva si pentru fete si am si marit intervalul orar.\nAsa ca\, daca vii intre 22:00 – 01:00\, platesti la bar 25 de lei\, primesti o bratara in baza careia bei cate Heineken draught si Mimosa Cocktail (proseco/orange) vrei.
URL:https://www.clubb52.ro/eveniment/color-me-wild-party/
LOCATION:Club B52\, Str. 11 iunie Nr.50\, Bucuresti
CATEGORIES:Club B52
ATTACH;FMTTYPE=image/jpeg:https://www.clubb52.ro/wp-content/uploads/2019/10/Color-Me-Wild-Party-Saturdays-at-B52.jpg
ORGANIZER;CN="Club B52":MAILTO:office@clubb52.ro
END:VEVENT
BEGIN:VEVENT
DTSTART;TZID=Europe/Moscow:20191016T200000
DTEND;TZID=Europe/Moscow:20191016T220000
DTSTAMP:20260424T132858
CREATED:20191008T060001Z
LAST-MODIFIED:20191008T060001Z
UID:10000024-1571256000-1571263200@www.clubb52.ro
SUMMARY:Impro Battle - Improvisneyland vs. Urban Impro
DESCRIPTION:Miercuri\, 16 octombrie\, ora 20.00\, în B52 The Club\, așa cum s-a stabilit în urma provocărilor\, Improvisneyland vs. Urban Impro. \nIMPRO BATTLE este un format de TEATRU SPORT\, adica o competitie intre 2 echipe de improvizatori. Ele se vor provoca pe parcursul mai multor runde la jocuri de improvizatie diverse si vor fi jurizati de 3 experti – NARATIV\, TEHNIC si DIVERTISMENT. Iar deliciul suprem al acestui spectacol\, pe langa toate nebuniile care se intampla pe scena este faptul ca expertul in DIVERTISMENT este chiar PUBLICUL. \nPret bilet spectacol: 25 lei \nPentru rezervare suna sau trimite SMS la 0721.193.369. \nFacem apel la punctualitatea voastra si va rugam frumos sa ajungeti cu 15-20 de minute mai devreme ca sa putem incepe la timp! Portile B52 The Club se deschid la 19.30.\nMultumim din suflet! Va asteptam cu drag\, o sa fie o nebunie frumoasa!
URL:https://www.clubb52.ro/eveniment/impro-battle-improvisneyland-vs-urban-impro/
LOCATION:Club B52\, Str. 11 iunie Nr.50\, Bucuresti
CATEGORIES:Club B52
ATTACH;FMTTYPE=image/jpeg:https://www.clubb52.ro/wp-content/uploads/2019/10/Impro-Battle-Improvisneyland-vs.-Urban-Impro.jpg
ORGANIZER;CN="Club B52":MAILTO:office@clubb52.ro
END:VEVENT
BEGIN:VEVENT
DTSTART;TZID=Europe/Moscow:20191017T210000
DTEND;TZID=Europe/Moscow:20191018T000000
DTSTAMP:20260424T132858
CREATED:20190919T090339Z
LAST-MODIFIED:20190919T090339Z
UID:10000041-1571346000-1571356800@www.clubb52.ro
SUMMARY:Niste Baieti + special guests | Live
DESCRIPTION:Palalila 4 Life Production prezinta:\nNISTE BAIETI (romanians punk-rock shlagars) live @ club B52.\nAlbert ne anunta din Germania ca ne va face o scurta vizita. Daca tot il prindem\, il suim pe scena pentru concert si ii facem si o petrecere pana dimineata de tot\, asa\, sa o tina minte pana la urmatoarea venire. \nJoi\, 17 octombrie\, orele 21:00\, club B52 (str. 11 iunie\, nr 50) \nInvitati speciali: To Be Announced \nBilet online: 30 lei (in curand va fi disponibil link-ul pentru achizitionare online)\nBilet la intrare: 40 lei
URL:https://www.clubb52.ro/eveniment/niste-baieti-special-guests-live/
LOCATION:Club B52\, Str. 11 iunie Nr.50\, Bucuresti
CATEGORIES:Club B52
ATTACH;FMTTYPE=image/jpeg:https://www.clubb52.ro/wp-content/uploads/2019/09/Niste-Baieti-special-guests-live-at-club-B52.jpg
ORGANIZER;CN="Club B52":MAILTO:office@clubb52.ro
END:VEVENT
BEGIN:VEVENT
DTSTART;TZID=Europe/Moscow:20191018T220000
DTEND;TZID=Europe/Moscow:20191019T060000
DTSTAMP:20260424T132858
CREATED:20191004T083638Z
LAST-MODIFIED:20191008T060809Z
UID:10000035-1571436000-1571464800@www.clubb52.ro
SUMMARY:Blazing Vibez 9th Anniversary - Full Crew Showcase
DESCRIPTION:Blazing Vibez a ajuns la a 9-a aniversare și ne-a trecut o sete de party mai mare ca niciodată. Așa că ne-am adunat de prin treburile noastre\, am strâns crew-ul complet și suntem pregătiți să să dăm cu reggae și dancehall în boxe. \nTe așteptăm și pe tine cu pantofii de dans ăia noi și cu o tona de vibe-uri bune ca să petrecem într-o seară cât alții în 9 ani!\n===================================================\nLineup: \nDJ Undoo – Champion DJ & Scratch Master\n–––––––––––––––––––––––––\nhttps://www.instagram.com/djundoo/\nhttps://soundcloud.com/dj-undoo \nDj Oldskull – Sound Architect & Mixing Arts Master\n–––––––––––––––––––––––––\nhttps://www.facebook.com/DjOldskull/\nhttps://www.mixcloud.com/discover/dj-oldskull/ \nChesarion – Dancehall Don & Vibe Alchemist\n–––––––––––––––––––––––––\nhttps://www.mixcloud.com/BlazingVibez/chesarion-dancehall-hero/\nhttps://www.mixcloud.com/BlazingVibez/chesarion-dancehall-don-vol-2-lawless/ \nRas T – Nu-Roots Revolutionary & Musical StoryTeller\n–––––––––––––––––––––––––\nhttps://www.mixcloud.com/vladrastaman/irie-vibez-mix/\nhttps://www.mixcloud.com/vladrastaman/revolution-mix/ \nZodiak – Original Trendsetter & Reggae Enthusiast\n–––––––––––––––––––––––––\nhttps://soundcloud.com/blazing-vibez-soundsystem/colentina-soundsystem-rupem \n18 Octombrie 2018 – Club B52 – 22.00\nArtist Support: 10 RON
URL:https://www.clubb52.ro/eveniment/blazing-vibez-9th-anniversary-full-crew-showcase/
LOCATION:Club B52\, Str. 11 iunie Nr.50\, Bucuresti
CATEGORIES:Club B52
ATTACH;FMTTYPE=image/jpeg:https://www.clubb52.ro/wp-content/uploads/2019/10/Blazing-Vibez-9th-Anniversary-Full-Crew-Showcase.jpg
ORGANIZER;CN="Club B52":MAILTO:office@clubb52.ro
END:VEVENT
BEGIN:VEVENT
DTSTART;TZID=Europe/Moscow:20191019T220000
DTEND;TZID=Europe/Moscow:20191020T050000
DTSTAMP:20260424T132858
CREATED:20191016T074509Z
LAST-MODIFIED:20191016T074509Z
UID:10000055-1571522400-1571547600@www.clubb52.ro
SUMMARY:Color Me Wild Party cu Amon
DESCRIPTION:Pentru ca sambata este ce mai importanta zi din saptamana\, pentru ca la club B52 iese cel mai nebun party\, pentru ca petrecem pana dimineata in zori\, pentru\, pentru si iarasi pentru. \nIntrarea este libera. \nContinuam cu oferta noastra la bere\, dar avem ceva si pentru fete si am si marit intervalul orar. \nAsa ca\, daca vii intre 22:00 – 01:00\, platesti la bar 25 de lei\, primesti o bratara in baza careia bei cate Heineken draught si Mimosa Cocktail (proseco/orange) vrei.
URL:https://www.clubb52.ro/eveniment/color-me-wild-party-cu-amon/
LOCATION:Club B52\, Str. 11 iunie Nr.50\, Bucuresti
CATEGORIES:Club B52
ATTACH;FMTTYPE=image/jpeg:https://www.clubb52.ro/wp-content/uploads/2019/10/Color-Me-Wild-Party-at-club-B52-cu-Amon.jpg
ORGANIZER;CN="Club B52":MAILTO:office@clubb52.ro
END:VEVENT
BEGIN:VEVENT
DTSTART;TZID=Europe/Moscow:20191023T200000
DTEND;TZID=Europe/Moscow:20191023T220000
DTSTAMP:20260424T132858
CREATED:20191008T060323Z
LAST-MODIFIED:20191008T060323Z
UID:10000023-1571860800-1571868000@www.clubb52.ro
SUMMARY:Impro Battle - Obligó vs. Backstage Boys
DESCRIPTION:Miercuri\, 23 octombrie\, ora 20.00\, în B52 The Club\, așa cum s-a stabilit în urma provocărilor\, Trupa Obligó vs. Backstage Boys \nIMPRO BATTLE este un format de TEATRU SPORT\, adica o competitie intre 2 echipe de improvizatori. Ele se vor provoca pe parcursul mai multor runde la jocuri de improvizatie diverse si vor fi jurizati de 3 experti – NARATIV\, TEHNIC si DIVERTISMENT. Iar deliciul suprem al acestui spectacol\, pe langa toate nebuniile care se intampla pe scena este faptul ca expertul in DIVERTISMENT este chiar PUBLICUL. \nPret bilet spectacol: 25 lei \nPentru rezervare suna sau trimite SMS la 0721.193.369.
URL:https://www.clubb52.ro/eveniment/impro-battle-obligo-vs-backstage-boys/
LOCATION:Club B52\, Str. 11 iunie Nr.50\, Bucuresti
CATEGORIES:Club B52
ATTACH;FMTTYPE=image/jpeg:https://www.clubb52.ro/wp-content/uploads/2019/10/Impro-Battle-Obligó-vs.-Backstage-Boys.jpg
ORGANIZER;CN="Club B52":MAILTO:office@clubb52.ro
END:VEVENT
BEGIN:VEVENT
DTSTART;TZID=Europe/Moscow:20191024T220000
DTEND;TZID=Europe/Moscow:20191025T010000
DTSTAMP:20260424T132858
CREATED:20191004T084001Z
LAST-MODIFIED:20191008T060813Z
UID:10000031-1571954400-1571965200@www.clubb52.ro
SUMMARY:Pistol Cu Capse & Zero Fox Given
DESCRIPTION:Joi 24 octombrie venim la B52 cu un viitor pilot in componenta formatiei (cine\, cine ???).\nNu suntem niciodata singuri\, asa ca Zero Fox Given vor da tot ce-au mai bun pentru un show memorabil. \nAcces: 30 lei – pre sale / 40 lei – at the door\nCat de curand apare si linkul cu biletele 😉
URL:https://www.clubb52.ro/eveniment/pistol-cu-capse-zero-fox-given/
LOCATION:Club B52\, Str. 11 iunie Nr.50\, Bucuresti
CATEGORIES:Club B52
ATTACH;FMTTYPE=image/jpeg:https://www.clubb52.ro/wp-content/uploads/2019/10/Pistol-Cu-Capse-Zero-Fox-Given.jpg
ORGANIZER;CN="Club B52":MAILTO:office@clubb52.ro
END:VEVENT
BEGIN:VEVENT
DTSTART;TZID=Europe/Moscow:20191025T220000
DTEND;TZID=Europe/Moscow:20191026T050000
DTSTAMP:20260424T132858
CREATED:20191016T074206Z
LAST-MODIFIED:20191016T074206Z
UID:10000054-1572040800-1572066000@www.clubb52.ro
SUMMARY:Electroteca with Amon & Phlo
DESCRIPTION:Electroteca. \nBoutique îndrăzneț unde-ți găsești viitoarele ingrediente preferate pentru dans. Beat variat\, ritm alternat subtil dar dinamic. Unde asculti și ce știi\, și ce nu știi. Electroteca adună laolaltă rețete de mixuri perfecte\, de la indie dance\, la nu disco\, ajungând la breaks\, grime ori dnb. Cu rezidenți și cu invitați. Cât să țină noaptea în priză. \nIntrarea libera. \nOn decks vineri:\nAMON\nPHLO da SHAOLIN
URL:https://www.clubb52.ro/eveniment/electroteca-with-amon-phlo/
LOCATION:Club B52\, Str. 11 iunie Nr.50\, Bucuresti
CATEGORIES:Club B52
ATTACH;FMTTYPE=image/jpeg:https://www.clubb52.ro/wp-content/uploads/2019/10/Electroteca-at-club-B52.jpg
ORGANIZER;CN="Club B52":MAILTO:office@clubb52.ro
END:VEVENT
BEGIN:VEVENT
DTSTART;TZID=Europe/Moscow:20191026T210000
DTEND;TZID=Europe/Moscow:20191027T050000
DTSTAMP:20260424T132858
CREATED:20191020T142744Z
LAST-MODIFIED:20191020T142744Z
UID:10000056-1572123600-1572152400@www.clubb52.ro
SUMMARY:Reggae Party cu Dj Remi
DESCRIPTION:Pentru ca serile de reggae sunt tot mai rare\, ne am hotarat sa facem petreceri cu o energie deosebita si mult dans. Asa ca te asteptam pe 26 octombrie sa ne bucuram impreuna de muzica lui Alborosie\, Damian Marley\, Protoje\, Chronnix\, Gentleman\, Dub Inc. si multi altii. \nMuzica: DJ Remi\nINTRAREA LIBERA
URL:https://www.clubb52.ro/eveniment/reggae-party-cu-dj-remi/
LOCATION:Club B52\, Str. 11 iunie Nr.50\, Bucuresti
CATEGORIES:Club B52
ATTACH;FMTTYPE=image/jpeg:https://www.clubb52.ro/wp-content/uploads/2019/10/Reggae-Party-cu-Dj-Remi-at-club-B52.jpg
ORGANIZER;CN="Club B52":MAILTO:office@clubb52.ro
END:VEVENT
BEGIN:VEVENT
DTSTART;TZID=Europe/Moscow:20191030T200000
DTEND;TZID=Europe/Moscow:20191030T220000
DTSTAMP:20260424T132858
CREATED:20191008T060634Z
LAST-MODIFIED:20191008T060634Z
UID:10000051-1572465600-1572472800@www.clubb52.ro
SUMMARY:Maestro - The Ultimate Improviser #5
DESCRIPTION:Intr-o lume in care sugestiile te pandesc la orice colt de strada\, 9 improvizatori au decis sa aduca miercuri\, pe 30 octombrie\, de la ora 20.00\, imaginatia lor\, pe aceeasi scena din B52 The Club\, intr-o competitie improvizata pentru a vedea cine este favoritul publicului\, cine este cel mai aplaudat\, cine este cel mai bun improvizator al serii\, cine va pleca acasa cu titlul de Maestro? \nIn rolul principal: PUBLICUL\, care va da sugestii pentru scene si va decide cine va merge mai departe\, prin aplauzele si notele acordate. \nOare vor putea improvizatorii sa reziste presiunii? Oare vor face fata regizorii acestei provocari de a gestiona spectacolul? Nu veti putea afla decat daca veti face rezervare la 0721.193.369! Biletul la acest spectacol este 25 lei. \nDe la creatorii formatului de Teatru Sport – Impro Battle\, aducem pe scena B52 The Club\, un nou format competitiv\, pe numele lui: Maestro – The Ultimate Improviser! \nImprovizatorii care se vor lupta pentru titlul de Maestro sunt cei mai votati 9 improvizatori din cele 6 trupe care au participat la Impro Battle in luna octombrie: TBA\nRegizorii: TBA \nFacem apel la punctualitatea voastră și vă rugăm frumos să ajungeți cu 15-20 de minute mai devreme ca să putem începe la timp! Porțile B52 The Club se deschid la 19.30. \nMulțumim frumos! Vă așteptăm cu drag! \nMaestro Impro™ is created (©) by Keith Johnstone (Keith Johnstone Workshops) registered in the U.S.A.\, Canada and other countries.\nAll Rights Reserved\nProduction rights are exclusively managed by International Theatresports™ Insititute (www.theatresports.com)
URL:https://www.clubb52.ro/eveniment/maestro-the-ultimate-improviser-5/
LOCATION:Club B52\, Str. 11 iunie Nr.50\, Bucuresti
CATEGORIES:Club B52
ATTACH;FMTTYPE=image/jpeg:https://www.clubb52.ro/wp-content/uploads/2019/10/Maestro-The-Ultimate-Improviser-5.jpg
ORGANIZER;CN="Club B52":MAILTO:office@clubb52.ro
END:VEVENT
END:VCALENDAR