BEGIN:VCALENDAR
VERSION:2.0
PRODID:-//Club B52, Strada 11 Iunie, nr. 50 - Cluburi Bucuresti - ECPv6.15.20//NONSGML v1.0//EN
CALSCALE:GREGORIAN
METHOD:PUBLISH
X-WR-CALNAME:Club B52, Strada 11 Iunie, nr. 50 - Cluburi Bucuresti
X-ORIGINAL-URL:https://www.clubb52.ro
X-WR-CALDESC:Evenimente pentru Club B52, Strada 11 Iunie, nr. 50 - Cluburi Bucuresti
REFRESH-INTERVAL;VALUE=DURATION:PT1H
X-Robots-Tag:noindex
X-PUBLISHED-TTL:PT1H
BEGIN:VTIMEZONE
TZID:Europe/Helsinki
BEGIN:DAYLIGHT
TZOFFSETFROM:+0200
TZOFFSETTO:+0300
TZNAME:EEST
DTSTART:20210328T010000
END:DAYLIGHT
BEGIN:STANDARD
TZOFFSETFROM:+0300
TZOFFSETTO:+0200
TZNAME:EET
DTSTART:20211031T010000
END:STANDARD
BEGIN:DAYLIGHT
TZOFFSETFROM:+0200
TZOFFSETTO:+0300
TZNAME:EEST
DTSTART:20220327T010000
END:DAYLIGHT
BEGIN:STANDARD
TZOFFSETFROM:+0300
TZOFFSETTO:+0200
TZNAME:EET
DTSTART:20221030T010000
END:STANDARD
BEGIN:DAYLIGHT
TZOFFSETFROM:+0200
TZOFFSETTO:+0300
TZNAME:EEST
DTSTART:20230326T010000
END:DAYLIGHT
BEGIN:STANDARD
TZOFFSETFROM:+0300
TZOFFSETTO:+0200
TZNAME:EET
DTSTART:20231029T010000
END:STANDARD
BEGIN:DAYLIGHT
TZOFFSETFROM:+0200
TZOFFSETTO:+0300
TZNAME:EEST
DTSTART:20240331T010000
END:DAYLIGHT
BEGIN:STANDARD
TZOFFSETFROM:+0300
TZOFFSETTO:+0200
TZNAME:EET
DTSTART:20241027T010000
END:STANDARD
END:VTIMEZONE
BEGIN:VEVENT
DTSTART;TZID=Europe/Helsinki:20221202T210000
DTEND;TZID=Europe/Helsinki:20221203T050000
DTSTAMP:20260422T035213
CREATED:20221126T212526Z
LAST-MODIFIED:20221126T212526Z
UID:10000201-1670014800-1670043600@www.clubb52.ro
SUMMARY:Hituri\, Nu Bulls'hituri Party by Gabi
DESCRIPTION:Vineri\, 2 decembrie\, orele 21:00. \nB52 The Club\, str. 11 iunie\, nr 50. \nDansam si ne mai aducem aminte de melodiile noastre de suflet\, care ne-au marcat anumite momente din viata\, dar care probabil\, cu timpul\, s-au mai uitat…..si melodiile si momentele. \nMuzica: Gabi- E.M.I.L./Niste Baieti (alternative\, rock\, electro\, ska\, reggae\, hip-hop\, pop\, d’n’b) \nIntrare: 20 lei.
URL:https://www.clubb52.ro/eveniment/hituri-nu-bullshituri-party-by-gabi-3/
LOCATION:Club B52\, Str. 11 iunie Nr.50\, Bucuresti
CATEGORIES:Club B52
ATTACH;FMTTYPE=image/jpeg:https://www.clubb52.ro/wp-content/uploads/2022/05/Hituri-Nu-Bullshituri-comeback-Party.jpg
ORGANIZER;CN="Club B52":MAILTO:office@clubb52.ro
END:VEVENT
BEGIN:VEVENT
DTSTART;TZID=Europe/Helsinki:20221203T220000
DTEND;TZID=Europe/Helsinki:20221204T050000
DTSTAMP:20260422T035213
CREATED:20221126T212901Z
LAST-MODIFIED:20221126T212932Z
UID:10000153-1670104800-1670130000@www.clubb52.ro
SUMMARY:O Data Pe Luna: KEV x DICE si CRETZU (invitati)
DESCRIPTION:🎉Pe data de 3 Decembrie\, in Club B52\, O Data Pe Luna Party va invita pentru ultimul eveniment din acest an\, cu un concert KEV x DICE\, alături de un invitat special\, CRETZU! \nAduși in atenția industriei muzicale datorită stilului new school\, piperat cu skill de hip-hop autentic\, 🎤KEV x DICE si CRETZU va asteapta sa celebram industria rap așa cum știm noi mai bine! 🍻 \nLa pupitru ii voim gasi pe 🎧DJ Serbanesku și 🎧DJ Only 29! \n🎫Entry Fee: 25 RON\n⏰ 03.12\n📍Club B52\, Bucuresti
URL:https://www.clubb52.ro/eveniment/o-data-pe-luna-kev-x-dice-si-cretzu-invitati/
LOCATION:Club B52\, Str. 11 iunie Nr.50\, Bucuresti
CATEGORIES:Club B52
ATTACH;FMTTYPE=image/jpeg:https://www.clubb52.ro/wp-content/uploads/2022/11/O-Data-Pe-Luna-KEV-x-DICE-si-CRETZU-invitati.jpg
ORGANIZER;CN="Club B52":MAILTO:office@clubb52.ro
END:VEVENT
BEGIN:VEVENT
DTSTART;TZID=Europe/Helsinki:20221207T200000
DTEND;TZID=Europe/Helsinki:20221207T200000
DTSTAMP:20260422T035213
CREATED:20221117T083115Z
LAST-MODIFIED:20221117T083115Z
UID:10000194-1670443200-1670443200@www.clubb52.ro
SUMMARY:IMPRO.EXE vs. Threemprov - Optimi #3
DESCRIPTION:Ne-am săturat să auzim “Hey\, dar voi când mai faceți battle-uri? Hey\, când dați drumul la treabă? Hey\, cine e băiatul ăla sexy care aranja scaune pe aici? Hey\, îmi dai și mie numărul lui Vali? Când mai prezintă Murzea?”. \nA durat un pic să ne dezmeticim și să ne organizăm\, dar așteptarea a luat sfârșit! \n𝐂𝐮𝐩𝐚 𝐈𝐦𝐩𝐫𝐨 𝐁𝐚𝐭𝐭𝐥𝐞 𝟐𝟎𝟐𝟐-𝟐𝟎𝟐𝟑 e aici. Mai multe trupe (și mai vechi\, și mai fresh\, și din provincie)\, mai multe meciuri\, mai multă improvizație\, mai multă distracție\, mai multe sticle de bere pe masă la finalul show-ului. Căci\, așa cum ziceau versurile unei melodii celebre adaptate\, avem necazuri și nevoi… dar 𝐈𝐦𝐩𝐫𝐨 𝐁𝐚𝐭𝐭𝐥𝐞 e cu tiiiineee! \nCalendarul optimilor este următorul:\n16 nov 2022 – Urban Impro vs. Impro Fly (v-am zis că avem și trupe fresh)\n2̵2̵ ̵n̵o̵v̵ ̵2̵0̵2̵2̵ ̵–̵ ̵D̵a̵n̵ ̵M̵i̵r̵o̵n̵ ̵d̵ă̵ ̵d̵e̵ ̵b̵ă̵u̵t̵ ̵d̵e̵ ̵z̵i̵u̵a̵ ̵l̵u̵i̵\n23 nov 2022 – Obligo vs. Motus (care fac parte din proiectul Poetica Motus\, au fost la Improfest)\nC̵O̵M̵B̵O̵ ̵3̵0̵ ̵n̵o̵v̵ ̵ș̵i̵ ̵1̵ ̵d̵e̵c̵ ̵–̵ ̵s̵e̵ ̵l̵a̵s̵ă̵ ̵c̵u̵ ̵p̵a̵r̵a̵n̵g̵h̵e̵l̵i̵e̵\,̵ ̵D̵O̵ ̵N̵O̵T̵ ̵D̵I̵S̵T̵U̵R̵B̵\n6̵ ̵d̵e̵c̵ ̵2̵0̵2̵2̵ ̵–̵ ̵t̵e̵ ̵r̵o̵g̵i̵ ̵s̵ă̵ ̵î̵ț̵i̵ ̵l̵a̵s̵e̵ ̵M̵o̵ș̵ ̵N̵i̵c̵o̵l̵a̵e̵ ̵c̵e̵v̵a̵ ̵î̵n̵ ̵g̵h̵e̵t̵u̵ț̵e̵\n7 dec 2022 – IMPRO.EXE (da\, da… rebranding… băieții de la Improfix de care v-a plăcut maxim sezonul trecut) vs. Threemprov (vom păstra misterul)\n10 dec 2022 – Improbabilii vs. No\, amu – ambele trupe sunt din Cluj\, așa că se joacă pe Maidan (chiar e o locație din Cluj)\n14 dec 2022 – iELE vs. Wednesday Improv (o să mai tot auziți de ei)\n[̵i̵n̵s̵e̵r̵t̵ ̵C̵h̵r̵i̵s̵t̵m̵a̵s̵ ̵s̵p̵i̵r̵i̵t̵ ̵h̵e̵r̵e̵ ̵–̵ ̵c̵a̵d̵o̵u̵r̵i̵\,̵ ̵b̵r̵a̵d̵\,̵ ̵M̵o̵ș̵ ̵C̵r̵ă̵c̵i̵u̵n̵\,̵ ̵R̵e̵v̵e̵l̵i̵o̵n̵\,̵ ̵L̵a̵ ̵m̵u̵l̵ț̵i̵ ̵a̵n̵i̵\,̵ ̵t̵r̵e̵b̵u̵i̵e̵ ̵s̵ă̵ ̵n̵e̵ ̵r̵e̵î̵n̵t̵o̵a̵r̵c̵e̵m̵ ̵l̵a̵ ̵m̵u̵n̵c̵ă̵]̵\n11 ian 2023 – Improhub vs. Poetica (cealaltă parte din Poetica Motus)\n18 ian 2023 – Backstage Boys vs. B.A.T. (mai păstrăm suspansul)\n23 ian 2023 – Freeze vs. H2O (o trupă din Pitești\, ce nebunie!)\nPentru cei care n-au mai fost până acum la spectacolele noastre\, IMPRO BATTLE este un format de TEATRU SPORT\, adică o competiție între 2 echipe de improvizatori. Ele se vor provoca pe parcursul mai multor runde\, la scene și jocuri de improvizație diverse și vor fi jurizați\, atât de către public\, cât și de către semenii lor improvizatori care vor analiza obiectiv de la pupitrul juriului. \n🎫 Biletele pot fi achiziționate online de pe eventbook.ro (ceea ce și recomandăm) sau cash de la intrare\, dar numai cu rezervare în prealabil.\nPreț bilet per spectacol: 40 lei \n☎ Rezervare obligatorie\, chiar dacă ați achiziționat bilete online și neapărat menționați acest aspect la telefon. Sună sau trimite SMS la 0786.104.846\, e omul nostru de încredere\, și e și creț. \n⌚ Facem apel la punctualitatea voastră și vă rugăm frumos să ajungeți cu 15-20 de minute mai devreme ca să putem începe la timp! Porțile B52 The Club se deschid la 19.30.\nMulțumim din suflet! Vă așteptăm cu drag\, o să fie o nebunie frumoasă!
URL:https://www.clubb52.ro/eveniment/impro-exe-vs-threemprov-optimi-3/
LOCATION:Club B52\, Str. 11 iunie Nr.50\, Bucuresti
CATEGORIES:Club B52
ATTACH;FMTTYPE=image/jpeg:https://www.clubb52.ro/wp-content/uploads/2022/11/IMPRO.EXE-vs.-Threemprov-Optimi-3.jpg
ORGANIZER;CN="Club B52":MAILTO:office@clubb52.ro
END:VEVENT
BEGIN:VEVENT
DTSTART;TZID=Europe/Helsinki:20221209T220000
DTEND;TZID=Europe/Helsinki:20221210T050000
DTSTAMP:20260422T035213
CREATED:20221206T152656Z
LAST-MODIFIED:20221206T152656Z
UID:10000180-1670623200-1670648400@www.clubb52.ro
SUMMARY:Bomber Fridays Party by Remi
DESCRIPTION:Clubul cu nume de avion e echipat cu Jägerbombs si alte muniții colorate\, mai grele sau mai ușoare\, atât la bar cât și la muzică. \nSe cheamă Bomber Fridays și ești invitat. \nINTRAREA 15 lei. \nVineri\, 9 decembrie\, B52 The Club\, str. 11 iunie\, nr 50\, orele 22:00 pana dimineata. \nOn decks: Remi with love – funky\, pop\, hip hop
URL:https://www.clubb52.ro/eveniment/bomber-fridays-party-by-remi/
LOCATION:Club B52\, Str. 11 iunie Nr.50\, Bucuresti
CATEGORIES:Club B52
ATTACH;FMTTYPE=image/jpeg:https://www.clubb52.ro/wp-content/uploads/2019/10/Bomber-Fridays-Party-at-club-B52.jpg
ORGANIZER;CN="Club B52":MAILTO:office@clubb52.ro
END:VEVENT
BEGIN:VEVENT
DTSTART;TZID=Europe/Helsinki:20221210T210000
DTEND;TZID=Europe/Helsinki:20221211T050000
DTSTAMP:20260422T035213
CREATED:20221206T152911Z
LAST-MODIFIED:20221206T153028Z
UID:10000178-1670706000-1670734800@www.clubb52.ro
SUMMARY:Can't Touch This (80's & 90's Party) by Jiji @ B52 The Club & Fabrica
DESCRIPTION:B52 The Club & Fabrica la etaj – sambata\, 10 decembrie\, orele 21. \nLet’s dance\, let’s party\, let’s touch this! \nJoin us and discover the spicy and groovy atmosphere of 80’s & 90’s\, blooms your senses with cool people and icy drinks. \nDj Jiji ne trece de la MC Hammer la Coco Jamboo si de la CC Catch la Duran Duran. \nSupport: 20 LEI
URL:https://www.clubb52.ro/eveniment/cant-touch-this-80s-90s-party-by-jiji-b52-the-club-fabrica/
LOCATION:Club B52\, Str. 11 iunie Nr.50\, Bucuresti
CATEGORIES:Club B52
ATTACH;FMTTYPE=image/jpeg:https://www.clubb52.ro/wp-content/uploads/2022/05/Cant-Touch-This-80-90s-Party-cu-Jiji.jpg
ORGANIZER;CN="Club B52":MAILTO:office@clubb52.ro
END:VEVENT
BEGIN:VEVENT
DTSTART;TZID=Europe/Helsinki:20221214T200000
DTEND;TZID=Europe/Helsinki:20221214T200000
DTSTAMP:20260422T035213
CREATED:20221117T083604Z
LAST-MODIFIED:20221117T083604Z
UID:10000196-1671048000-1671048000@www.clubb52.ro
SUMMARY:Trupa íELE vs. Wednesday Improv - Optimi #5
DESCRIPTION:Ne-am săturat să auzim “Hey\, dar voi când mai faceți battle-uri? Hey\, când dați drumul la treabă? Hey\, cine e băiatul ăla sexy care aranja scaune pe aici? Hey\, îmi dai și mie numărul lui Vali? Când mai prezintă Murzea?”. \nA durat un pic să ne dezmeticim și să ne organizăm\, dar așteptarea a luat sfârșit!\n𝐂𝐮𝐩𝐚 𝐈𝐦𝐩𝐫𝐨 𝐁𝐚𝐭𝐭𝐥𝐞 𝟐𝟎𝟐𝟐-𝟐𝟎𝟐𝟑 e aici. Mai multe trupe (și mai vechi\, și mai fresh\, și din provincie)\, mai multe meciuri\, mai multă improvizație\, mai multă distracție\, mai multe sticle de bere pe masă la finalul show-ului. Căci\, așa cum ziceau versurile unei melodii celebre adaptate\, avem necazuri și nevoi… dar 𝐈𝐦𝐩𝐫𝐨 𝐁𝐚𝐭𝐭𝐥𝐞 e cu tiiiineee! \nCalendarul optimilor este următorul:\n16 nov 2022 – Urban Impro vs. Impro Fly (v-am zis că avem și trupe fresh)\n2̵2̵ ̵n̵o̵v̵ ̵2̵0̵2̵2̵ ̵–̵ ̵D̵a̵n̵ ̵M̵i̵r̵o̵n̵ ̵d̵ă̵ ̵d̵e̵ ̵b̵ă̵u̵t̵ ̵d̵e̵ ̵z̵i̵u̵a̵ ̵l̵u̵i̵\n23 nov 2022 – Obligo vs. Motus (care fac parte din proiectul Poetica Motus\, au fost la Improfest)\nC̵O̵M̵B̵O̵ ̵3̵0̵ ̵n̵o̵v̵ ̵ș̵i̵ ̵1̵ ̵d̵e̵c̵ ̵–̵ ̵s̵e̵ ̵l̵a̵s̵ă̵ ̵c̵u̵ ̵p̵a̵r̵a̵n̵g̵h̵e̵l̵i̵e̵\,̵ ̵D̵O̵ ̵N̵O̵T̵ ̵D̵I̵S̵T̵U̵R̵B̵\n6̵ ̵d̵e̵c̵ ̵2̵0̵2̵2̵ ̵–̵ ̵t̵e̵ ̵r̵o̵g̵i̵ ̵s̵ă̵ ̵î̵ț̵i̵ ̵l̵a̵s̵e̵ ̵M̵o̵ș̵ ̵N̵i̵c̵o̵l̵a̵e̵ ̵c̵e̵v̵a̵ ̵î̵n̵ ̵g̵h̵e̵t̵u̵ț̵e̵\n7 dec 2022 – IMPRO.EXE (da\, da… rebranding… băieții de la Improfix de care v-a plăcut maxim sezonul trecut) vs. Threemprov (vom păstra misterul)\n10 dec 2022 – Improbabilii vs. No\, amu – ambele trupe sunt din Cluj\, așa că se joacă pe Maidan (chiar e o locație din Cluj)\n14 dec 2022 – iELE vs. Wednesday Improv (o să mai tot auziți de ei)\n[̵i̵n̵s̵e̵r̵t̵ ̵C̵h̵r̵i̵s̵t̵m̵a̵s̵ ̵s̵p̵i̵r̵i̵t̵ ̵h̵e̵r̵e̵ ̵–̵ ̵c̵a̵d̵o̵u̵r̵i̵\,̵ ̵b̵r̵a̵d̵\,̵ ̵M̵o̵ș̵ ̵C̵r̵ă̵c̵i̵u̵n̵\,̵ ̵R̵e̵v̵e̵l̵i̵o̵n̵\,̵ ̵L̵a̵ ̵m̵u̵l̵ț̵i̵ ̵a̵n̵i̵\,̵ ̵t̵r̵e̵b̵u̵i̵e̵ ̵s̵ă̵ ̵n̵e̵ ̵r̵e̵î̵n̵t̵o̵a̵r̵c̵e̵m̵ ̵l̵a̵ ̵m̵u̵n̵c̵ă̵]̵\n11 ian 2023 – Improhub vs. Poetica (cealaltă parte din Poetica Motus)\n18 ian 2023 – Backstage Boys vs. B.A.T. (mai păstrăm suspansul)\n23 ian 2023 – Freeze vs. H2O (o trupă din Pitești\, ce nebunie!) \nPentru cei care n-au mai fost până acum la spectacolele noastre\, IMPRO BATTLE este un format de TEATRU SPORT\, adică o competiție între 2 echipe de improvizatori. Ele se vor provoca pe parcursul mai multor runde\, la scene și jocuri de improvizație diverse și vor fi jurizați\, atât de către public\, cât și de către semenii lor improvizatori care vor analiza obiectiv de la pupitrul juriului. \n🎫 Biletele pot fi achiziționate online de pe eventbook.ro (ceea ce și recomandăm) sau cash de la intrare\, dar numai cu rezervare în prealabil.\nPreț bilet per spectacol: 40 lei \n☎ Rezervare obligatorie\, chiar dacă ați achiziționat bilete online și neapărat menționați acest aspect la telefon. Sună sau trimite SMS la 0786.104.846\, e omul nostru de încredere\, și e și creț.\n⌚ Facem apel la punctualitatea voastră și vă rugăm frumos să ajungeți cu 15-20 de minute mai devreme ca să putem începe la timp! Porțile B52 The Club se deschid la 19.30. \nMulțumim din suflet! Vă așteptăm cu drag\, o să fie o nebunie frumoasă!
URL:https://www.clubb52.ro/eveniment/trupa-iele-vs-wednesday-improv-optimi-5/
LOCATION:Club B52\, Str. 11 iunie Nr.50\, Bucuresti
CATEGORIES:Club B52
ATTACH;FMTTYPE=image/jpeg:https://www.clubb52.ro/wp-content/uploads/2022/11/Trupa-iELE-vs.-Wednesday-Improv-Optimi-5.jpg
ORGANIZER;CN="Club B52":MAILTO:office@clubb52.ro
END:VEVENT
BEGIN:VEVENT
DTSTART;TZID=Europe/Helsinki:20221215T210000
DTEND;TZID=Europe/Helsinki:20221216T050000
DTSTAMP:20260422T035213
CREATED:20221206T152046Z
LAST-MODIFIED:20221206T152046Z
UID:10000155-1671138000-1671166800@www.clubb52.ro
SUMMARY:B52 The Club - 18 Years Anniversary Party
DESCRIPTION:Prin 2004\, in Vama Veche\, lua fiinta terasa in care toata lumea se cunoastea cu toata lumea\, iar daca nu cunosteai pe nimeni intr-un weekend deveneai de-ai nostri\, ceea ce se intampla si in ziua de azi\, daca ne calci pragul clubului. \nUite ca de atunci au trecut 18 ani si am zis sa punem de o petrecere demna de un majorat. Stii cum e la majorat? E party-ul ala pe care il tii minte toata viata! Party-ul ala in care nu te mai trage nimeni la raspundere ca bei ceva si nu mai esti nevoit sa ii pui pe aia mai mari sa iti cumpere un long drink. \nAsa vom fi noi\, joi\, pe 15 decembrie\, de la orele 21:00. Avem voie\, legal\, sa dam noroc cu niste shoturi si sa bem o cuba libre pana spre 5-6 dimineata. \nSi ca totul sa mearga ca uns\, la foldere muzicale\, microfoane\, dansuri ii avem la butoane pe Gabi (E.M.I.L./Niste Baieti)\, Yardie Flo (Basska) si Fane La Platane. \nEsti invitat la majoratul nostru\, cel mai important pas in viata de acum incolo. Cum petrecem joi seara\, o sa petrecem sigur pana la 30 de ani. Asa e in viata!
URL:https://www.clubb52.ro/eveniment/b52-the-club-18-years-anniversary-party/
LOCATION:Club B52\, Str. 11 iunie Nr.50\, Bucuresti
CATEGORIES:Club B52
ATTACH;FMTTYPE=image/jpeg:https://www.clubb52.ro/wp-content/uploads/2022/12/B52-The-Club-18-Years-Anniversary-Party.jpg
ORGANIZER;CN="Club B52":MAILTO:office@clubb52.ro
END:VEVENT
BEGIN:VEVENT
DTSTART;TZID=Europe/Helsinki:20221231T210000
DTEND;TZID=Europe/Helsinki:20230101T050000
DTSTAMP:20260422T035213
CREATED:20221126T220211Z
LAST-MODIFIED:20221126T232037Z
UID:10000157-1672520400-1672549200@www.clubb52.ro
SUMMARY:Petrecere Revelion 2023 - New Year's Eve Party @ B52 The Club & Fabrica
DESCRIPTION:Petrecere Revelion 2023 – New Year’s Eve Party @ B52 The Club & Fabrica \nStiti ca unii spun ca e doar un alt party de weekend? Noi zicem ca nu va fi asa\, ci ca va fi o petrecere speciala. Va fi cea mai asteptata petrecere a anului.\nNu mai petrecem ca in trecut 3 zile si 3 nopti\, cum spune basmul\, dar petrecem de 3 ori intr-o singura seara. \nAsa ca:\n– Fabrica Pub (parter) cu muzica de la Bogdan Nicolescu – il stiti foarte bine pentru ca l-ati aplaudat de fiecare data cand a mai fost la noi; mai pe pop music\, mai pe radio friendly\n– Fabrica Club (etaj) cu DJ Jiji si ale lui 90’s\, dar nu numai\n– B52 The Club cu Gabi Georgescu – posesor de laptop\, foldere si hit-uri pe care stii sa le fredonezi pana in zori. \nPoti sa te plimbi pe la toate 3 in functie de ce stare ai! \nSi pentru ca trebuie sa fie o seara perfecta am zis sa: \nFel 1 \n\nVol au vent cu tentacule de calamar confiat in usturoi cu rozmarin si piure de porumb picant\nRoast beef cu legume aromate (radacinoase telina\, pastarnac\, sfecla)\nCrostini cu somon afumat si pasta de branza\nClatita sarata cu spanac si pasta de branza cu fulgi de chorizzo\nCreveti tempura cu sos de alune\nPiept de rata afumat cu mix de ciuperci\n\nFel 2 \n\nFile de cod marinat in sfecla\n\nFel 3 \n\nCoasta porc cu sos bbq\nAripioare grill in stil arabesc\nOrez cu lapte de cocos si porumb\nTarta de cartofi cu rozmarin si trufe negre\n\nToate acestea in regim de bufet suedez @ Petrecere Revelion 2023. \nSperam ca nu am uitat ceva! \nAaaaaaaa\, ba da. NU se poate dans fara OPEN BAR: \n\nBere: Ciuc\, Silva\, Heineken\nVin la pahar: alb/roze/rosu crama Sarica Niculitel\nWhiskey: Ballantines\, Four Roses\, Jameson\nVodka: Absolut\nRom: Havana\nTequilla: Olmeca\nLong drinks: Vodka Apple\, Whiskey Cola\, Gin Tonic\, Cuba Libre\, Vodka Orange\, Vodka Cola\, Vodka Tonic\, Martini Tonic\, Campari Tonic\, Tequilla Sunrise\, Campari Orange\, Amaretto Apple\, Vodka Energy\, Whiskey Energy\nRacoritoare: Pepsi\, Pepsi Black\, Pepsi Twist\, Mirinda\, Mountain Dew\, 7Up\, 7Up Lemon\, 7Up Grapefruit\, Lipton Ice T (lamaie/piersica)\, Prigat (portocale\, capsuni-banane\, piersici\, pere\, kiwi)\, Apa tonica Evervess\nApa: plata/minerala\nCafea: Espresso si Espresso fara cofeina\n\nPreturi Party Petrecere Revelion 2023: \n\n– 490 lei/pers – cu loc la masa (aici trebuie sa specificati in care dintre cele 3 spatii doriti)\n– 390 lei/pers – in picioare\n*** 350 lei/pers (early bird pana pe 9 decembrie) – in picioare\n– 250 lei/pers la intrare\, dupa ora 1:30 AM.\n\n*** Rezervarea este valabila doar cu achitarea integrala a sumei la barul Fabrica Parter. \nDetalii: 0753.227.422. \nIncepem la orele 21:00 si terminam la 5 dimineata!
URL:https://www.clubb52.ro/eveniment/petrecere-revelion-2023-new-years-eve-party-b52-the-club-fabrica/
LOCATION:Club B52\, Str. 11 iunie Nr.50\, Bucuresti
CATEGORIES:Club B52
ATTACH;FMTTYPE=image/jpeg:https://www.clubb52.ro/wp-content/uploads/2022/11/New-Years-Eve-Party-2023-@-Fabrica-B52-The-Club.jpg
ORGANIZER;CN="Club B52":MAILTO:office@clubb52.ro
END:VEVENT
END:VCALENDAR