BEGIN:VCALENDAR
VERSION:2.0
PRODID:-//Club B52, Strada 11 Iunie, nr. 50 - Cluburi Bucuresti - ECPv6.15.20//NONSGML v1.0//EN
CALSCALE:GREGORIAN
METHOD:PUBLISH
X-ORIGINAL-URL:https://www.clubb52.ro
X-WR-CALDESC:Evenimente pentru Club B52, Strada 11 Iunie, nr. 50 - Cluburi Bucuresti
REFRESH-INTERVAL;VALUE=DURATION:PT1H
X-Robots-Tag:noindex
X-PUBLISHED-TTL:PT1H
BEGIN:VTIMEZONE
TZID:Europe/Helsinki
BEGIN:DAYLIGHT
TZOFFSETFROM:+0200
TZOFFSETTO:+0300
TZNAME:EEST
DTSTART:20210328T010000
END:DAYLIGHT
BEGIN:STANDARD
TZOFFSETFROM:+0300
TZOFFSETTO:+0200
TZNAME:EET
DTSTART:20211031T010000
END:STANDARD
BEGIN:DAYLIGHT
TZOFFSETFROM:+0200
TZOFFSETTO:+0300
TZNAME:EEST
DTSTART:20220327T010000
END:DAYLIGHT
BEGIN:STANDARD
TZOFFSETFROM:+0300
TZOFFSETTO:+0200
TZNAME:EET
DTSTART:20221030T010000
END:STANDARD
BEGIN:DAYLIGHT
TZOFFSETFROM:+0200
TZOFFSETTO:+0300
TZNAME:EEST
DTSTART:20230326T010000
END:DAYLIGHT
BEGIN:STANDARD
TZOFFSETFROM:+0300
TZOFFSETTO:+0200
TZNAME:EET
DTSTART:20231029T010000
END:STANDARD
END:VTIMEZONE
BEGIN:VEVENT
DTSTART;TZID=Europe/Helsinki:20220603T220000
DTEND;TZID=Europe/Helsinki:20220604T050000
DTSTAMP:20260422T130333
CREATED:20220517T060058Z
LAST-MODIFIED:20220517T060124Z
UID:10000119-1654293600-1654318800@www.clubb52.ro
SUMMARY:Hituri\, Nu Bulls'hituri - comeback Party
DESCRIPTION:Acum 4 ani se intampla prima editie. E timpul de un comeback! \nO data la ceva timp e indicat sa ne mai aducem aminte si de melodiile noastre de suflet\, care ne-au marcat anumite momente din viata\, dar care probabil cu timpul s-au mai uitat…..si melodiile si momentele. \nMuzica: Gabriel – E.M.I.L./Niste Baieti (alternative\, rock\, electro\, ska\, reggae\, hip-hop\, pop\, d’n’b) \nIntrare: 15 lei. \n***Avem aer conditionat nou si puternic\, asa ca nu o sa ne topim de caldura cand dansam!!!!
URL:https://www.clubb52.ro/eveniment/hituri-nu-bullshituri-comeback-party/
LOCATION:Club B52\, Str. 11 iunie Nr.50\, Bucuresti
CATEGORIES:Club B52
ATTACH;FMTTYPE=image/jpeg:https://www.clubb52.ro/wp-content/uploads/2022/05/Hituri-Nu-Bullshituri-comeback-Party.jpg
ORGANIZER;CN="Club B52":MAILTO:office@clubb52.ro
END:VEVENT
BEGIN:VEVENT
DTSTART;TZID=Europe/Helsinki:20220604T210000
DTEND;TZID=Europe/Helsinki:20220605T050000
DTSTAMP:20260422T130333
CREATED:20220525T175515Z
LAST-MODIFIED:20220525T175614Z
UID:10000128-1654376400-1654405200@www.clubb52.ro
SUMMARY:Can't Touch This (80's & 90's Party) by Jiji
DESCRIPTION:Let’s dance\, let’s party\, let’s touch this! \nJoin us and discover the spicy and groovy atmosphere of 80’s & 90’s\, blooms your senses with cool people and icy drinks. \nDj Jiji ne trece de la MC Hammer la Coco Jamboo si de la CC Catch la Duran Duran. \nSupport: 15 LEI
URL:https://www.clubb52.ro/eveniment/cant-touch-this-80s-90s-party-by-jiji/
LOCATION:Club B52\, Str. 11 iunie Nr.50\, Bucuresti
CATEGORIES:Club B52
ATTACH;FMTTYPE=image/jpeg:https://www.clubb52.ro/wp-content/uploads/2022/05/Cant-Touch-This-80-90s-Party-cu-Jiji.jpg
ORGANIZER;CN="Club B52":MAILTO:office@clubb52.ro
END:VEVENT
BEGIN:VEVENT
DTSTART;TZID=Europe/Helsinki:20220608T200000
DTEND;TZID=Europe/Helsinki:20220608T220000
DTSTAMP:20260422T130333
CREATED:20220606T094858Z
LAST-MODIFIED:20220606T094858Z
UID:10000156-1654718400-1654725600@www.clubb52.ro
SUMMARY:Maestro - The Ultimate Improviser
DESCRIPTION:A fost Cupa Impro Battle 2022\, trupa cu cel mai bun parcurs a luat trofeul acasă\, dar avem 5 euro înrămați care așteaptă să fie ținuți în mână de cel mai bun improvizator al serii!\nCum vom face asta? Îi vom aduce pe scenă pe cei mai aplaudați improvizatori ai campionatului și îi vom arunca într-un maraton de provocări lansate deopotrivă de regizor și public\, vom nota fiecare scenă și ușor\, ușor\, vom elimina din ei\, până vom rămâne cu unul singur ce va fi încoronat cu titlul de Maestro – The Ultimate Improviser! \nImprovizatorii:\n👑 Urban Impro – Miky Georgescu\n👑 Backstage Boys – Sever Bârzan\n👑 ImproFIX – Emanuel Bighe\n👑 Trupa iELE – Juli Nagy\n👑 Trupa Freeze – Florin Lungu\n👑 Trupa Obligo – Șerban Trîmbițașu\n👑 Improvisneyland – Pavel Bârsan\n👑 Young G – Tiberiu Anghelina \n🎥 Regizor: Delia Riciu \n🎙 MC: Codreanu Dan \nBiletele pot fi achiziționate online de pe eventbook.ro (ceea ce și recomandăm) sau cash de la intrare dacă ați făcut rezervare cu cel puțin o zi înainte de eveniment. \nPrețul biletului: 40 lei \nPentru rezervare\, sună sau trimite SMS la 0786.104.846\, o să-ți răspundă o voce sexy. \nFacem apel la punctualitatea voastră și vă rugăm frumos să ajungeți cu 15-20 de minute mai devreme ca să putem începe la timp! Porțile B52 The Club se deschid la 19.30.\nMulțumim frumos! Vă așteptăm cu drag! \nMaestro Impro™ is created (©) by Keith Johnstone (Keith Johnstone Workshops) registered in the U.S.A.\, Canada and other countries.\nAll Rights Reserved\nProduction rights are exclusively managed by International Theatresports™ Insititute (www.theatresports.com)
URL:https://www.clubb52.ro/eveniment/maestro-the-ultimate-improviser/
LOCATION:Club B52\, Str. 11 iunie Nr.50\, Bucuresti
CATEGORIES:Club B52
ATTACH;FMTTYPE=image/jpeg:https://www.clubb52.ro/wp-content/uploads/2022/06/Maestro-The-Ultimate-Improviser.jpg
ORGANIZER;CN="Club B52":MAILTO:office@clubb52.ro
END:VEVENT
BEGIN:VEVENT
DTSTART;TZID=Europe/Helsinki:20220610T210000
DTEND;TZID=Europe/Helsinki:20220611T050000
DTSTAMP:20260422T130333
CREATED:20220606T095129Z
LAST-MODIFIED:20220606T095129Z
UID:10000158-1654894800-1654923600@www.clubb52.ro
SUMMARY:Urban Legends Party at B52 The Club - Tavi vs Barbu
DESCRIPTION:Vineri\, 10 iunie\, iti propunem in B52 un party mai altfel\, cu un „duel” muzical dj-istic din care doar tu vei avea de castigat. \nO sa te danseze baietii astia 2 pana dimineata de tot si te vor trece prin toate starile de bine. Trebuie doar sa te lasi purtat/a de vibe-ul care vine din boxe. \nTavi vs Barbu la butoane. \nIi stii pe amandoi: Tavi Tone (ex. Suburbia/ ex. Underworld Kogalniceanu) si Barbu (E.M.I.L./Niste Baieti). \nHai si tu\, sa vezi ce fac baietii astia\, ca tare misto se anunta! Incepem de pe la orele 21:00. \nIntrare: 15 lei.
URL:https://www.clubb52.ro/eveniment/urban-legends-party-at-b52-the-club-tavi-vs-barbu/
LOCATION:Club B52\, Str. 11 iunie Nr.50\, Bucuresti
CATEGORIES:Club B52
ATTACH;FMTTYPE=image/jpeg:https://www.clubb52.ro/wp-content/uploads/2022/06/Urban-Legends-Party-at-B52-The-Club-Tavi-vs-Barbu.jpg
ORGANIZER;CN="Club B52":MAILTO:office@clubb52.ro
END:VEVENT
BEGIN:VEVENT
DTSTART;TZID=Europe/Helsinki:20220611T210000
DTEND;TZID=Europe/Helsinki:20220611T210000
DTSTAMP:20260422T130333
CREATED:20220526T130819Z
LAST-MODIFIED:20220526T130930Z
UID:10000131-1654981200-1654981200@www.clubb52.ro
SUMMARY:Blazing Vibez Reggae Party
DESCRIPTION:Blazing Vibez instigă la dans și distracție. Vă așteptăm sambata\, pe 11 iunie\, în B52 (str. 11 iunie\, nr. 50)\, cu același sound electrizant\, cu vibe-uri fierbinți și o tonă de amintiri gata de a fi regizate.\n===================================================\nLineup:\nChesarion – Dancehall Don & Vibe Alchemist\n–––––––––––––––––––––\nhttps://www.mixcloud.com/Blazin…/chesarion-dancehall-hero\nhttps://www.mixcloud.com/…/chesarion-dancehall-don-vol…/ \nDj Oldskull – Sound Architect & Mixing Arts Master\n–––––––––––––––––––––––––\nhttps://www.facebook.com/DjOldskull/\nhttps://www.mixcloud.com/discover/dj-oldskull/ \nRas T – Nu-Roots Revolutionary & Musical StoryTeller\n––––––––––––––––––––––– \n\n\n––––––––––––––––––––––––– \n11 iunie – B52 Club – 22.00!\nArtist Support: 15 Lei
URL:https://www.clubb52.ro/eveniment/blazing-vibez-reggae-party-8/
LOCATION:Club B52\, Str. 11 iunie Nr.50\, Bucuresti
CATEGORIES:Club B52
ATTACH;FMTTYPE=image/jpeg:https://www.clubb52.ro/wp-content/uploads/2022/05/Blazing-Vibez-Reggae-Party-11.06.jpg
ORGANIZER;CN="Club B52":MAILTO:office@clubb52.ro
END:VEVENT
BEGIN:VEVENT
DTSTART;TZID=Europe/Helsinki:20220617T210000
DTEND;TZID=Europe/Helsinki:20220618T050000
DTSTAMP:20260422T130333
CREATED:20220613T065433Z
LAST-MODIFIED:20220613T065433Z
UID:10000164-1655499600-1655528400@www.clubb52.ro
SUMMARY:BLOC PARTY 286// RAS T// BAZOOKA MTCN// JEDHA
DESCRIPTION:Yes\, yes yes! Momentul pe care-l asteptam cu toti! \nVineri 17 iunie\, o noua editie Bloc Party la B52 (str. 11 iunie\, nr. 50)\, de la ora 21:00! Ne-a fost dor si de aceea revenim cu o noua petrecere pana dimineata . Continuam sezonul de dans alaturi de\, Ras T\, Bazooka si Jedha. \nNoteaza\, ne vedem vineri! \nArtist support :15 lei \nPartener oficial: Skills Loading Room
URL:https://www.clubb52.ro/eveniment/bloc-party-286-ras-t-bazooka-mtcn-jedha/
LOCATION:Club B52\, Str. 11 iunie Nr.50\, Bucuresti
CATEGORIES:Club B52
ATTACH;FMTTYPE=image/jpeg:https://www.clubb52.ro/wp-content/uploads/2022/06/BLOC-PARTY-286-RAS-T-BAZOOKA-MTCN-JEDHA.jpg
ORGANIZER;CN="Club B52":MAILTO:office@clubb52.ro
END:VEVENT
BEGIN:VEVENT
DTSTART;TZID=Europe/Helsinki:20220618T210000
DTEND;TZID=Europe/Helsinki:20220619T050000
DTSTAMP:20260422T130333
CREATED:20220606T095320Z
LAST-MODIFIED:20220613T065603Z
UID:10000161-1655586000-1655614800@www.clubb52.ro
SUMMARY:Reggae Night Party by Remi
DESCRIPTION:Pentru ca serile de reggae sunt rare\, va aducem un pic din atmosfera de Jamaica direct in Bucuresti cu mult dans. \nAsa ca te asteptam sambata\, 18 iunie\, in B52 The Club\, sa ne bucuram impreuna de muzica lui Alborosie\, Damian Marley\, Protoje\, Chronnix\, Gentleman\, Dub Inc. si multi altii. \nMuzica: DJ Remi \nSupport: 15 lei
URL:https://www.clubb52.ro/eveniment/reggae-night-party-by-remi/
LOCATION:Club B52\, Str. 11 iunie Nr.50\, Bucuresti
CATEGORIES:Club B52
ATTACH;FMTTYPE=image/jpeg:https://www.clubb52.ro/wp-content/uploads/2022/06/Reggae-Night-Party-by-Remi.jpg
ORGANIZER;CN="Club B52":MAILTO:office@clubb52.ro
END:VEVENT
BEGIN:VEVENT
DTSTART;TZID=Europe/Helsinki:20220624T200000
DTEND;TZID=Europe/Helsinki:20220625T050000
DTSTAMP:20260422T130333
CREATED:20220517T060429Z
LAST-MODIFIED:20220517T060604Z
UID:10000121-1656100800-1656133200@www.clubb52.ro
SUMMARY:EnKore : 2nd Koming
DESCRIPTION:🧙‍♂️ LO AND BEHOLD! EnKore is Koming once more\, to striKe down the unrighteous ravers 🌩 with earth-shattering kicks and melodies 🎶 so awesome that the seas turn red with the blood pumping on the danceflo… \nOk\, now\, seriously! Last time we made hardcore history in Bucharest\, and we’re willing to bet we can do it again\, and again\, and again. 🔄 \nSo\, Hard Raverz… Are you with us? Are you brave enough to join the HARDEST muthafuking RAVE in Romania? 😱🤯😲 \nIf the answer is „HELL YEAH! ✊”\, then we’ll see 👉YOU👈 on June 24\, in the super-party-friendly-fun-loving B52 The Club!\n–––\n–––\nLINEUP:\n–––\nDalek \n\n\n–––\nEl Jefe \n\n\n–––\nMorph \n\n–––\nMndFk \n\n–––\nNTHR \n\n–––\nSoma \n\n–––\nTabulaRasa\n–––\n–––\nSTYLES: hardcore\, hardstyle\, frenchcore\, hardtek\, hard techno & probably some more\n–––\n–––\nB52\, Str. 11 Iunie\, nr. 50\, București\nAccess: 30 RON at the club entrance\n–––\n–––\nParty responsibly\, respect yourself\, and respect others! \nAggressive behaviour and any actions that make others feel uncomfortable will NOT be tolerated! \nRespect the club! Don’t bring drinks from outside & don’t leave a mess! \nRespect the DJs! Let them do their thing\, don’t make requests\, and don’t ask if you can play music; it’s not that kind of party. 😉 \nRemember to invite your friends. \nSee you on the dancefloor! 💥
URL:https://www.clubb52.ro/eveniment/enkore-2nd-koming/
LOCATION:Club B52\, Str. 11 iunie Nr.50\, Bucuresti
CATEGORIES:Club B52
ATTACH;FMTTYPE=image/jpeg:https://www.clubb52.ro/wp-content/uploads/2022/05/EnKore-2nd-Koming.jpg
ORGANIZER;CN="Club B52":MAILTO:office@clubb52.ro
END:VEVENT
BEGIN:VEVENT
DTSTART;TZID=Europe/Helsinki:20220625T220000
DTEND;TZID=Europe/Helsinki:20220626T040000
DTSTAMP:20260422T130333
CREATED:20220525T175955Z
LAST-MODIFIED:20220525T180341Z
UID:10000130-1656194400-1656216000@www.clubb52.ro
SUMMARY:OfficialKevents | BUCHAREST : KPop & KHipHop Club Night | KPop Party - 2 Rooms
DESCRIPTION:✨TICKETS✨\n✨Last Entry: 1am ✨2 Floors of music✨ 10pm – 4am ✨ \nOfficialKEvents is the largest KPop and KHiphop Clubbing Events organiser in the world. Our London & Paris club nights bring in over 2000+ attendees monthly\, hosting in 25+ countries. We now bring you an unforgettable night in Bucharest at fabrica Club & B52! \nOfficialKEvents DJs will be playing KPop\, KHiphop & K-EDM tracks throughout the night\, until 4 AM!\nGet ready to dance the night away to your favourite songs.\nOfficialKEvents Making Events Everlasting!\n________________________________________\n🔞 Age restriction 🔞\n🔞 +18 only (no exceptions)\n________________________________________\n🎧 OfficialKEvents DJs 🎧\nDJ Ping [UK/LDN] @Pingyp\nDJ Ronnie [UK/LDN] @Ronnie.Kevents\nDJ Arreus [RO/BU] @Arreus\n____________________________________________\n[Cloakroom]\n-cloakroom available for free\n____________________________________________\n[Music & Rooms]\nfabrica club – KPop\nB52 club – KHipHop\n________________________________________\n👥 Recruitment 👥\n👥 We are currently looking for Volunteers and Promoters apply below!\nhttps://forms.gle/C5frrMN19vt5k8XTA\n________________________________________\n🎶 Music\n🎶 K-Pop\, K-Hip-hop\, K-EDM\n_______________________________________\n📸 Photographer 📸\n📸 Photographer will capture all your moments throughout the night!\n📸 Please not do not pose for a photo unless you are happy for the photos to be uploaded on Facebook.\n________________________________________\n📆 Details 📆\n⏰ When ⏰: Saturday 25th June 2022 from 10PM – 4AM – last entry 1AM\n📍Where📍: fabrica Club/B52 club\, Strada 11 Iunie 50\, București 040172\, Romania\n✨TICKETS✨ bit.ly/36zIyPl\n🕘 First Release tickets 🕘: 35 RON (+ 2.5 transaction fee)\n🚪Door Price 🚪: 50 RON (If available) \nIn the event of postponement\, your ticket will be valid for the next event. Any changes we will let everyone know.\nTerms and Conditions:
URL:https://www.clubb52.ro/eveniment/officialkevents-bucharest-kpop-khiphop-club-night-kpop-party-2-rooms/
LOCATION:Club B52\, Str. 11 iunie Nr.50\, Bucuresti
CATEGORIES:Club B52
ATTACH;FMTTYPE=image/jpeg:https://www.clubb52.ro/wp-content/uploads/2022/05/OfficialKevents-BUCHAREST-KPop-KHipHop-Club-Night-KPop-Party-2-Rooms.jpg
ORGANIZER;CN="Club B52":MAILTO:office@clubb52.ro
END:VEVENT
END:VCALENDAR