BEGIN:VCALENDAR
VERSION:2.0
PRODID:-//Club B52, Strada 11 Iunie, nr. 50 - Cluburi Bucuresti - ECPv6.15.20//NONSGML v1.0//EN
CALSCALE:GREGORIAN
METHOD:PUBLISH
X-WR-CALNAME:Club B52, Strada 11 Iunie, nr. 50 - Cluburi Bucuresti
X-ORIGINAL-URL:https://www.clubb52.ro
X-WR-CALDESC:Evenimente pentru Club B52, Strada 11 Iunie, nr. 50 - Cluburi Bucuresti
REFRESH-INTERVAL;VALUE=DURATION:PT1H
X-Robots-Tag:noindex
X-PUBLISHED-TTL:PT1H
BEGIN:VTIMEZONE
TZID:Europe/Helsinki
BEGIN:DAYLIGHT
TZOFFSETFROM:+0200
TZOFFSETTO:+0300
TZNAME:EEST
DTSTART:20190331T010000
END:DAYLIGHT
BEGIN:STANDARD
TZOFFSETFROM:+0300
TZOFFSETTO:+0200
TZNAME:EET
DTSTART:20191027T010000
END:STANDARD
BEGIN:DAYLIGHT
TZOFFSETFROM:+0200
TZOFFSETTO:+0300
TZNAME:EEST
DTSTART:20200329T010000
END:DAYLIGHT
BEGIN:STANDARD
TZOFFSETFROM:+0300
TZOFFSETTO:+0200
TZNAME:EET
DTSTART:20201025T010000
END:STANDARD
BEGIN:DAYLIGHT
TZOFFSETFROM:+0200
TZOFFSETTO:+0300
TZNAME:EEST
DTSTART:20210328T010000
END:DAYLIGHT
BEGIN:STANDARD
TZOFFSETFROM:+0300
TZOFFSETTO:+0200
TZNAME:EET
DTSTART:20211031T010000
END:STANDARD
END:VTIMEZONE
BEGIN:VEVENT
DTSTART;TZID=Europe/Helsinki:20200304T200000
DTEND;TZID=Europe/Helsinki:20200304T220000
DTSTAMP:20260424T065634
CREATED:20200227T153142Z
LAST-MODIFIED:20200227T155258Z
UID:10000019-1583352000-1583359200@www.clubb52.ro
SUMMARY:Impro Battle - All Star Game
DESCRIPTION:Luna martie aduce pe scena Impro Battle\, nume mari din trupe mari\, adică: Dan Murzea – Trupa Obligó\, Iulian Sfircea – Backstage Boys\, Juli Nagy – Trupa íELE\, Florin Alexandru Lungu – Trupa Freeze\, Valentin Hurdubaie – Urban Impro si Ruxandra Coman – de la ce trupă vrea ea! \nLa modul „bah\, ej neboon”\, ne vedem miercuri\, 4 martie 2020\, de la ora 20.00\, cu mărțișoarele în piept. Echipele vor fi alese prin tragere la sorți la începutului spectacolului. \nIMPRO BATTLE este un format de TEATRU SPORT\, adică o competiție între 2 echipe de improvizatori. Ele se vor provoca pe parcursul mai multor runde\, la jocuri de improvizație diverse și vor fi jurizați\, atât de către public\, cât și de către semenii lor improvizatori care vor analiza obiectiv de la pupitrul juriului. \nPreț bilet spectacol: 30 lei \nPentru rezervare sună sau trimite SMS la 0721.193.369. \nFacem apel la punctualitatea voastră și vă rugăm frumos să ajungeți cu 15-20 de minute mai devreme ca să putem începe la timp! Porțile B52 The Club se deschid la 19.30.\nMulțumim din suflet! Vă așteptăm cu drag\, o să fie o nebunie frumoasă!
URL:https://www.clubb52.ro/eveniment/impro-battle-all-star-game-2/
LOCATION:Club B52\, Str. 11 iunie Nr.50\, Bucuresti
CATEGORIES:Club B52
ATTACH;FMTTYPE=image/jpeg:https://www.clubb52.ro/wp-content/uploads/2020/02/Impro-Battle-All-Star-Game.jpg
ORGANIZER;CN="Club B52":MAILTO:office@clubb52.ro
END:VEVENT
BEGIN:VEVENT
DTSTART;TZID=Europe/Helsinki:20200306T220000
DTEND;TZID=Europe/Helsinki:20200307T050000
DTSTAMP:20260424T065634
CREATED:20200227T155645Z
LAST-MODIFIED:20200227T155645Z
UID:10000020-1583532000-1583557200@www.clubb52.ro
SUMMARY:Bomber Fridays Party
DESCRIPTION:Clubul cu nume de avion e echipat cu Jägerbombs si alte muniții colorate\, mai grele sau mai ușoare\, atât la bar cât și la muzică.\nSe cheamă Bomber Fridays și ești invitat. \nINTRAREA LIBERA. \nOferta bar: in intervalul orar 22:00 – 01:00 platesti 25 de lei si bei cat Heineken la draught vrei sau cat Mimosa Cocktail (prosecco/orange) vrei. \nOn decks vineri: AMON
URL:https://www.clubb52.ro/eveniment/bomber-fridays-party-3/
LOCATION:Club B52\, Str. 11 iunie Nr.50\, Bucuresti
CATEGORIES:Club B52
ATTACH;FMTTYPE=image/jpeg:https://www.clubb52.ro/wp-content/uploads/2019/10/Bomber-Fridays-Party-at-club-B52.jpg
ORGANIZER;CN="Club B52":MAILTO:office@clubb52.ro
END:VEVENT
BEGIN:VEVENT
DTSTART;TZID=Europe/Helsinki:20200307T220000
DTEND;TZID=Europe/Helsinki:20200308T050000
DTSTAMP:20260424T065634
CREATED:20200226T223032Z
LAST-MODIFIED:20200226T223032Z
UID:10000017-1583618400-1583643600@www.clubb52.ro
SUMMARY:Reggae Night Party
DESCRIPTION:Pentru ca serile de reggae sunt tot mai rare\, ne am hotarat sa facem petreceri cu o energie deosebita si mult dans. Asa ca te asteptam pe 7 martie sa ne bucuram impreuna de muzica lui Alborosie\, Damian Marley\, Protoje\, Chronnix\, Gentleman\, Dub Inc. si multi altii. \nMuzica: DJ Remi \nINTRAREA LIBERA
URL:https://www.clubb52.ro/eveniment/reggae-night-party/
LOCATION:Club B52\, Str. 11 iunie Nr.50\, Bucuresti
CATEGORIES:Club B52
ATTACH;FMTTYPE=image/jpeg:https://www.clubb52.ro/wp-content/uploads/2020/02/Reggae-Night-Party.jpg
ORGANIZER;CN="Club B52":MAILTO:office@clubb52.ro
END:VEVENT
BEGIN:VEVENT
DTSTART;TZID=Europe/Helsinki:20200311T200000
DTEND;TZID=Europe/Helsinki:20200311T220000
DTSTAMP:20260424T065634
CREATED:20200306T165509Z
LAST-MODIFIED:20200312T142709Z
UID:10000143-1583956800-1583964000@www.clubb52.ro
SUMMARY:ANULAT - Impro Battle - Shots vs. Spicy
DESCRIPTION:Urban Impro merge pana in panzele albe\, de data asta provocarile improvizate fiind condimentate\, la propriu\, si asezonate cu shot-uri flambate. 🙂 \nHai sa ii vezi cum sufera cand mananca picant si bea si tu shot-uri alaturi de ei\, ca sa nu ti se para ca se distreaza singuri :))) \nIMPRO BATTLE este un format de TEATRU SPORT\, adică o competiție între 2 echipe de improvizatori. Ele se vor provoca pe parcursul mai multor runde\, la jocuri de improvizație diverse și vor fi jurizați\, atât de către public\, cât și de către semenii lor improvizatori care vor analiza obiectiv de la pupitrul juriului. \nPreț bilet spectacol: 30 lei \nPentru rezervare sună sau trimite SMS la 0721.193.369. \nFacem apel la punctualitatea voastră și vă rugăm frumos să ajungeți cu 15-20 de minute mai devreme ca să putem începe la timp! Porțile B52 The Club se deschid la 19.30.\nMulțumim din suflet! Vă așteptăm cu drag\, o să fie o nebunie frumoasă!
URL:https://www.clubb52.ro/eveniment/impro-battle-shots-vs-spicy/
LOCATION:Club B52\, Str. 11 iunie Nr.50\, Bucuresti
CATEGORIES:Club B52
ATTACH;FMTTYPE=image/jpeg:https://www.clubb52.ro/wp-content/uploads/2020/03/Impro-Battle-Shots-vs.-Spicy.jpg
ORGANIZER;CN="Club B52":MAILTO:office@clubb52.ro
END:VEVENT
BEGIN:VEVENT
DTSTART;TZID=Europe/Helsinki:20200313T220000
DTEND;TZID=Europe/Helsinki:20200314T050000
DTSTAMP:20260424T065634
CREATED:20200309T120820Z
LAST-MODIFIED:20200312T092934Z
UID:10000145-1584136800-1584162000@www.clubb52.ro
SUMMARY:ANULAT - Bomber Fridays Party
DESCRIPTION:Clubul cu nume de avion e echipat cu Jägerbombs si alte muniții colorate\, mai grele sau mai ușoare\, atât la bar cât și la muzică.\nSe cheamă Bomber Fridays și ești invitat. \nINTRAREA LIBERA. \nOferta bar: in intervalul orar 22:00 – 01:00 platesti 25 de lei si bei cat Heineken la draught vrei sau cat Mimosa Cocktail (prosecco/orange) vrei. \nOn decks vineri: PHLO DA SHAOLIN
URL:https://www.clubb52.ro/eveniment/bomber-fridays-party-4/
LOCATION:Club B52\, Str. 11 iunie Nr.50\, Bucuresti
CATEGORIES:Club B52
ATTACH;FMTTYPE=image/jpeg:https://www.clubb52.ro/wp-content/uploads/2019/10/Bomber-Fridays-Party-at-club-B52.jpg
ORGANIZER;CN="Club B52":MAILTO:office@clubb52.ro
END:VEVENT
BEGIN:VEVENT
DTSTART;TZID=Europe/Helsinki:20200314T220000
DTEND;TZID=Europe/Helsinki:20200315T050000
DTSTAMP:20260424T065634
CREATED:20200226T223630Z
LAST-MODIFIED:20200312T092939Z
UID:10000018-1584223200-1584248400@www.clubb52.ro
SUMMARY:ANULAT - Mi-e Dor De Vama Veche Party @ Club Fabrica & B52
DESCRIPTION:Mai e putin pana la deschidere sezonului 2020 la Vama Veche! Stim ca ti-e dor\, caci si noi murim de dorul marii.\nNu-i nimic\, sambata\, 14 martie\, facem atmosfera aia in club Fabrica\, dar si in club B52 (str.11 iunie\, nr 50)\, de la orele 22:00. Dam party de zile mari\, unde o sa avem de toate ca la Vama Veche\, mai putin nisip. 🙂 \nUn eveniment menit sa ne aduca zambetul pe urechi si pana la buze\, sa ne facem dans si sa bem titirez pana dimineata. \nMuzica:\nPosesor de laptop: Gabi (E.M.I.L./Niste Baieti) – alternative\, rock\, reggae\, hip-hop\, electro\, ska\, pop – trecem prin toate pana dimineata. \nIntrare: 10 lei. Distractie garantata. \nDoua cluburi\, un singur party!
URL:https://www.clubb52.ro/eveniment/mi-e-dor-de-vama-veche-party-club-fabrica-b52/
LOCATION:Club B52\, Str. 11 iunie Nr.50\, Bucuresti
CATEGORIES:Club B52
ATTACH;FMTTYPE=image/jpeg:https://www.clubb52.ro/wp-content/uploads/2020/02/Mi-e-Dor-De-Vama-Veche-Party-at-club-Fabrica-B52-1.jpg
END:VEVENT
BEGIN:VEVENT
DTSTART;TZID=Europe/Helsinki:20200321T220000
DTEND;TZID=Europe/Helsinki:20200322T060000
DTSTAMP:20260424T065634
CREATED:20200309T121133Z
LAST-MODIFIED:20200312T092930Z
UID:10000146-1584828000-1584856800@www.clubb52.ro
SUMMARY:ANULAT - Blazing Vibez Reggae Party
DESCRIPTION:Blazing Vibez instigă la dans și distracție. Vă așteptăm vineri\, pe 21 Martie\, în B52 (str. 11 iunie\, nr. 50)\, cu același sound electrizant\, cu vibe-uri fierbinți și o tonă de amintiri gata de a fi regizate. \n=========================\nLineup: \nPhlo Da Shaolin – Riddim Ninja & Microphone Marshall\n––––––––––––––-\nhttps://www.mixcloud.com/phlodashaolin\nhttps://soundcloud.com/phlodashaolin \nDj Oldskull – Sound Architect & Mixing Arts Master\n––––––––––––––-\nhttps://www.facebook.com/DjOldskull/\nhttps://www.mixcloud.com/discover/dj-oldskull/ \nChesarion – Dancehall Don & Vibe Alchemist\n––––––––––––––-\nhttps://www.mixcloud.com/BlazingVibez/chesarion-dancehall-hero/\nhttps://www.mixcloud.com/BlazingVibez/chesarion-dancehall-don-vol-2-lawless/ \n21 Martie 2020 – B52 Club – 22.00!\nArtist Support: 10 Lei
URL:https://www.clubb52.ro/eveniment/blazing-vibez-reggae-party-4/
LOCATION:Club B52\, Str. 11 iunie Nr.50\, Bucuresti
CATEGORIES:Club B52
ATTACH;FMTTYPE=image/jpeg:https://www.clubb52.ro/wp-content/uploads/2020/03/Blazing-Vibez-Reggae-Party-at-B52-Club-21.03.jpg
END:VEVENT
BEGIN:VEVENT
DTSTART;TZID=Europe/Helsinki:20200327T220000
DTEND;TZID=Europe/Helsinki:20200328T050000
DTSTAMP:20260424T065634
CREATED:20200306T165729Z
LAST-MODIFIED:20200312T092918Z
UID:10000144-1585346400-1585371600@www.clubb52.ro
SUMMARY:ANULAT - Can't Touch This cu Dj Jiji (80's - 90's Party)
DESCRIPTION:Let’s dance\, let’s party\, let’s touch this!\nJoin us and discover the spicy and groovy atmosphere of 80’s & 90’s\, blooms your senses with cool people and icy drinks. \nDj Jiji ne trece de la MC Hammer la Coco Jamboo si de la CC Catch la Duran Duran. \nTickets available on the entrance: 15 LEI
URL:https://www.clubb52.ro/eveniment/cant-touch-this-cu-dj-jiji-80s-90s-party-6/
LOCATION:Club B52\, Str. 11 iunie Nr.50\, Bucuresti
CATEGORIES:Club B52
ATTACH;FMTTYPE=image/jpeg:https://www.clubb52.ro/wp-content/uploads/2020/03/Cant-Touch-This-cu-Dj-Jiji-80s-90s-Party2703.jpg
ORGANIZER;CN="Club B52":MAILTO:office@clubb52.ro
END:VEVENT
END:VCALENDAR