BEGIN:VCALENDAR
VERSION:2.0
PRODID:-//Club B52, Strada 11 Iunie, nr. 50 - Cluburi Bucuresti - ECPv6.15.20//NONSGML v1.0//EN
CALSCALE:GREGORIAN
METHOD:PUBLISH
X-ORIGINAL-URL:https://www.clubb52.ro
X-WR-CALDESC:Evenimente pentru Club B52, Strada 11 Iunie, nr. 50 - Cluburi Bucuresti
REFRESH-INTERVAL;VALUE=DURATION:PT1H
X-Robots-Tag:noindex
X-PUBLISHED-TTL:PT1H
BEGIN:VTIMEZONE
TZID:Europe/Helsinki
BEGIN:DAYLIGHT
TZOFFSETFROM:+0200
TZOFFSETTO:+0300
TZNAME:EEST
DTSTART:20190331T010000
END:DAYLIGHT
BEGIN:STANDARD
TZOFFSETFROM:+0300
TZOFFSETTO:+0200
TZNAME:EET
DTSTART:20191027T010000
END:STANDARD
BEGIN:DAYLIGHT
TZOFFSETFROM:+0200
TZOFFSETTO:+0300
TZNAME:EEST
DTSTART:20200329T010000
END:DAYLIGHT
BEGIN:STANDARD
TZOFFSETFROM:+0300
TZOFFSETTO:+0200
TZNAME:EET
DTSTART:20201025T010000
END:STANDARD
BEGIN:DAYLIGHT
TZOFFSETFROM:+0200
TZOFFSETTO:+0300
TZNAME:EEST
DTSTART:20210328T010000
END:DAYLIGHT
BEGIN:STANDARD
TZOFFSETFROM:+0300
TZOFFSETTO:+0200
TZNAME:EET
DTSTART:20211031T010000
END:STANDARD
END:VTIMEZONE
BEGIN:VEVENT
DTSTART;TZID=Europe/Helsinki:20200201T220000
DTEND;TZID=Europe/Helsinki:20200202T050000
DTSTAMP:20260424T083759
CREATED:20200127T224228Z
LAST-MODIFIED:20200127T224228Z
UID:10000137-1580594400-1580619600@www.clubb52.ro
SUMMARY:Color Me Wild Party cu AMON
DESCRIPTION:Pentru ca sambata este cea mai importanta zi din saptamana\, pentru ca la club B52 iese cel mai nebun party\, pentru ca petrecem pana dimineata in zori\, pentru\, pentru si iarasi pentru. Intrarea este libera.\nSambata\, 1 februarie. \nDaca vii intre 22:00 – 01:00\, platesti la bar 25 de lei\, primesti o bratara in baza careia bei cate Heineken draught si Mimosa Cocktail (prosecco/orange) vrei. \nOn decks: Alexandru Bogdan aka AMON\nRezervari mese: 0753 315 563
URL:https://www.clubb52.ro/eveniment/color-me-wild-party-cu-amon-3/
LOCATION:Club B52\, Str. 11 iunie Nr.50\, Bucuresti
CATEGORIES:Club B52
ATTACH;FMTTYPE=image/jpeg:https://www.clubb52.ro/wp-content/uploads/2019/10/Color-Me-Wild-Party-Saturdays-at-B52.jpg
ORGANIZER;CN="Club B52":MAILTO:office@clubb52.ro
END:VEVENT
BEGIN:VEVENT
DTSTART;TZID=Europe/Helsinki:20200205T200000
DTEND;TZID=Europe/Helsinki:20200205T223000
DTSTAMP:20260424T083759
CREATED:20200131T104151Z
LAST-MODIFIED:20200131T104151Z
UID:10000138-1580932800-1580941800@www.clubb52.ro
SUMMARY:Impro Battle - Takeover vs. Funkey / #Diez vs. Impro Planet
DESCRIPTION:Miercuri\, 5 februarie\, incepe mini-campionatul de impro battle\, denumit între cunoscători drept „February Madness”. Marele câștigător al acestei competiții va primi titlul de Impro Battle Rookie of The Year! \nPrimele 2 sferturi vor fi următoarele:\nTrupa Takeover vs. Trupa FunKey\nTrupa #Diez vs. Impro Planet \nPe 12 februarie vom avea următoarele 2 sferturi\, pe 19 februarie cele 2 semifinale și pe 26 februarie marea finală. \nIMPRO BATTLE este un format de TEATRU SPORT\, adica o competitie intre 2 echipe de improvizatori. Ele se vor provoca pe parcursul mai multor runde la jocuri de improvizatie diverse si vor fi jurizati de 3 experti – NARATIV\, TEHNIC si DIVERTISMENT. Iar deliciul suprem al acestui spectacol\, pe langa toate nebuniile care se intampla pe scena este faptul ca expertul in DIVERTISMENT este chiar PUBLICUL. \nPret bilet spectacol: 30 lei \nPentru rezervare suna sau trimite SMS la 0721.193.369. \nFacem apel la punctualitatea voastra si va rugam frumos sa ajungeti cu 15-20 de minute mai devreme ca sa putem incepe la timp! Portile B52 The Club se deschid la 19.30.\nMultumim din suflet! Va asteptam cu drag\, o sa fie o nebunie frumoasa!
URL:https://www.clubb52.ro/eveniment/impro-battle-takeover-vs-funkey-diez-vs-impro-planet/
LOCATION:Club B52\, Str. 11 iunie Nr.50\, Bucuresti
CATEGORIES:Club B52
ATTACH;FMTTYPE=image/jpeg:https://www.clubb52.ro/wp-content/uploads/2020/01/Impro-Battle-Takeover-vs.-Funkey-Diez-vs.-Impro-Planet.jpg
ORGANIZER;CN="Club B52":MAILTO:office@clubb52.ro
END:VEVENT
BEGIN:VEVENT
DTSTART;TZID=Europe/Helsinki:20200207T220000
DTEND;TZID=Europe/Helsinki:20200208T050000
DTSTAMP:20260424T083759
CREATED:20200122T190631Z
LAST-MODIFIED:20200201T120534Z
UID:10000135-1581112800-1581138000@www.clubb52.ro
SUMMARY:Reggae Night Party cu Remi
DESCRIPTION:Pentru ca serile de reggae sunt tot mai rare\, ne am hotarat sa facem petreceri cu o energie deosebita si mult dans. Asa ca te asteptam pe 7 februarie sa ne bucuram impreuna de muzica lui Alborosie\, Damian Marley\, Protoje\, Chronnix\, Gentleman\, Dub Inc. si multi altii. \nMuzica: DJ Remi \nINTRAREA LIBERA
URL:https://www.clubb52.ro/eveniment/reggae-night-party-cu-remi-4/
LOCATION:Club B52\, Str. 11 iunie Nr.50\, Bucuresti
CATEGORIES:Club B52
ATTACH;FMTTYPE=image/jpeg:https://www.clubb52.ro/wp-content/uploads/2020/01/Reggae-Nigh-Party-cu-Remi-at-club-B52.jpg
ORGANIZER;CN="Club B52":MAILTO:office@clubb52.ro
END:VEVENT
BEGIN:VEVENT
DTSTART;TZID=Europe/Helsinki:20200208T220000
DTEND;TZID=Europe/Helsinki:20200209T050000
DTSTAMP:20260424T083759
CREATED:20200204T223528Z
LAST-MODIFIED:20200204T223712Z
UID:10000140-1581199200-1581224400@www.clubb52.ro
SUMMARY:Mi-e Dor De Vama Veche Party @ Fabrica & B52
DESCRIPTION:Mai sunt cateva luni bune pana la deschidere sezonului 2020 la Vama Veche! Stim ca ti-e dor\, caci si noi murim de dorul marii. \nNu-i nimic\, sambata\, 8 februarie\, facem atmosfera aia in club Fabrica (str.11 iunie\, nr 50)\, de la orele 22:00. Dam party de zile mari\, unde o sa avem de toate ca la Vama Veche\, mai putin nisip. Poate data viitoare si cu nisip! 🙂 \nUn eveniment menit sa ne aduca zambetul pe urechi si pana la buze\, sa ne facem dans si sa bem titirez pana dimineata. \nMuzica:\nPosesor de laptop: Gabi (E.M.I.L./Niste Baieti) – alternative\, rock\, reggae\, hip-hop\, electro\, ska\, pop – trecem prin toate pana dimineata. \nIntrare: 10 lei. Distractie garantata. \nDoua cluburi\, un singur party!
URL:https://www.clubb52.ro/eveniment/mi-e-dor-de-vama-veche-party-fabrica-b52/
LOCATION:Club B52\, Str. 11 iunie Nr.50\, Bucuresti
CATEGORIES:Club B52
ATTACH;FMTTYPE=image/jpeg:https://www.clubb52.ro/wp-content/uploads/2020/02/Mi-e-Dor-De-Vama-Veche-Party-at-club-Fabrica-B52.jpg
END:VEVENT
BEGIN:VEVENT
DTSTART;TZID=Europe/Helsinki:20200212T200000
DTEND;TZID=Europe/Helsinki:20200212T223000
DTSTAMP:20260424T083759
CREATED:20200131T104618Z
LAST-MODIFIED:20200131T104618Z
UID:10000139-1581537600-1581546600@www.clubb52.ro
SUMMARY:Impro Battle - Brand New vs. ImproHub / Niște Păpușari vs. Kazoo
DESCRIPTION:Miercuri\, 5 februarie\, incepe mini-campionatul de impro battle\, denumit între cunoscători drept „February Madness”. Marele câștigător al acestei competiții va primi titlul de Impro Battle Rookie of The Year! \nPe 12 februarie avem ultimele 2 sferturi:\nBrand New – Improv enthusiasts vs. ImproHub\nNiște Păpușari vs. Kazoo \nPe 19 februarie vom avea cele 2 semifinale și pe 26 februarie marea finală. \nIMPRO BATTLE este un format de TEATRU SPORT\, adica o competitie intre 2 echipe de improvizatori. Ele se vor provoca pe parcursul mai multor runde la jocuri de improvizatie diverse si vor fi jurizati de 3 experti – NARATIV\, TEHNIC si DIVERTISMENT. Iar deliciul suprem al acestui spectacol\, pe langa toate nebuniile care se intampla pe scena este faptul ca expertul in DIVERTISMENT este chiar PUBLICUL. \nPret bilet spectacol: 30 lei \nPentru rezervare suna sau trimite SMS la 0721.193.369. \nFacem apel la punctualitatea voastra si va rugam frumos sa ajungeti cu 15-20 de minute mai devreme ca sa putem incepe la timp! Portile B52 The Club se deschid la 19.30.\nMultumim din suflet! Va asteptam cu drag\, o sa fie o nebunie frumoasa!
URL:https://www.clubb52.ro/eveniment/impro-battle-brand-new-vs-improhub-niste-papusari-vs-kazoo/
LOCATION:Club B52\, Str. 11 iunie Nr.50\, Bucuresti
CATEGORIES:Club B52
ATTACH;FMTTYPE=image/jpeg:https://www.clubb52.ro/wp-content/uploads/2020/01/Impro-Battle-Brand-New-vs.-ImproHub-Niște-Păpușari-vs.-Kazoo.jpg
ORGANIZER;CN="Club B52":MAILTO:office@clubb52.ro
END:VEVENT
BEGIN:VEVENT
DTSTART;TZID=Europe/Helsinki:20200214T220000
DTEND;TZID=Europe/Helsinki:20200215T060000
DTSTAMP:20260424T083759
CREATED:20200205T085527Z
LAST-MODIFIED:20200205T085527Z
UID:10000141-1581717600-1581746400@www.clubb52.ro
SUMMARY:Blazing Vibez Valentine's Edition
DESCRIPTION:Blazing Vibez revine de Valentine’s day cu vibeuri bune\, deranj in boxe si vara in pahare. Te așteptăm și pe tine cu pantofii de dans ăia noi ca să petrecem într-o seară cât alții în 9 ani!\n===================================================\nLineup: \nDJ Undoo – Champion DJ & Scratch Master\n–––––––––––––––––––––––––\nhttps://www.instagram.com/djundoo/\nhttps://soundcloud.com/dj-undoo \nChesarion – Dancehall Don & Vibe Alchemist\n–––––––––––––––––––––––––\nhttps://www.mixcloud.com/BlazingVibez/chesarion-dancehall-hero/\nhttps://www.mixcloud.com/BlazingVibez/chesarion-dancehall-don-vol-2-lawless/ \nRas T – Nu-Roots Revolutionary & Musical StoryTeller\n–––––––––––––––––––––––––\nhttps://www.mixcloud.com/vladrastaman/irie-vibez-mix/\nhttps://www.mixcloud.com/vladrastaman/revolution-mix/ \n14 Februarie 2019 – Club B52 – 22.00\nArtist Support: 10 RON
URL:https://www.clubb52.ro/eveniment/blazing-vibez-valentines-edition/
LOCATION:Club B52\, Str. 11 iunie Nr.50\, Bucuresti
CATEGORIES:Club B52
ATTACH;FMTTYPE=image/jpeg:https://www.clubb52.ro/wp-content/uploads/2020/02/Blazing-Vibez-Valentines-Edition.jpg
END:VEVENT
BEGIN:VEVENT
DTSTART;TZID=Europe/Helsinki:20200215T220000
DTEND;TZID=Europe/Helsinki:20200216T050000
DTSTAMP:20260424T083759
CREATED:20200125T005535Z
LAST-MODIFIED:20200125T005535Z
UID:10000136-1581804000-1581829200@www.clubb52.ro
SUMMARY:Can't Touch This cu Dj Jiji (80's - 90's Party)
DESCRIPTION:Let’s dance\, let’s party\, let’s touch this!\nJoin us and discover the spicy and groovy atmosphere of 80’s & 90’s\, blooms your senses with cool people and icy drinks. \nDj Jiji ne trece de la MC Hammer la Coco Jamboo si de la CC Catch la Duran Duran. \nTickets available on the entrance: 10 LEI.
URL:https://www.clubb52.ro/eveniment/cant-touch-this-cu-dj-jiji-80s-90s-party-5/
LOCATION:Club B52\, Str. 11 iunie Nr.50\, Bucuresti
CATEGORIES:Club B52
ATTACH;FMTTYPE=image/jpeg:https://www.clubb52.ro/wp-content/uploads/2020/01/Cant-Touch-This-cu-Dj-Jiji-80s-90s-Party.jpg
ORGANIZER;CN="Club B52":MAILTO:office@clubb52.ro
END:VEVENT
BEGIN:VEVENT
DTSTART;TZID=Europe/Helsinki:20200219T200000
DTEND;TZID=Europe/Helsinki:20200219T223000
DTSTAMP:20260424T083759
CREATED:20200214T161252Z
LAST-MODIFIED:20200214T165244Z
UID:10000012-1582142400-1582151400@www.clubb52.ro
SUMMARY:Impro Battle - FunKey vs. #Diez / ImproHub vs. Joyride
DESCRIPTION:Miercuri\, 19 februarie\, Impro Battle – „February Madness” ajunge în etapa semifinalelor\, mai precis:Trupa FunKey vs. Trupa #Diez & ImproHub vs. Joyride. \nCâștigătorii semifinalelor se vor întâlni în marea finală de pe 26 februarie și se vor lupta pentru titlul de Impro Battle Rookie of The Year! \nIMPRO BATTLE este un format de TEATRU SPORT\, adica o competitie intre 2 echipe de improvizatori. Ele se vor provoca pe parcursul mai multor runde la jocuri de improvizatie diverse si vor fi jurizati de 3 experti – NARATIV\, TEHNIC si DIVERTISMENT. Iar deliciul suprem al acestui spectacol\, pe langa toate nebuniile care se intampla pe scena este faptul ca expertul in DIVERTISMENT este chiar PUBLICUL. \nPret bilet spectacol: 30 lei \nPentru rezervare suna sau trimite SMS la 0721.193.369. \nFacem apel la punctualitatea voastra si va rugam frumos sa ajungeti cu 15-20 de minute mai devreme ca sa putem incepe la timp! Portile B52 The Club se deschid la 19.30.\nMultumim din suflet! Va asteptam cu drag\, o sa fie o nebunie frumoasa!
URL:https://www.clubb52.ro/eveniment/impro-battle-funkey-vs-diez-improhub-vs-joyride/
LOCATION:Club B52\, Str. 11 iunie Nr.50\, Bucuresti
CATEGORIES:Club B52
ATTACH;FMTTYPE=image/jpeg:https://www.clubb52.ro/wp-content/uploads/2020/02/Impro-Battle-FunKey-vs.-Diez-ImproHub-vs.-Joyride.jpg
ORGANIZER;CN="Club B52":MAILTO:office@clubb52.ro
END:VEVENT
BEGIN:VEVENT
DTSTART;TZID=Europe/Helsinki:20200221T220000
DTEND;TZID=Europe/Helsinki:20200222T060000
DTSTAMP:20260424T083759
CREATED:20200218T070114Z
LAST-MODIFIED:20200218T071257Z
UID:10000013-1582322400-1582351200@www.clubb52.ro
SUMMARY:O Data Pe Luna Party / Invitat Surpriza
DESCRIPTION:💥Dacă luna ianuarie O Data Pe Luna Party nu a avut nici un invitat\, in februarie vrem sa ne revanșăm 💪🏻 Însă\, va mai ținem putin in spuspans\, pentru ca vom avea un invitat surpriza 👤 \nAsa ca\, pe 21 Februarie ne întâlnim in B52 sa sărbătorim rap-ul românesc! \nCa de obicei\, atmosfera va fi întreținută la platane de DJ Gharaa și gAZAh 🤟🏿 \n🍻 Și nu uita de promoția de la bar: pana in ora 1:00 cu 25 lei poți sa bei cata bere Heineken sau mimosa cocktail vrei 🍸 \n🎫Bilet intrare: 20 lei
URL:https://www.clubb52.ro/eveniment/o-data-pe-luna-party-invitat-surpriza/
LOCATION:Club B52\, Str. 11 iunie Nr.50\, Bucuresti
CATEGORIES:Club B52
ATTACH;FMTTYPE=image/jpeg:https://www.clubb52.ro/wp-content/uploads/2020/02/O-Data-Pe-Luna-Party-at-Club-B52-Invitat-Surpriza.jpg
END:VEVENT
BEGIN:VEVENT
DTSTART;TZID=Europe/Helsinki:20200222T200000
DTEND;TZID=Europe/Helsinki:20200222T230000
DTSTAMP:20260424T083759
CREATED:20200212T202139Z
LAST-MODIFIED:20200222T093025Z
UID:10000011-1582401600-1582412400@www.clubb52.ro
SUMMARY:SOLD OUT | E M I L - Aniversare 20 De Ani (second show)
DESCRIPTION:Pentru ca evenimentul „E.M.I.L. 20 De Ani” este sold out\, am decis ceva. Pana sa va spunem ce\, va multumim\, recunoasteam ca ne-ati surprins total. Suntem foarte happy de ce se intampla\, dar in acelasi timp avem si o problema. Odata cu anuntul sold out inbox-urile noastre de mesaje au inceput sa se „blocheze” cu: „nu mai aveti voi niste bilete puse deoparte?”; da-mi si mie doua bilete si le platesc”; „chiar ati vandut tot?”; „nu ai cum sa ma treci pe lista si ma revansez eu data viitoare?” Ne simtim datori sa va raspundem tuturor: \nSambata\, 22 februarie\, de la orele 20:00 va asteptam in club B52\, str\, 11 iunie\, nr 50\, pentru second show E.M.I.L. Aniversare 20 De Ani.\nCum era?….. 🙂 \nDeci\, ne vedem. Si\, la fel\, da\, o sa se cante si Cocktail Verde full album + oldies. \nTickets here: https://www.iabilet.ro/bilete-e-m-i-l-20-de-ani-second-show-52697/ – locurile sunt limitate. Ia-l online\, sa fii sigur!\nOnline: 40 de lei\nLa intrare: 50 de lei \nBiletele se gasesc in format electronic pe www.iabilet.ro si in magazinele Flanco\, Carturesti\, Metrou Unirii 1\, Muzica\, IQ BOX si pe terminalele Selfpay. Online\, puteti plati cu cardul\, Paypal\,carduri de tichete culturale Sodexo\, pe factura la Vodafone sau Orange sau ramburs prin Fan Courier oriunde in tara.
URL:https://www.clubb52.ro/eveniment/e-m-i-l-aniversare-20-de-ani-second-show/
LOCATION:Club B52\, Str. 11 iunie Nr.50\, Bucuresti
CATEGORIES:Club B52
ATTACH;FMTTYPE=image/jpeg:https://www.clubb52.ro/wp-content/uploads/2020/02/E-M-I-L-Aniversare-20-De-Ani-second-show-1-e1582214510540.jpg
END:VEVENT
BEGIN:VEVENT
DTSTART;TZID=Europe/Helsinki:20200222T230000
DTEND;TZID=Europe/Helsinki:20200223T050000
DTSTAMP:20260424T083759
CREATED:20200218T200309Z
LAST-MODIFIED:20200218T200309Z
UID:10000014-1582412400-1582434000@www.clubb52.ro
SUMMARY:Color Me Wild Party cu AMON
DESCRIPTION:Pentru ca sambata este cea mai importanta zi din saptamana\, pentru ca la club B52 iese cel mai nebun party\, pentru ca petrecem pana dimineata in zori\, pentru\, pentru si iarasi pentru. \nIntrarea este libera. \nSambata\, 22 februarie\, dupa concertul aniversar 20 De Ani de E.M.I.L. – dupa orele 22. \nOn decks: Alexandru Bogdan aka AMON \nRezervari mese: 0753 315 563
URL:https://www.clubb52.ro/eveniment/color-me-wild-party-cu-amon-4/
LOCATION:Club B52\, Str. 11 iunie Nr.50\, Bucuresti
CATEGORIES:Club B52
ATTACH;FMTTYPE=image/jpeg:https://www.clubb52.ro/wp-content/uploads/2020/01/Color-Me-Wild-Party-at-club-B52-cu-Amon-Large.jpg
ORGANIZER;CN="Club B52":MAILTO:office@clubb52.ro
END:VEVENT
BEGIN:VEVENT
DTSTART;TZID=Europe/Helsinki:20200226T200000
DTEND;TZID=Europe/Helsinki:20200226T223000
DTSTAMP:20260424T083759
CREATED:20200220T091027Z
LAST-MODIFIED:20200220T091027Z
UID:10000016-1582747200-1582756200@www.clubb52.ro
SUMMARY:Impro Battle - FunKey vs. Joyride
DESCRIPTION:Miercuri\, 26 februarie\, Marea Finala la Impro Battle – „February Madness” între Trupa FunKey și Joyride. Cele 2 trupe se vor lupta pentru titlul Impro Battle Rookie of The Year! \nIMPRO BATTLE este un format de TEATRU SPORT\, adica o competitie intre 2 echipe de improvizatori. Ele se vor provoca pe parcursul mai multor runde la jocuri de improvizatie diverse si vor fi jurizati de 3 experti – NARATIV\, TEHNIC si DIVERTISMENT. Iar deliciul suprem al acestui spectacol\, pe langa toate nebuniile care se intampla pe scena este faptul ca expertul in DIVERTISMENT este chiar PUBLICUL. \nPret bilet spectacol: 30 lei \nPentru rezervare suna sau trimite SMS la 0721.193.369. \nFacem apel la punctualitatea voastra si va rugam frumos sa ajungeti cu 15-20 de minute mai devreme ca sa putem incepe la timp! Portile B52 The Club se deschid la 19.30.\nMultumim din suflet! Va asteptam cu drag\, o sa fie o nebunie frumoasa!
URL:https://www.clubb52.ro/eveniment/impro-battle-funkey-vs-joyride/
LOCATION:Club B52\, Str. 11 iunie Nr.50\, Bucuresti
CATEGORIES:Club B52
ATTACH;FMTTYPE=image/jpeg:https://www.clubb52.ro/wp-content/uploads/2020/02/Impro-Battle-FunKey-vs.-Joyride.jpg
ORGANIZER;CN="Club B52":MAILTO:office@clubb52.ro
END:VEVENT
BEGIN:VEVENT
DTSTART;TZID=Europe/Helsinki:20200228T220000
DTEND;TZID=Europe/Helsinki:20200229T010000
DTSTAMP:20260424T083759
CREATED:20200211T161147Z
LAST-MODIFIED:20200211T161147Z
UID:10000142-1582927200-1582938000@www.clubb52.ro
SUMMARY:Gilda & Matei Pana Dimineata - Party
DESCRIPTION:Direct de la Guerrilla De Dimineata\, vin sa ne tina pana urmatoare dimineata Gilda Comarzan si Matei Oprina. \nAduc cu ei muzici frumoase de club\, muzici noi din alea sa nu simti cand se crapa de ziua. \nNu are rost sa mai lungim povestea\, pentru ca e clara treaba\, ce va fi cu cum va fi. \nTe asteptam pe str. 11 iunie\, nr 50 sa iei Party la un parte Special – vineri\, 28 februarie\, orele 22:00 \nIntrare: 10 lei
URL:https://www.clubb52.ro/eveniment/gilda-matei-pana-dimineata-party/
LOCATION:Club B52\, Str. 11 iunie Nr.50\, Bucuresti
CATEGORIES:Club B52
ATTACH;FMTTYPE=image/jpeg:https://www.clubb52.ro/wp-content/uploads/2020/02/Gilda-Matei-Pana-Dimineata-Party-at-club-B52.jpg
ORGANIZER;CN="Club B52":MAILTO:office@clubb52.ro
END:VEVENT
BEGIN:VEVENT
DTSTART;TZID=Europe/Helsinki:20200229T220000
DTEND;TZID=Europe/Helsinki:20200301T060000
DTSTAMP:20260424T083759
CREATED:20200218T200756Z
LAST-MODIFIED:20200218T200756Z
UID:10000015-1583013600-1583042400@www.clubb52.ro
SUMMARY:Bloc Party 262
DESCRIPTION:Singura petrecere exclusiv HIP-HOP\, R’n’B\, DANCEHALL\, REGGAE din Bucuresti revine! Sambata\, 29 februarie\, planurile sunt deja facute pentru Bloc Party! \nSpiritul Hangover pune stapanire pe B52 Club (11 iunie nr. 50): Oldskull\, Ras T si Assan la butoane. \nBLOC PARTY [No. 262] in colaborare cu Phoenix Hip Hop \nB52 Club (11 iunie nr. 50) \nSambata\, 29 februarie\, 2020 // 22:00h\nCasual dresscode\, 18+ \nPret bilet la intrare: 15 lei \n–––––––––––– \nHangover is taking over B52 Club\nThe only exclusive HIP-HOP\, R’n’B\, DANCEHALL\, REGGAE in Bucharest is back! Saturday\, February 29\, get ready for Bloc Party! \nHangover is taking over B52 Club (11 iunie nr. 50): Oldskull\, Ras T and Assan at the dj desk \nBLOC PARTY [No. 262] in collaboration with Phoenix Hip Hop \nB52 The Club (11 iunie nr. 50) \nSaturday\, February 29\, 2020// 22: 00h\nCasual dresscode\, 18+ \nEntrance ticket price: 15 lei
URL:https://www.clubb52.ro/eveniment/bloc-party-262/
LOCATION:Club B52\, Str. 11 iunie Nr.50\, Bucuresti
CATEGORIES:Club B52
ATTACH;FMTTYPE=image/jpeg:https://www.clubb52.ro/wp-content/uploads/2020/02/Bloc-Party-262.jpg
END:VEVENT
END:VCALENDAR