BEGIN:VCALENDAR
VERSION:2.0
PRODID:-//Club B52, Strada 11 Iunie, nr. 50 - Cluburi Bucuresti - ECPv6.15.20//NONSGML v1.0//EN
CALSCALE:GREGORIAN
METHOD:PUBLISH
X-ORIGINAL-URL:https://www.clubb52.ro
X-WR-CALDESC:Evenimente pentru Club B52, Strada 11 Iunie, nr. 50 - Cluburi Bucuresti
REFRESH-INTERVAL;VALUE=DURATION:PT1H
X-Robots-Tag:noindex
X-PUBLISHED-TTL:PT1H
BEGIN:VTIMEZONE
TZID:Europe/Helsinki
BEGIN:DAYLIGHT
TZOFFSETFROM:+0200
TZOFFSETTO:+0300
TZNAME:EEST
DTSTART:20180325T010000
END:DAYLIGHT
BEGIN:STANDARD
TZOFFSETFROM:+0300
TZOFFSETTO:+0200
TZNAME:EET
DTSTART:20181028T010000
END:STANDARD
BEGIN:DAYLIGHT
TZOFFSETFROM:+0200
TZOFFSETTO:+0300
TZNAME:EEST
DTSTART:20190331T010000
END:DAYLIGHT
BEGIN:STANDARD
TZOFFSETFROM:+0300
TZOFFSETTO:+0200
TZNAME:EET
DTSTART:20191027T010000
END:STANDARD
BEGIN:DAYLIGHT
TZOFFSETFROM:+0200
TZOFFSETTO:+0300
TZNAME:EEST
DTSTART:20200329T010000
END:DAYLIGHT
BEGIN:STANDARD
TZOFFSETFROM:+0300
TZOFFSETTO:+0200
TZNAME:EET
DTSTART:20201025T010000
END:STANDARD
END:VTIMEZONE
BEGIN:VEVENT
DTSTART;TZID=Europe/Helsinki:20190301T220000
DTEND;TZID=Europe/Helsinki:20190303T050000
DTSTAMP:20260425T011448
CREATED:20190225T210335Z
LAST-MODIFIED:20190225T211128Z
UID:10000049-1551477600-1551589200@www.clubb52.ro
SUMMARY:Avion cu martisor\, du-ma in B52
DESCRIPTION:De martisor deschidem hit-urile\, aruncam mixurile de alcool in pahare si incingem cea mai cool petrecere de la inceputul primaverii. \nSi daca tot este 1 martie\, B52 are o surpriza. Primele 20 de fete care ne trec pragul\, insotite sau nu de parteneri\, la prima comanda de la bar\, indiferent de valoare\, vor primi din partea noastra un dar simbolic\, ca de martisor. Nu va spunem mai multe\, va asteptam sa veniti. \nSi pentru ca orice zbor cu avionul este dus intors\, a doua zi ne intoarcem in B52 sa continuam petrecerea din zbor. \nSa fie primavara\, sa fie party\, sa fie B52! \n#avionpemartisor #martisorinB52 #partyinB52
URL:https://www.clubb52.ro/eveniment/avion-cu-martisor-du-ma-in-b52/
LOCATION:Club B52\, Str. 11 iunie Nr.50\, Bucuresti
CATEGORIES:Club B52
ATTACH;FMTTYPE=image/jpeg:https://www.clubb52.ro/wp-content/uploads/2019/02/Avion-cu-martisor-du-ma-in-B52.jpg
ORGANIZER;CN="Club B52":MAILTO:office@clubb52.ro
END:VEVENT
BEGIN:VEVENT
DTSTART;TZID=Europe/Helsinki:20190310T210000
DTEND;TZID=Europe/Helsinki:20190311T030000
DTSTAMP:20260425T011448
CREATED:20190225T213943Z
LAST-MODIFIED:20190225T213943Z
UID:10000048-1552251600-1552273200@www.clubb52.ro
SUMMARY:Battle MC (Complimente) - Ziua Femeii
DESCRIPTION:Pe 10 Martie in Club B52 The Club o sa aiba loc primul eveniment din Romania de Battle Rap cu complimente. \nNu o sa fie asa simplu\, nu se vor complimenta Battle MC-ii intre ei\, ci datorita faptului ca urmeaza ziua femei ne-am gandit sa implicam si sexul frumos. Battle MC-ii ce vor avea meci or sa invite pe scena o persoana de sex feminin doritoare din public caruia ii vor face in rime pe loc complimente. Cine va face cele mai bune complimente\, o sa castige meciul. Publicul o sa decida \nIntrare Libera pentru fete\nIntrare 15 lei pentru baieti
URL:https://www.clubb52.ro/eveniment/battle-mc-complimente-ziua-femeii/
LOCATION:Club B52\, Str. 11 iunie Nr.50\, Bucuresti
CATEGORIES:Club B52
ATTACH;FMTTYPE=image/jpeg:https://www.clubb52.ro/wp-content/uploads/2019/02/Battle-MC-Complimente-Ziua-Femeii-Club-B52.jpg
ORGANIZER;CN="Club B52":MAILTO:office@clubb52.ro
END:VEVENT
END:VCALENDAR